BEGIN:VCALENDAR
VERSION:2.0
PRODID:-//Welcome to the 4th Division - ECPv6.15.20//NONSGML v1.0//EN
CALSCALE:GREGORIAN
METHOD:PUBLISH
X-ORIGINAL-URL:https://4dpnr.com
X-WR-CALDESC:Events for Welcome to the 4th Division
REFRESH-INTERVAL;VALUE=DURATION:PT1H
X-Robots-Tag:noindex
X-PUBLISHED-TTL:PT1H
BEGIN:VTIMEZONE
TZID:America/Los_Angeles
BEGIN:DAYLIGHT
TZOFFSETFROM:-0800
TZOFFSETTO:-0700
TZNAME:PDT
DTSTART:20240310T100000
END:DAYLIGHT
BEGIN:STANDARD
TZOFFSETFROM:-0700
TZOFFSETTO:-0800
TZNAME:PST
DTSTART:20241103T090000
END:STANDARD
BEGIN:DAYLIGHT
TZOFFSETFROM:-0800
TZOFFSETTO:-0700
TZNAME:PDT
DTSTART:20250309T100000
END:DAYLIGHT
BEGIN:STANDARD
TZOFFSETFROM:-0700
TZOFFSETTO:-0800
TZNAME:PST
DTSTART:20251102T090000
END:STANDARD
BEGIN:DAYLIGHT
TZOFFSETFROM:-0800
TZOFFSETTO:-0700
TZNAME:PDT
DTSTART:20260308T100000
END:DAYLIGHT
BEGIN:STANDARD
TZOFFSETFROM:-0700
TZOFFSETTO:-0800
TZNAME:PST
DTSTART:20261101T090000
END:STANDARD
END:VTIMEZONE
BEGIN:VEVENT
DTSTART;TZID=America/Los_Angeles:20250515T190000
DTEND;TZID=America/Los_Angeles:20250515T200000
DTSTAMP:20260424T151531
CREATED:20250514T042029Z
LAST-MODIFIED:20250514T042029Z
UID:23345-1747335600-1747339200@4dpnr.com
SUMMARY:4D Eastside Get Together clinic
DESCRIPTION:Our Eastside Get Together will be this Thursday 5/15 at 7:00 PM. Sort of snuck up on both Russ and myself. 3rd Thusday of the month already! \n  \nRuss will present photos of a recent trip to Promontory Utah (Joining of the rails in 1869). He has photos of the shops there as well as some spectacular HO layouts in the Salt Lake City area while he was there for the Sn3 Symposium. \nWe may have time enough for others if you would like to share any recent experiences or provide status or update on your own model railroads. Any photos would be most welcome. We would love to hear how everyone is doing! \nOf course we will also have time to share any timely announcements. \nPlease contact Doug and/or Russ if you have any suggestions for future meetings. \nLooking forward to seeing you! \nDoug and Russ \n 
URL:https://4dpnr.com/event/4d-eastside-get-together-clinic/
ORGANIZER;CN="4th Div%2C PNR":MAILTO:burr.stewart@gmail.com
END:VEVENT
END:VCALENDAR