BEGIN:VCALENDAR
VERSION:2.0
PRODID:-//Welcome to the 4th Division - ECPv6.15.20//NONSGML v1.0//EN
CALSCALE:GREGORIAN
METHOD:PUBLISH
X-ORIGINAL-URL:https://4dpnr.com
X-WR-CALDESC:Events for Welcome to the 4th Division
REFRESH-INTERVAL;VALUE=DURATION:PT1H
X-Robots-Tag:noindex
X-PUBLISHED-TTL:PT1H
BEGIN:VTIMEZONE
TZID:America/Los_Angeles
BEGIN:DAYLIGHT
TZOFFSETFROM:-0800
TZOFFSETTO:-0700
TZNAME:PDT
DTSTART:20150308T100000
END:DAYLIGHT
BEGIN:STANDARD
TZOFFSETFROM:-0700
TZOFFSETTO:-0800
TZNAME:PST
DTSTART:20151101T090000
END:STANDARD
BEGIN:DAYLIGHT
TZOFFSETFROM:-0800
TZOFFSETTO:-0700
TZNAME:PDT
DTSTART:20160313T100000
END:DAYLIGHT
BEGIN:STANDARD
TZOFFSETFROM:-0700
TZOFFSETTO:-0800
TZNAME:PST
DTSTART:20161106T090000
END:STANDARD
BEGIN:DAYLIGHT
TZOFFSETFROM:-0800
TZOFFSETTO:-0700
TZNAME:PDT
DTSTART:20170312T100000
END:DAYLIGHT
BEGIN:STANDARD
TZOFFSETFROM:-0700
TZOFFSETTO:-0800
TZNAME:PST
DTSTART:20171105T090000
END:STANDARD
BEGIN:DAYLIGHT
TZOFFSETFROM:-0800
TZOFFSETTO:-0700
TZNAME:PDT
DTSTART:20180311T100000
END:DAYLIGHT
BEGIN:STANDARD
TZOFFSETFROM:-0700
TZOFFSETTO:-0800
TZNAME:PST
DTSTART:20181104T090000
END:STANDARD
BEGIN:DAYLIGHT
TZOFFSETFROM:-0800
TZOFFSETTO:-0700
TZNAME:PDT
DTSTART:20190310T100000
END:DAYLIGHT
BEGIN:STANDARD
TZOFFSETFROM:-0700
TZOFFSETTO:-0800
TZNAME:PST
DTSTART:20191103T090000
END:STANDARD
END:VTIMEZONE
BEGIN:VEVENT
DTSTART;TZID=America/Los_Angeles:20181230T100000
DTEND;TZID=America/Los_Angeles:20181230T170000
DTSTAMP:20260423T214551
CREATED:20181222T024553Z
LAST-MODIFIED:20181222T024553Z
UID:16816-1546164000-1546189200@4dpnr.com
SUMMARY:Wa State History Museum Model Train Festival
DESCRIPTION:
URL:https://4dpnr.com/event/wa-state-history-museum-model-train-festival-40/
LOCATION:Washington State History Museum\, 1911 Pacific Ave\, Tacoma\, WA\, 98402\, United States
CATEGORIES:Museum or Historical Archive Event
END:VEVENT
BEGIN:VEVENT
DTSTART;TZID=America/Los_Angeles:20181229T100000
DTEND;TZID=America/Los_Angeles:20181229T170000
DTSTAMP:20260423T214551
CREATED:20181222T024516Z
LAST-MODIFIED:20181222T024516Z
UID:16814-1546077600-1546102800@4dpnr.com
SUMMARY:Wa State History Museum Model Train Festival
DESCRIPTION:
URL:https://4dpnr.com/event/wa-state-history-museum-model-train-festival-39/
LOCATION:Washington State History Museum\, 1911 Pacific Ave\, Tacoma\, WA\, 98402\, United States
CATEGORIES:Museum or Historical Archive Event
END:VEVENT
BEGIN:VEVENT
DTSTART;TZID=America/Los_Angeles:20181228T100000
DTEND;TZID=America/Los_Angeles:20181228T170000
DTSTAMP:20260423T214551
CREATED:20181222T024446Z
LAST-MODIFIED:20181222T024446Z
UID:16812-1545991200-1546016400@4dpnr.com
SUMMARY:Wa State History Museum Model Train Festival
DESCRIPTION:
URL:https://4dpnr.com/event/wa-state-history-museum-model-train-festival-38/
LOCATION:Washington State History Museum\, 1911 Pacific Ave\, Tacoma\, WA\, 98402\, United States
CATEGORIES:Museum or Historical Archive Event
END:VEVENT
BEGIN:VEVENT
DTSTART;TZID=America/Los_Angeles:20181227T100000
DTEND;TZID=America/Los_Angeles:20181227T170000
DTSTAMP:20260423T214551
CREATED:20181222T024409Z
LAST-MODIFIED:20181222T024409Z
UID:16810-1545904800-1545930000@4dpnr.com
SUMMARY:Wa State History Museum Model Train Festival
DESCRIPTION:
URL:https://4dpnr.com/event/wa-state-history-museum-model-train-festival-37/
LOCATION:Washington State History Museum\, 1911 Pacific Ave\, Tacoma\, WA\, 98402\, United States
CATEGORIES:Museum or Historical Archive Event
END:VEVENT
BEGIN:VEVENT
DTSTART;TZID=America/Los_Angeles:20181226T080000
DTEND;TZID=America/Los_Angeles:20181226T170000
DTSTAMP:20260423T214551
CREATED:20181222T024343Z
LAST-MODIFIED:20181222T024343Z
UID:16808-1545811200-1545843600@4dpnr.com
SUMMARY:Wa State History Museum Model Train Festival
DESCRIPTION:
URL:https://4dpnr.com/event/wa-state-history-museum-model-train-festival-36/
LOCATION:Washington State History Museum\, 1911 Pacific Ave\, Tacoma\, WA\, 98402\, United States
CATEGORIES:Museum or Historical Archive Event
END:VEVENT
BEGIN:VEVENT
DTSTART;TZID=America/Los_Angeles:20181225T100000
DTEND;TZID=America/Los_Angeles:20181225T170000
DTSTAMP:20260423T214551
CREATED:20181222T024309Z
LAST-MODIFIED:20181222T024309Z
UID:16806-1545732000-1545757200@4dpnr.com
SUMMARY:Wa State History Museum Model Train Festival
DESCRIPTION:
URL:https://4dpnr.com/event/wa-state-history-museum-model-train-festival-35/
LOCATION:Washington State History Museum\, 1911 Pacific Ave\, Tacoma\, WA\, 98402\, United States
CATEGORIES:Museum or Historical Archive Event
END:VEVENT
BEGIN:VEVENT
DTSTART;TZID=America/Los_Angeles:20181224T100000
DTEND;TZID=America/Los_Angeles:20181224T170000
DTSTAMP:20260423T214551
CREATED:20181222T024229Z
LAST-MODIFIED:20181222T024229Z
UID:16804-1545645600-1545670800@4dpnr.com
SUMMARY:Wa State History Museum Model Train Festival
DESCRIPTION:
URL:https://4dpnr.com/event/wa-state-history-museum-model-train-festival-34/
LOCATION:Washington State History Museum\, 1911 Pacific Ave\, Tacoma\, WA\, 98402\, United States
CATEGORIES:Museum or Historical Archive Event
END:VEVENT
BEGIN:VEVENT
DTSTART;TZID=America/Los_Angeles:20181223T100000
DTEND;TZID=America/Los_Angeles:20181223T170000
DTSTAMP:20260423T214551
CREATED:20181222T024154Z
LAST-MODIFIED:20181222T024154Z
UID:16802-1545559200-1545584400@4dpnr.com
SUMMARY:Wa State History Museum Model Train Festival
DESCRIPTION:
URL:https://4dpnr.com/event/wa-state-history-museum-model-train-festival-33/
LOCATION:Washington State History Museum\, 1911 Pacific Ave\, Tacoma\, WA\, 98402\, United States
CATEGORIES:Museum or Historical Archive Event
END:VEVENT
BEGIN:VEVENT
DTSTART;TZID=America/Los_Angeles:20181222T100000
DTEND;TZID=America/Los_Angeles:20181222T170000
DTSTAMP:20260423T214551
CREATED:20181222T024102Z
LAST-MODIFIED:20181222T024102Z
UID:16800-1545472800-1545498000@4dpnr.com
SUMMARY:Wa State History Museum Model Train Festival
DESCRIPTION:
URL:https://4dpnr.com/event/wa-state-history-museum-model-train-festival-32/
LOCATION:Washington State History Museum\, 1911 Pacific Ave\, Tacoma\, WA\, 98402\, United States
CATEGORIES:Museum or Historical Archive Event
END:VEVENT
BEGIN:VEVENT
DTSTART;TZID=America/Los_Angeles:20181221T100000
DTEND;TZID=America/Los_Angeles:20181221T170000
DTSTAMP:20260423T214551
CREATED:20181222T023923Z
LAST-MODIFIED:20181222T023923Z
UID:16798-1545386400-1545411600@4dpnr.com
SUMMARY:Wa State History Museum Model Train Festival
DESCRIPTION:
URL:https://4dpnr.com/event/wa-state-history-museum-model-train-festival-28/
LOCATION:Washington State History Museum\, 1911 Pacific Ave\, Tacoma\, WA\, 98402\, United States
CATEGORIES:Museum or Historical Archive Event
END:VEVENT
BEGIN:VEVENT
DTSTART;TZID=America/Los_Angeles:20181020T123000
DTEND;TZID=America/Los_Angeles:20181020T170000
DTSTAMP:20260423T214551
CREATED:20181005T012125Z
LAST-MODIFIED:20181005T012125Z
UID:16347-1540038600-1540054800@4dpnr.com
SUMMARY:Pennsylvania RR Tech & Historical Society Meeting
DESCRIPTION:
URL:https://4dpnr.com/event/pennsylvania-rr-tech-historical-society-meeting-5/
LOCATION:Pacific Northwest Railroad Archive\, 425 SW 153rd Street\, Burien\, WA\, 98166\, United States
CATEGORIES:Museum or Historical Archive Event
END:VEVENT
BEGIN:VEVENT
DTSTART;TZID=America/Los_Angeles:20180101T100000
DTEND;TZID=America/Los_Angeles:20180101T170000
DTSTAMP:20260423T214551
CREATED:20171010T172927Z
LAST-MODIFIED:20171010T172927Z
UID:15295-1514800800-1514826000@4dpnr.com
SUMMARY:Wa State History Museum Model Train Festival
DESCRIPTION:Washington State History Museum – 22nd Annual Model Train Festival\n1911 Pacific Avenue\, Tacoma\nFor details visit WashingtonHistory.org
URL:https://4dpnr.com/event/wa-state-history-museum-model-train-festival-31/
LOCATION:Washington State History Museum\, 1911 Pacific Ave\, Tacoma\, WA\, 98402\, United States
CATEGORIES:Museum or Historical Archive Event
END:VEVENT
BEGIN:VEVENT
DTSTART;TZID=America/Los_Angeles:20171231T100000
DTEND;TZID=America/Los_Angeles:20171231T170000
DTSTAMP:20260423T214551
CREATED:20171010T172823Z
LAST-MODIFIED:20171010T172823Z
UID:15293-1514714400-1514739600@4dpnr.com
SUMMARY:Wa State History Museum Model Train Festival
DESCRIPTION:Washington State History Museum – 22nd Annual Model Train Festival\n1911 Pacific Avenue\, Tacoma\nFor details visit WashingtonHistory.org
URL:https://4dpnr.com/event/wa-state-history-museum-model-train-festival-30/
LOCATION:Thurston County Courthouse\, 2000 Lakeridge Drive\, Olympia\, WA\, 98052\, United States
CATEGORIES:Museum or Historical Archive Event
ORGANIZER;CN="Tacoma Northwestern Model Railroad Club":MAILTO:tnwmrr@gmail.com
END:VEVENT
BEGIN:VEVENT
DTSTART;TZID=America/Los_Angeles:20171230T080000
DTEND;TZID=America/Los_Angeles:20171230T170000
DTSTAMP:20260423T214551
CREATED:20171010T172727Z
LAST-MODIFIED:20171010T172727Z
UID:15291-1514620800-1514653200@4dpnr.com
SUMMARY:Wa State History Museum Model Train Festival
DESCRIPTION:Washington State History Museum – 22nd Annual Model Train Festival\n1911 Pacific Avenue\, Tacoma\nFor details visit WashingtonHistory.org
URL:https://4dpnr.com/event/wa-state-history-museum-model-train-festival-29/
LOCATION:Washington State History Museum\, 1911 Pacific Ave\, Tacoma\, WA\, 98402\, United States
CATEGORIES:Museum or Historical Archive Event
END:VEVENT
BEGIN:VEVENT
DTSTART;TZID=America/Los_Angeles:20171229T100000
DTEND;TZID=America/Los_Angeles:20171229T170000
DTSTAMP:20260423T214551
CREATED:20171010T171643Z
LAST-MODIFIED:20171010T171643Z
UID:15282-1514541600-1514566800@4dpnr.com
SUMMARY:Wa State Historical Museum Model Train Festival
DESCRIPTION:Washington State History Museum – 22nd Annual Model Train Festival\n1911 Pacific Avenue\, Tacoma\nFor details visit WashingtonHistory.org
URL:https://4dpnr.com/event/wa-state-historical-museum-model-train-festival-3/
LOCATION:Washington State History Museum\, 1911 Pacific Ave\, Tacoma\, WA\, 98402\, United States
CATEGORIES:Museum or Historical Archive Event
END:VEVENT
BEGIN:VEVENT
DTSTART;TZID=America/Los_Angeles:20171228T100000
DTEND;TZID=America/Los_Angeles:20171228T170000
DTSTAMP:20260423T214551
CREATED:20171010T171509Z
LAST-MODIFIED:20171010T172511Z
UID:15280-1514455200-1514480400@4dpnr.com
SUMMARY:Wa State Historical Museum Model Train Festival
DESCRIPTION:Washington State History Museum – 22nd Annual Model Train Festival\n1911 Pacific Avenue\, Tacoma\nFor details visit WashingtonHistory.org
URL:https://4dpnr.com/event/wa-state-historical-museum-model-train-festival-2/
LOCATION:Washington State History Museum\, 1911 Pacific Ave\, Tacoma\, WA\, 98402\, United States
CATEGORIES:Museum or Historical Archive Event
END:VEVENT
BEGIN:VEVENT
DTSTART;TZID=America/Los_Angeles:20171227T100000
DTEND;TZID=America/Los_Angeles:20171227T170000
DTSTAMP:20260423T214551
CREATED:20171010T171109Z
LAST-MODIFIED:20171010T172449Z
UID:15276-1514368800-1514394000@4dpnr.com
SUMMARY:Wa State History Museum Model Train Festival
DESCRIPTION:Washington State History Museum – 22nd Annual Model Train Festival\n1911 Pacific Avenue\, Tacoma\nFor details visit WashingtonHistory.org
URL:https://4dpnr.com/event/wa-state-history-museum-model-train-festival-27/
LOCATION:WA
CATEGORIES:Museum or Historical Archive Event
END:VEVENT
BEGIN:VEVENT
DTSTART;TZID=America/Los_Angeles:20171226T100000
DTEND;TZID=America/Los_Angeles:20171226T170000
DTSTAMP:20260423T214551
CREATED:20171010T171413Z
LAST-MODIFIED:20171010T172411Z
UID:15278-1514282400-1514307600@4dpnr.com
SUMMARY:Wa State Historical Museum Model Train Festival
DESCRIPTION:Washington State History Museum – 22nd Annual Model Train Festival\n1911 Pacific Avenue\, Tacoma\nFor details visit WashingtonHistory.org
URL:https://4dpnr.com/event/wa-state-historical-museum-model-train-festival/
LOCATION:Washington State History Museum\, 1911 Pacific Ave\, Tacoma\, WA\, 98402\, United States
CATEGORIES:Museum or Historical Archive Event
END:VEVENT
BEGIN:VEVENT
DTSTART;TZID=America/Los_Angeles:20171223T100000
DTEND;TZID=America/Los_Angeles:20171223T170000
DTSTAMP:20260423T214551
CREATED:20171010T170629Z
LAST-MODIFIED:20171010T172222Z
UID:15273-1514023200-1514048400@4dpnr.com
SUMMARY:Wa State History Museum Model Train Festival
DESCRIPTION:Washington State History Museum – 22nd Annual Model Train Festival\n1911 Pacific Avenue\, Tacoma\nFor details visit WashingtonHistory.org
URL:https://4dpnr.com/event/wa-state-history-museum-model-train-festival-19/
LOCATION:Washington State History Museum\, 1911 Pacific Ave\, Tacoma\, WA\, 98402\, United States
CATEGORIES:Museum or Historical Archive Event
END:VEVENT
BEGIN:VEVENT
DTSTART;TZID=America/Los_Angeles:20171222T100000
DTEND;TZID=America/Los_Angeles:20171222T170000
DTSTAMP:20260423T214551
CREATED:20171010T170316Z
LAST-MODIFIED:20171010T172154Z
UID:15270-1513936800-1513962000@4dpnr.com
SUMMARY:Wa State History Museum Model Train Festival
DESCRIPTION:Washington State History Museum – 22nd Annual Model Train Festival\n1911 Pacific Avenue\, Tacoma\nFor details visit WashingtonHistory.org
URL:https://4dpnr.com/event/wa-state-history-museum-model-train-festival-18/
LOCATION:Washington State History Museum\, 1911 Pacific Ave\, Tacoma\, WA\, 98402\, United States
CATEGORIES:Museum or Historical Archive Event
END:VEVENT
BEGIN:VEVENT
DTSTART;TZID=America/Los_Angeles:20171021T123000
DTEND;TZID=America/Los_Angeles:20171021T133000
DTSTAMP:20260423T214551
CREATED:20171009T233922Z
LAST-MODIFIED:20171009T233922Z
UID:15268-1508589000-1508592600@4dpnr.com
SUMMARY:PRRT&HS Meeting
DESCRIPTION:The guest speaker will be David Durkoop. He will go through the history and mechanics of the Raymond Loewy designed Broadway Limited passenger car “Mountain View”.\nRefer to the ‘Grab Iron’ for further information.
URL:https://4dpnr.com/event/prrths-meeting/
LOCATION:Pacific Northwest Railroad Archive\, 425 SW 153rd Street\, Burien\, WA\, 98166\, United States
CATEGORIES:Museum or Historical Archive Event
ORGANIZER;CN="David Yadock":MAILTO:hi61izq@hotmail.com
END:VEVENT
BEGIN:VEVENT
DTSTART;TZID=America/Los_Angeles:20170116T100000
DTEND;TZID=America/Los_Angeles:20170116T180000
DTSTAMP:20260423T214551
CREATED:20161026T194534Z
LAST-MODIFIED:20161026T194534Z
UID:13280-1484560800-1484589600@4dpnr.com
SUMMARY:Pacific Science Center Model Train Show
DESCRIPTION:
URL:https://4dpnr.com/event/pacific-science-center-model-train-show-6/
LOCATION:Pacific Science Center\, 200 Second Avenue North\, Seattle\, WA\, 98109\, United States
CATEGORIES:Model Train Show,Museum or Historical Archive Event
ORGANIZER;CN="David Yadock":MAILTO:hi61izq@hotmail.com
END:VEVENT
BEGIN:VEVENT
DTSTART;TZID=America/Los_Angeles:20170115T100000
DTEND;TZID=America/Los_Angeles:20170115T180000
DTSTAMP:20260423T214551
CREATED:20161026T194437Z
LAST-MODIFIED:20161026T194437Z
UID:13278-1484474400-1484503200@4dpnr.com
SUMMARY:Pacific Science Center Model Train Show
DESCRIPTION:
URL:https://4dpnr.com/event/pacific-science-center-model-train-show-5/
LOCATION:Pacific Science Center\, 200 Second Avenue North\, Seattle\, WA\, 98109\, United States
CATEGORIES:Model Train Show,Museum or Historical Archive Event
ORGANIZER;CN="David Yadock":MAILTO:hi61izq@hotmail.com
END:VEVENT
BEGIN:VEVENT
DTSTART;TZID=America/Los_Angeles:20170114T100000
DTEND;TZID=America/Los_Angeles:20170114T180000
DTSTAMP:20260423T214551
CREATED:20161026T194336Z
LAST-MODIFIED:20161026T194336Z
UID:13275-1484388000-1484416800@4dpnr.com
SUMMARY:Pacific Science Center Model Train Show
DESCRIPTION:
URL:https://4dpnr.com/event/pacific-science-center-model-train-show-4/
LOCATION:Pacific Science Center\, 200 Second Avenue North\, Seattle\, WA\, 98109\, United States
CATEGORIES:Model Train Show,Museum or Historical Archive Event
ORGANIZER;CN="David Yadock":MAILTO:hi61izq@hotmail.com
END:VEVENT
BEGIN:VEVENT
DTSTART;TZID=America/Los_Angeles:20170101T100000
DTEND;TZID=America/Los_Angeles:20170101T170000
DTSTAMP:20260423T214551
CREATED:20161124T212025Z
LAST-MODIFIED:20161124T212025Z
UID:13656-1483264800-1483290000@4dpnr.com
SUMMARY:WA State History Museum Model Train Festival
DESCRIPTION:
URL:https://4dpnr.com/event/wa-state-history-museum-model-train-festival-26/
LOCATION:Washington State History Museum\, 1911 Pacific Ave\, Tacoma\, WA\, 98402\, United States
CATEGORIES:Model Train Show,Museum or Historical Archive Event
ORGANIZER;CN="Kimberly Wirtz":MAILTO:kimberly.wirtz@wshs.wa.gov
END:VEVENT
BEGIN:VEVENT
DTSTART;TZID=America/Los_Angeles:20161231T100000
DTEND;TZID=America/Los_Angeles:20161231T170000
DTSTAMP:20260423T214551
CREATED:20161124T211953Z
LAST-MODIFIED:20161124T211953Z
UID:13654-1483178400-1483203600@4dpnr.com
SUMMARY:WA State History Museum Model Train Festival
DESCRIPTION:
URL:https://4dpnr.com/event/wa-state-history-museum-model-train-festival-25/
LOCATION:Washington State History Museum\, 1911 Pacific Ave\, Tacoma\, WA\, 98402\, United States
CATEGORIES:Model Train Show,Museum or Historical Archive Event
ORGANIZER;CN="Kimberly Wirtz":MAILTO:kimberly.wirtz@wshs.wa.gov
END:VEVENT
BEGIN:VEVENT
DTSTART;TZID=America/Los_Angeles:20161231T100000
DTEND;TZID=America/Los_Angeles:20161231T160000
DTSTAMP:20260423T214551
CREATED:20161224T200808Z
LAST-MODIFIED:20161224T201039Z
UID:13795-1483178400-1483200000@4dpnr.com
SUMMARY:PNRA and BEMRRC Holiday Open House
DESCRIPTION:PNRA and BEMRRC Holiday Open House
URL:https://4dpnr.com/event/pnra-and-bemrrc-holiday-open-house-6/
LOCATION:Pacific Northwest Railroad Archive\, 425 SW 153rd Street\, Burien\, WA\, 98166\, United States
CATEGORIES:Layout Tour,Museum or Historical Archive Event
ORGANIZER;CN="Gary Tarbox":MAILTO:info@PNRArchive.comcastbiz.net
END:VEVENT
BEGIN:VEVENT
DTSTART;TZID=America/Los_Angeles:20161230T120000
DTEND;TZID=America/Los_Angeles:20161230T180000
DTSTAMP:20260423T214551
CREATED:20161224T200731Z
LAST-MODIFIED:20161224T201032Z
UID:13793-1483099200-1483120800@4dpnr.com
SUMMARY:PNRA and BEMRRC Holiday Open House
DESCRIPTION:PNRA and BEMRRC Holiday Open House
URL:https://4dpnr.com/event/pnra-and-bemrrc-holiday-open-house-5/
LOCATION:Pacific Northwest Railroad Archive\, 425 SW 153rd Street\, Burien\, WA\, 98166\, United States
CATEGORIES:Layout Tour,Museum or Historical Archive Event
ORGANIZER;CN="Gary Tarbox":MAILTO:info@PNRArchive.comcastbiz.net
END:VEVENT
BEGIN:VEVENT
DTSTART;TZID=America/Los_Angeles:20161230T100000
DTEND;TZID=America/Los_Angeles:20161230T170000
DTSTAMP:20260423T214551
CREATED:20161124T211919Z
LAST-MODIFIED:20161124T211919Z
UID:13652-1483092000-1483117200@4dpnr.com
SUMMARY:WA State History Museum Model Train Festival
DESCRIPTION:
URL:https://4dpnr.com/event/wa-state-history-museum-model-train-festival-24/
LOCATION:Washington State History Museum\, 1911 Pacific Ave\, Tacoma\, WA\, 98402\, United States
CATEGORIES:Model Train Show,Museum or Historical Archive Event
ORGANIZER;CN="Kimberly Wirtz":MAILTO:kimberly.wirtz@wshs.wa.gov
END:VEVENT
BEGIN:VEVENT
DTSTART;TZID=America/Los_Angeles:20161229T120000
DTEND;TZID=America/Los_Angeles:20161229T180000
DTSTAMP:20260423T214551
CREATED:20161224T200702Z
LAST-MODIFIED:20161224T201026Z
UID:13791-1483012800-1483034400@4dpnr.com
SUMMARY:PNRA and BEMRRC Holiday Open House
DESCRIPTION:PNRA and BEMRRC Holiday Open House
URL:https://4dpnr.com/event/pnra-and-bemrrc-holiday-open-house-4/
LOCATION:Pacific Northwest Railroad Archive\, 425 SW 153rd Street\, Burien\, WA\, 98166\, United States
CATEGORIES:Layout Tour,Museum or Historical Archive Event
ORGANIZER;CN="Gary Tarbox":MAILTO:info@PNRArchive.comcastbiz.net
END:VEVENT
END:VCALENDAR