BEGIN:VCALENDAR
VERSION:2.0
PRODID:-//Welcome to the 4th Division - ECPv6.15.20//NONSGML v1.0//EN
CALSCALE:GREGORIAN
METHOD:PUBLISH
X-WR-CALNAME:Welcome to the 4th Division
X-ORIGINAL-URL:https://4dpnr.com
X-WR-CALDESC:Events for Welcome to the 4th Division
REFRESH-INTERVAL;VALUE=DURATION:PT1H
X-Robots-Tag:noindex
X-PUBLISHED-TTL:PT1H
BEGIN:VTIMEZONE
TZID:America/Los_Angeles
BEGIN:DAYLIGHT
TZOFFSETFROM:-0800
TZOFFSETTO:-0700
TZNAME:PDT
DTSTART:20240310T100000
END:DAYLIGHT
BEGIN:STANDARD
TZOFFSETFROM:-0700
TZOFFSETTO:-0800
TZNAME:PST
DTSTART:20241103T090000
END:STANDARD
BEGIN:DAYLIGHT
TZOFFSETFROM:-0800
TZOFFSETTO:-0700
TZNAME:PDT
DTSTART:20250309T100000
END:DAYLIGHT
BEGIN:STANDARD
TZOFFSETFROM:-0700
TZOFFSETTO:-0800
TZNAME:PST
DTSTART:20251102T090000
END:STANDARD
BEGIN:DAYLIGHT
TZOFFSETFROM:-0800
TZOFFSETTO:-0700
TZNAME:PDT
DTSTART:20260308T100000
END:DAYLIGHT
BEGIN:STANDARD
TZOFFSETFROM:-0700
TZOFFSETTO:-0800
TZNAME:PST
DTSTART:20261101T090000
END:STANDARD
BEGIN:DAYLIGHT
TZOFFSETFROM:-0800
TZOFFSETTO:-0700
TZNAME:PDT
DTSTART:20270314T100000
END:DAYLIGHT
BEGIN:STANDARD
TZOFFSETFROM:-0700
TZOFFSETTO:-0800
TZNAME:PST
DTSTART:20271107T090000
END:STANDARD
END:VTIMEZONE
BEGIN:VEVENT
DTSTART;VALUE=DATE:20251219
DTEND;VALUE=DATE:20260102
DTSTAMP:20260423T232554
CREATED:20251025T230522Z
LAST-MODIFIED:20251025T230522Z
UID:23535-1766102400-1767311999@4dpnr.com
SUMMARY:Wa State History Museum Model Train Festival
DESCRIPTION:
URL:https://4dpnr.com/event/wa-state-history-museum-model-train-festival-47/
LOCATION:Washington State History Museum\, 1911 Pacific Ave\, Tacoma\, WA\, 98402\, United States
CATEGORIES:Model Train Show,Museum or Historical Archive Event
END:VEVENT
END:VCALENDAR