BEGIN:VCALENDAR
VERSION:2.0
PRODID:-//Welcome to the 4th Division - ECPv6.15.20//NONSGML v1.0//EN
CALSCALE:GREGORIAN
METHOD:PUBLISH
X-WR-CALNAME:Welcome to the 4th Division
X-ORIGINAL-URL:https://4dpnr.com
X-WR-CALDESC:Events for Welcome to the 4th Division
REFRESH-INTERVAL;VALUE=DURATION:PT1H
X-Robots-Tag:noindex
X-PUBLISHED-TTL:PT1H
BEGIN:VTIMEZONE
TZID:America/Los_Angeles
BEGIN:DAYLIGHT
TZOFFSETFROM:-0800
TZOFFSETTO:-0700
TZNAME:PDT
DTSTART:20160313T100000
END:DAYLIGHT
BEGIN:STANDARD
TZOFFSETFROM:-0700
TZOFFSETTO:-0800
TZNAME:PST
DTSTART:20161106T090000
END:STANDARD
BEGIN:DAYLIGHT
TZOFFSETFROM:-0800
TZOFFSETTO:-0700
TZNAME:PDT
DTSTART:20170312T100000
END:DAYLIGHT
BEGIN:STANDARD
TZOFFSETFROM:-0700
TZOFFSETTO:-0800
TZNAME:PST
DTSTART:20171105T090000
END:STANDARD
BEGIN:DAYLIGHT
TZOFFSETFROM:-0800
TZOFFSETTO:-0700
TZNAME:PDT
DTSTART:20180311T100000
END:DAYLIGHT
BEGIN:STANDARD
TZOFFSETFROM:-0700
TZOFFSETTO:-0800
TZNAME:PST
DTSTART:20181104T090000
END:STANDARD
BEGIN:DAYLIGHT
TZOFFSETFROM:-0800
TZOFFSETTO:-0700
TZNAME:PDT
DTSTART:20190310T100000
END:DAYLIGHT
BEGIN:STANDARD
TZOFFSETFROM:-0700
TZOFFSETTO:-0800
TZNAME:PST
DTSTART:20191103T090000
END:STANDARD
BEGIN:DAYLIGHT
TZOFFSETFROM:-0800
TZOFFSETTO:-0700
TZNAME:PDT
DTSTART:20200308T100000
END:DAYLIGHT
BEGIN:STANDARD
TZOFFSETFROM:-0700
TZOFFSETTO:-0800
TZNAME:PST
DTSTART:20201101T090000
END:STANDARD
END:VTIMEZONE
BEGIN:VEVENT
DTSTART;TZID=America/Los_Angeles:20190112T080000
DTEND;TZID=America/Los_Angeles:20190112T100000
DTSTAMP:20260423T201511
CREATED:20190101T183413Z
LAST-MODIFIED:20190101T183505Z
UID:16861-1547280000-1547287200@4dpnr.com
SUMMARY:HO Modular Group
DESCRIPTION:
URL:https://4dpnr.com/event/ho-modular-group-5/
LOCATION:Mitzel’s\, 22330 84th Ave S.\, Kent\, WA\, 98032\, United States
CATEGORIES:Modular Group Meeting
ORGANIZER;CN="Mike Slease":MAILTO:mikepce@comcast.net
END:VEVENT
BEGIN:VEVENT
DTSTART;TZID=America/Los_Angeles:20181110T080000
DTEND;TZID=America/Los_Angeles:20181110T093000
DTSTAMP:20260423T201511
CREATED:20181103T230543Z
LAST-MODIFIED:20190101T183208Z
UID:16524-1541836800-1541842200@4dpnr.com
SUMMARY:HO Modular Group
DESCRIPTION:
URL:https://4dpnr.com/event/ho-modular-group-4/
LOCATION:Mitzel’s\, 22330 84th Ave S.\, Kent\, WA\, 98032\, United States
CATEGORIES:Modular Group Meeting
ORGANIZER;CN="Mike Slease":MAILTO:mikepce@comcast.net
END:VEVENT
BEGIN:VEVENT
DTSTART;TZID=America/Los_Angeles:20181013T090000
DTEND;TZID=America/Los_Angeles:20181013T103000
DTSTAMP:20260423T201511
CREATED:20181003T043801Z
LAST-MODIFIED:20181003T043801Z
UID:16311-1539421200-1539426600@4dpnr.com
SUMMARY:HO Modular Group
DESCRIPTION:
URL:https://4dpnr.com/event/ho-modular-group-3/
LOCATION:Mitzel’s\, 22330 84th Ave S.\, Kent\, WA\, 98032\, United States
CATEGORIES:Modular Group Meeting
ORGANIZER;CN="Mike Slease":MAILTO:mikepce@comcast.net
END:VEVENT
BEGIN:VEVENT
DTSTART;TZID=America/Los_Angeles:20171209T080000
DTEND;TZID=America/Los_Angeles:20171209T093000
DTSTAMP:20260423T201511
CREATED:20171009T220230Z
LAST-MODIFIED:20171009T220230Z
UID:15265-1512806400-1512811800@4dpnr.com
SUMMARY:HO Modular Group
DESCRIPTION:
URL:https://4dpnr.com/event/ho-modular-group-2/
LOCATION:Mitzel’s\, 22330 84th Ave S.\, Kent\, WA\, 98032\, United States
CATEGORIES:Modular Group Meeting
ORGANIZER;CN="Mike Slease":MAILTO:mikepce@comcast.net
END:VEVENT
BEGIN:VEVENT
DTSTART;TZID=America/Los_Angeles:20171014T080000
DTEND;TZID=America/Los_Angeles:20171014T093000
DTSTAMP:20260423T201511
CREATED:20171009T220151Z
LAST-MODIFIED:20171009T220151Z
UID:15262-1507968000-1507973400@4dpnr.com
SUMMARY:HO Modular Group
DESCRIPTION:
URL:https://4dpnr.com/event/ho-modular-group/
LOCATION:Mitzel’s\, 22330 84th Ave S.\, Kent\, WA\, 98032\, United States
CATEGORIES:Modular Group Meeting
ORGANIZER;CN="Mike Slease":MAILTO:mikepce@comcast.net
END:VEVENT
BEGIN:VEVENT
DTSTART;TZID=America/Los_Angeles:20170311T080000
DTEND;TZID=America/Los_Angeles:20170311T100000
DTSTAMP:20260423T201511
CREATED:20170221T181546Z
LAST-MODIFIED:20170221T181546Z
UID:14524-1489219200-1489226400@4dpnr.com
SUMMARY:4D HO Modular Group Meeting
DESCRIPTION:http://4dpnr.com/4d-ho-modular-group-meeting-on-saturday-mar-11-2017/
URL:https://4dpnr.com/event/4d-ho-modular-group-meeting-3/
LOCATION:Mitzel’s\, 22330 84th Ave S.\, Kent\, WA\, 98032\, United States
CATEGORIES:Modular Group Meeting
ORGANIZER;CN="Peter Gulick":MAILTO:gulick@seanet.com
END:VEVENT
BEGIN:VEVENT
DTSTART;TZID=America/Los_Angeles:20170121T080000
DTEND;TZID=America/Los_Angeles:20170121T100000
DTSTAMP:20260423T201511
CREATED:20161224T182207Z
LAST-MODIFIED:20161224T182449Z
UID:13768-1484985600-1484992800@4dpnr.com
SUMMARY:4D HO Modular Group Meeting
DESCRIPTION:Click here for the Grab Iron post.
URL:https://4dpnr.com/event/4d-ho-modular-group-meeting-2/
LOCATION:Mitzel’s\, 22330 84th Ave S.\, Kent\, WA\, 98032\, United States
CATEGORIES:Modular Group Meeting
ORGANIZER;CN="Peter Gulick":MAILTO:gulick@seanet.com
END:VEVENT
END:VCALENDAR