BEGIN:VCALENDAR
VERSION:2.0
PRODID:-//Welcome to the 4th Division - ECPv6.15.20//NONSGML v1.0//EN
CALSCALE:GREGORIAN
METHOD:PUBLISH
X-WR-CALNAME:Welcome to the 4th Division
X-ORIGINAL-URL:https://4dpnr.com
X-WR-CALDESC:Events for Welcome to the 4th Division
REFRESH-INTERVAL;VALUE=DURATION:PT1H
X-Robots-Tag:noindex
X-PUBLISHED-TTL:PT1H
BEGIN:VTIMEZONE
TZID:America/Los_Angeles
BEGIN:DAYLIGHT
TZOFFSETFROM:-0800
TZOFFSETTO:-0700
TZNAME:PDT
DTSTART:20150308T100000
END:DAYLIGHT
BEGIN:STANDARD
TZOFFSETFROM:-0700
TZOFFSETTO:-0800
TZNAME:PST
DTSTART:20151101T090000
END:STANDARD
BEGIN:DAYLIGHT
TZOFFSETFROM:-0800
TZOFFSETTO:-0700
TZNAME:PDT
DTSTART:20160313T100000
END:DAYLIGHT
BEGIN:STANDARD
TZOFFSETFROM:-0700
TZOFFSETTO:-0800
TZNAME:PST
DTSTART:20161106T090000
END:STANDARD
BEGIN:DAYLIGHT
TZOFFSETFROM:-0800
TZOFFSETTO:-0700
TZNAME:PDT
DTSTART:20170312T100000
END:DAYLIGHT
BEGIN:STANDARD
TZOFFSETFROM:-0700
TZOFFSETTO:-0800
TZNAME:PST
DTSTART:20171105T090000
END:STANDARD
BEGIN:DAYLIGHT
TZOFFSETFROM:-0800
TZOFFSETTO:-0700
TZNAME:PDT
DTSTART:20180311T100000
END:DAYLIGHT
BEGIN:STANDARD
TZOFFSETFROM:-0700
TZOFFSETTO:-0800
TZNAME:PST
DTSTART:20181104T090000
END:STANDARD
END:VTIMEZONE
BEGIN:VEVENT
DTSTART;TZID=America/Los_Angeles:20170116T100000
DTEND;TZID=America/Los_Angeles:20170116T180000
DTSTAMP:20260424T073055
CREATED:20161026T194534Z
LAST-MODIFIED:20161026T194534Z
UID:13280-1484560800-1484589600@4dpnr.com
SUMMARY:Pacific Science Center Model Train Show
DESCRIPTION:
URL:https://4dpnr.com/event/pacific-science-center-model-train-show-6/
LOCATION:Pacific Science Center\, 200 Second Avenue North\, Seattle\, WA\, 98109\, United States
CATEGORIES:Model Train Show,Museum or Historical Archive Event
ORGANIZER;CN="David Yadock":MAILTO:hi61izq@hotmail.com
END:VEVENT
BEGIN:VEVENT
DTSTART;TZID=America/Los_Angeles:20170115T100000
DTEND;TZID=America/Los_Angeles:20170115T180000
DTSTAMP:20260424T073055
CREATED:20161026T194437Z
LAST-MODIFIED:20161026T194437Z
UID:13278-1484474400-1484503200@4dpnr.com
SUMMARY:Pacific Science Center Model Train Show
DESCRIPTION:
URL:https://4dpnr.com/event/pacific-science-center-model-train-show-5/
LOCATION:Pacific Science Center\, 200 Second Avenue North\, Seattle\, WA\, 98109\, United States
CATEGORIES:Model Train Show,Museum or Historical Archive Event
ORGANIZER;CN="David Yadock":MAILTO:hi61izq@hotmail.com
END:VEVENT
BEGIN:VEVENT
DTSTART;TZID=America/Los_Angeles:20170114T100000
DTEND;TZID=America/Los_Angeles:20170114T180000
DTSTAMP:20260424T073055
CREATED:20161026T194336Z
LAST-MODIFIED:20161026T194336Z
UID:13275-1484388000-1484416800@4dpnr.com
SUMMARY:Pacific Science Center Model Train Show
DESCRIPTION:
URL:https://4dpnr.com/event/pacific-science-center-model-train-show-4/
LOCATION:Pacific Science Center\, 200 Second Avenue North\, Seattle\, WA\, 98109\, United States
CATEGORIES:Model Train Show,Museum or Historical Archive Event
ORGANIZER;CN="David Yadock":MAILTO:hi61izq@hotmail.com
END:VEVENT
BEGIN:VEVENT
DTSTART;TZID=America/Los_Angeles:20170101T100000
DTEND;TZID=America/Los_Angeles:20170101T170000
DTSTAMP:20260424T073055
CREATED:20161124T212025Z
LAST-MODIFIED:20161124T212025Z
UID:13656-1483264800-1483290000@4dpnr.com
SUMMARY:WA State History Museum Model Train Festival
DESCRIPTION:
URL:https://4dpnr.com/event/wa-state-history-museum-model-train-festival-26/
LOCATION:Washington State History Museum\, 1911 Pacific Ave\, Tacoma\, WA\, 98402\, United States
CATEGORIES:Model Train Show,Museum or Historical Archive Event
ORGANIZER;CN="Kimberly Wirtz":MAILTO:kimberly.wirtz@wshs.wa.gov
END:VEVENT
BEGIN:VEVENT
DTSTART;TZID=America/Los_Angeles:20161231T100000
DTEND;TZID=America/Los_Angeles:20161231T170000
DTSTAMP:20260424T073055
CREATED:20161124T211953Z
LAST-MODIFIED:20161124T211953Z
UID:13654-1483178400-1483203600@4dpnr.com
SUMMARY:WA State History Museum Model Train Festival
DESCRIPTION:
URL:https://4dpnr.com/event/wa-state-history-museum-model-train-festival-25/
LOCATION:Washington State History Museum\, 1911 Pacific Ave\, Tacoma\, WA\, 98402\, United States
CATEGORIES:Model Train Show,Museum or Historical Archive Event
ORGANIZER;CN="Kimberly Wirtz":MAILTO:kimberly.wirtz@wshs.wa.gov
END:VEVENT
BEGIN:VEVENT
DTSTART;TZID=America/Los_Angeles:20161230T100000
DTEND;TZID=America/Los_Angeles:20161230T170000
DTSTAMP:20260424T073055
CREATED:20161124T211919Z
LAST-MODIFIED:20161124T211919Z
UID:13652-1483092000-1483117200@4dpnr.com
SUMMARY:WA State History Museum Model Train Festival
DESCRIPTION:
URL:https://4dpnr.com/event/wa-state-history-museum-model-train-festival-24/
LOCATION:Washington State History Museum\, 1911 Pacific Ave\, Tacoma\, WA\, 98402\, United States
CATEGORIES:Model Train Show,Museum or Historical Archive Event
ORGANIZER;CN="Kimberly Wirtz":MAILTO:kimberly.wirtz@wshs.wa.gov
END:VEVENT
BEGIN:VEVENT
DTSTART;TZID=America/Los_Angeles:20161229T100000
DTEND;TZID=America/Los_Angeles:20161229T170000
DTSTAMP:20260424T073055
CREATED:20161124T211842Z
LAST-MODIFIED:20161124T211842Z
UID:13650-1483005600-1483030800@4dpnr.com
SUMMARY:WA State History Museum Model Train Festival
DESCRIPTION:
URL:https://4dpnr.com/event/wa-state-history-museum-model-train-festival-23/
LOCATION:Washington State History Museum\, 1911 Pacific Ave\, Tacoma\, WA\, 98402\, United States
CATEGORIES:Model Train Show,Museum or Historical Archive Event
ORGANIZER;CN="Kimberly Wirtz":MAILTO:kimberly.wirtz@wshs.wa.gov
END:VEVENT
BEGIN:VEVENT
DTSTART;TZID=America/Los_Angeles:20161228T100000
DTEND;TZID=America/Los_Angeles:20161228T170000
DTSTAMP:20260424T073055
CREATED:20161124T211804Z
LAST-MODIFIED:20161124T211804Z
UID:13648-1482919200-1482944400@4dpnr.com
SUMMARY:WA State History Museum Model Train Festival
DESCRIPTION:
URL:https://4dpnr.com/event/wa-state-history-museum-model-train-festival-22/
LOCATION:Washington State History Museum\, 1911 Pacific Ave\, Tacoma\, WA\, 98402\, United States
CATEGORIES:Model Train Show,Museum or Historical Archive Event
ORGANIZER;CN="Kimberly Wirtz":MAILTO:kimberly.wirtz@wshs.wa.gov
END:VEVENT
BEGIN:VEVENT
DTSTART;TZID=America/Los_Angeles:20161227T100000
DTEND;TZID=America/Los_Angeles:20161227T170000
DTSTAMP:20260424T073055
CREATED:20161124T211729Z
LAST-MODIFIED:20161124T211729Z
UID:13646-1482832800-1482858000@4dpnr.com
SUMMARY:WA State History Museum Model Train Festival
DESCRIPTION:
URL:https://4dpnr.com/event/wa-state-history-museum-model-train-festival-21/
LOCATION:Washington State History Museum\, 1911 Pacific Ave\, Tacoma\, WA\, 98402\, United States
CATEGORIES:Model Train Show,Museum or Historical Archive Event
ORGANIZER;CN="Kimberly Wirtz":MAILTO:kimberly.wirtz@wshs.wa.gov
END:VEVENT
BEGIN:VEVENT
DTSTART;TZID=America/Los_Angeles:20161226T100000
DTEND;TZID=America/Los_Angeles:20161226T170000
DTSTAMP:20260424T073055
CREATED:20161124T211656Z
LAST-MODIFIED:20161124T211656Z
UID:13644-1482746400-1482771600@4dpnr.com
SUMMARY:WA State History Museum Model Train Festival
DESCRIPTION:
URL:https://4dpnr.com/event/wa-state-history-museum-model-train-festival-20/
LOCATION:Washington State History Museum\, 1911 Pacific Ave\, Tacoma\, WA\, 98402\, United States
CATEGORIES:Model Train Show,Museum or Historical Archive Event
ORGANIZER;CN="Kimberly Wirtz":MAILTO:kimberly.wirtz@wshs.wa.gov
END:VEVENT
BEGIN:VEVENT
DTSTART;TZID=America/Los_Angeles:20161223T100000
DTEND;TZID=America/Los_Angeles:20161223T170000
DTSTAMP:20260424T073055
CREATED:20161124T211458Z
LAST-MODIFIED:20161124T211458Z
UID:13638-1482487200-1482512400@4dpnr.com
SUMMARY:WA State History Museum Model Train Festival
DESCRIPTION:
URL:https://4dpnr.com/event/wa-state-history-museum-model-train-festival-17/
LOCATION:Washington State History Museum\, 1911 Pacific Ave\, Tacoma\, WA\, 98402\, United States
CATEGORIES:Model Train Show,Museum or Historical Archive Event
ORGANIZER;CN="Kimberly Wirtz":MAILTO:kimberly.wirtz@wshs.wa.gov
END:VEVENT
BEGIN:VEVENT
DTSTART;TZID=America/Los_Angeles:20161222T100000
DTEND;TZID=America/Los_Angeles:20161222T170000
DTSTAMP:20260424T073055
CREATED:20161124T211423Z
LAST-MODIFIED:20161124T211423Z
UID:13636-1482400800-1482426000@4dpnr.com
SUMMARY:WA State History Museum Model Train Festival
DESCRIPTION:
URL:https://4dpnr.com/event/wa-state-history-museum-model-train-festival-16/
LOCATION:Washington State History Museum\, 1911 Pacific Ave\, Tacoma\, WA\, 98402\, United States
CATEGORIES:Model Train Show,Museum or Historical Archive Event
ORGANIZER;CN="Kimberly Wirtz":MAILTO:kimberly.wirtz@wshs.wa.gov
END:VEVENT
BEGIN:VEVENT
DTSTART;TZID=America/Los_Angeles:20161221T100000
DTEND;TZID=America/Los_Angeles:20161221T170000
DTSTAMP:20260424T073055
CREATED:20161124T211353Z
LAST-MODIFIED:20161124T211353Z
UID:13634-1482314400-1482339600@4dpnr.com
SUMMARY:WA State History Museum Model Train Festival
DESCRIPTION:
URL:https://4dpnr.com/event/wa-state-history-museum-model-train-festival-15/
LOCATION:Washington State History Museum\, 1911 Pacific Ave\, Tacoma\, WA\, 98402\, United States
CATEGORIES:Model Train Show,Museum or Historical Archive Event
ORGANIZER;CN="Kimberly Wirtz":MAILTO:kimberly.wirtz@wshs.wa.gov
END:VEVENT
BEGIN:VEVENT
DTSTART;TZID=America/Los_Angeles:20161220T100000
DTEND;TZID=America/Los_Angeles:20161220T170000
DTSTAMP:20260424T073055
CREATED:20161124T211316Z
LAST-MODIFIED:20161124T211316Z
UID:13632-1482228000-1482253200@4dpnr.com
SUMMARY:WA State History Museum Model Train Festival
DESCRIPTION:
URL:https://4dpnr.com/event/wa-state-history-museum-model-train-festival-14/
LOCATION:Washington State History Museum\, 1911 Pacific Ave\, Tacoma\, WA\, 98402\, United States
CATEGORIES:Model Train Show,Museum or Historical Archive Event
ORGANIZER;CN="Kimberly Wirtz":MAILTO:kimberly.wirtz@wshs.wa.gov
END:VEVENT
BEGIN:VEVENT
DTSTART;TZID=America/Los_Angeles:20161219T100000
DTEND;TZID=America/Los_Angeles:20161219T170000
DTSTAMP:20260424T073055
CREATED:20161218T211847Z
LAST-MODIFIED:20161218T211847Z
UID:13739-1482141600-1482166800@4dpnr.com
SUMMARY:WA State History Museum Model Train Festival
DESCRIPTION:
URL:https://4dpnr.com/event/wa-state-history-museum-model-train-festival-13/
LOCATION:Washington State History Museum\, 1911 Pacific Ave\, Tacoma\, WA\, 98402\, United States
CATEGORIES:Model Train Show,Museum or Historical Archive Event
ORGANIZER;CN="Kimberly Wirtz":MAILTO:kimberly.wirtz@wshs.wa.gov
END:VEVENT
BEGIN:VEVENT
DTSTART;TZID=America/Los_Angeles:20161218T100000
DTEND;TZID=America/Los_Angeles:20161218T170000
DTSTAMP:20260424T073055
CREATED:20161124T211155Z
LAST-MODIFIED:20161124T211155Z
UID:13628-1482055200-1482080400@4dpnr.com
SUMMARY:WA State History Museum Model Train Festival
DESCRIPTION:
URL:https://4dpnr.com/event/wa-state-history-museum-model-train-festival-12/
LOCATION:Washington State History Museum\, 1911 Pacific Ave\, Tacoma\, WA\, 98402\, United States
CATEGORIES:Model Train Show,Museum or Historical Archive Event
ORGANIZER;CN="Kimberly Wirtz":MAILTO:kimberly.wirtz@wshs.wa.gov
END:VEVENT
BEGIN:VEVENT
DTSTART;TZID=America/Los_Angeles:20161217T100000
DTEND;TZID=America/Los_Angeles:20161217T170000
DTSTAMP:20260424T073055
CREATED:20161124T211112Z
LAST-MODIFIED:20161124T211112Z
UID:13626-1481968800-1481994000@4dpnr.com
SUMMARY:WA State History Museum Model Train Festival
DESCRIPTION:
URL:https://4dpnr.com/event/wa-state-history-museum-model-train-festival-11/
LOCATION:Washington State History Museum\, 1911 Pacific Ave\, Tacoma\, WA\, 98402\, United States
CATEGORIES:Model Train Show,Museum or Historical Archive Event
ORGANIZER;CN="Kimberly Wirtz":MAILTO:kimberly.wirtz@wshs.wa.gov
END:VEVENT
BEGIN:VEVENT
DTSTART;TZID=America/Los_Angeles:20161126T120000
DTEND;TZID=America/Los_Angeles:20161126T170000
DTSTAMP:20260424T073055
CREATED:20161026T192232Z
LAST-MODIFIED:20161026T192232Z
UID:13269-1480161600-1480179600@4dpnr.com
SUMMARY:Mt. Hood Model Engineers Open House
DESCRIPTION:
URL:https://4dpnr.com/event/mt-hood-model-engineers-open-house-4/
LOCATION:Mt. Tabor Masonic Lodge\, 5500 SE Belmont Street\, Portland\, OR\, 97215\, United States
CATEGORIES:Model Train Show
ORGANIZER;CN="Mt. Hood Model Engineers":MAILTO:MHMENG@aol.com
END:VEVENT
BEGIN:VEVENT
DTSTART;TZID=America/Los_Angeles:20161119T120000
DTEND;TZID=America/Los_Angeles:20161119T170000
DTSTAMP:20260424T073055
CREATED:20161026T192131Z
LAST-MODIFIED:20161026T192131Z
UID:13267-1479556800-1479574800@4dpnr.com
SUMMARY:Mt. Hood Model Engineers Open House
DESCRIPTION:
URL:https://4dpnr.com/event/mt-hood-model-engineers-open-house-3/
LOCATION:Mt. Tabor Masonic Lodge\, 5500 SE Belmont Street\, Portland\, OR\, 97215\, United States
CATEGORIES:Model Train Show
ORGANIZER;CN="Mt. Hood Model Engineers":MAILTO:MHMENG@aol.com
END:VEVENT
BEGIN:VEVENT
DTSTART;TZID=America/Los_Angeles:20161113T100000
DTEND;TZID=America/Los_Angeles:20161113T160000
DTSTAMP:20260424T073055
CREATED:20161026T195543Z
LAST-MODIFIED:20161026T195543Z
UID:13286-1479031200-1479052800@4dpnr.com
SUMMARY:Great Train Expo
DESCRIPTION:
URL:https://4dpnr.com/event/great-train-expo-2/
LOCATION:Western Washington Fairgrounds\, 110 9th Ave SW\, Puyallup\, WA\, 98371\, United States
CATEGORIES:Model Train Show,Train Sales
ORGANIZER;CN="Great Train Expo":MAILTO:info@greattrainshow.com
END:VEVENT
BEGIN:VEVENT
DTSTART;TZID=America/Los_Angeles:20161112T120000
DTEND;TZID=America/Los_Angeles:20161112T170000
DTSTAMP:20260424T073055
CREATED:20161026T192036Z
LAST-MODIFIED:20161026T192036Z
UID:13265-1478952000-1478970000@4dpnr.com
SUMMARY:Mt. Hood Model Engineers Open House
DESCRIPTION:
URL:https://4dpnr.com/event/mt-hood-model-engineers-open-house-2/
LOCATION:Mt. Tabor Masonic Lodge\, 5500 SE Belmont Street\, Portland\, OR\, 97215\, United States
CATEGORIES:Model Train Show
ORGANIZER;CN="Mt. Hood Model Engineers":MAILTO:MHMENG@aol.com
END:VEVENT
BEGIN:VEVENT
DTSTART;TZID=America/Los_Angeles:20161112T100000
DTEND;TZID=America/Los_Angeles:20161112T160000
DTSTAMP:20260424T073055
CREATED:20161026T195444Z
LAST-MODIFIED:20161026T195444Z
UID:13284-1478944800-1478966400@4dpnr.com
SUMMARY:Great Train Expo
DESCRIPTION:
URL:https://4dpnr.com/event/great-train-expo/
LOCATION:Western Washington Fairgrounds\, 110 9th Ave SW\, Puyallup\, WA\, 98371\, United States
CATEGORIES:Model Train Show,Train Sales
ORGANIZER;CN="Great Train Expo":MAILTO:info@greattrainshow.com
END:VEVENT
BEGIN:VEVENT
DTSTART;TZID=America/Los_Angeles:20161106T100000
DTEND;TZID=America/Los_Angeles:20161106T170000
DTSTAMP:20260424T073055
CREATED:20161026T190921Z
LAST-MODIFIED:20161026T190921Z
UID:13259-1478426400-1478451600@4dpnr.com
SUMMARY:Vancouver Train Expo
DESCRIPTION:
URL:https://4dpnr.com/event/vancouver-train-expo-2/
LOCATION:Pacific National Exhibition\, 2901 E Hastings St\, Vancouver\, BC\, V5K 5J1\, Canada
CATEGORIES:Convention or Meet,Model Train Show
ORGANIZER;CN="Chairman Vancouver Train Expo":MAILTO:chairman@vancouvertrainexpo.ca
END:VEVENT
BEGIN:VEVENT
DTSTART;TZID=America/Los_Angeles:20161105T120000
DTEND;TZID=America/Los_Angeles:20161105T170000
DTSTAMP:20260424T073055
CREATED:20161026T191941Z
LAST-MODIFIED:20161026T191941Z
UID:13261-1478347200-1478365200@4dpnr.com
SUMMARY:Mt. Hood Model Engineers Open House
DESCRIPTION:
URL:https://4dpnr.com/event/mt-hood-model-engineers-open-house/
LOCATION:Mt. Tabor Masonic Lodge\, 5500 SE Belmont Street\, Portland\, OR\, 97215\, United States
CATEGORIES:Model Train Show
ORGANIZER;CN="Mt. Hood Model Engineers":MAILTO:MHMENG@aol.com
END:VEVENT
BEGIN:VEVENT
DTSTART;TZID=America/Los_Angeles:20161105T100000
DTEND;TZID=America/Los_Angeles:20161105T180000
DTSTAMP:20260424T073055
CREATED:20161026T190823Z
LAST-MODIFIED:20161026T190823Z
UID:13255-1478340000-1478368800@4dpnr.com
SUMMARY:Vancouver Train Expo
DESCRIPTION:
URL:https://4dpnr.com/event/vancouver-train-expo/
LOCATION:Pacific National Exhibition\, 2901 E Hastings St\, Vancouver\, BC\, V5K 5J1\, Canada
CATEGORIES:Convention or Meet,Model Train Show
ORGANIZER;CN="Chairman Vancouver Train Expo":MAILTO:chairman@vancouvertrainexpo.ca
END:VEVENT
BEGIN:VEVENT
DTSTART;TZID=America/Los_Angeles:20161105T100000
DTEND;TZID=America/Los_Angeles:20161105T160000
DTSTAMP:20260424T073055
CREATED:20161026T060113Z
LAST-MODIFIED:20161026T060113Z
UID:13252-1478340000-1478361600@4dpnr.com
SUMMARY:Inland Northwest FREE-mo-N Fall Show 2016
DESCRIPTION:
URL:https://4dpnr.com/event/inland-northwest-free-mo-n-fall-show-2016-2/
LOCATION:Post Falls Library\, 821 N Spokane Street\, Post Falls\, ID\, 83854\, United States
CATEGORIES:Model Train Show
ORGANIZER;CN="Inland Northwest Free-mo-N":MAILTO:oregonshortline@gmail.com
END:VEVENT
BEGIN:VEVENT
DTSTART;TZID=America/Los_Angeles:20161104T150000
DTEND;TZID=America/Los_Angeles:20161104T170000
DTSTAMP:20260424T073055
CREATED:20161026T060034Z
LAST-MODIFIED:20161026T060034Z
UID:13250-1478271600-1478278800@4dpnr.com
SUMMARY:Inland Northwest FREE-mo-N Fall Show 2016
DESCRIPTION:
URL:https://4dpnr.com/event/inland-northwest-free-mo-n-fall-show-2016/
LOCATION:Post Falls Library\, 821 N Spokane Street\, Post Falls\, ID\, 83854\, United States
CATEGORIES:Model Train Show
ORGANIZER;CN="Inland Northwest Free-mo-N":MAILTO:oregonshortline@gmail.com
END:VEVENT
BEGIN:VEVENT
DTSTART;TZID=America/Los_Angeles:20161016T100000
DTEND;TZID=America/Los_Angeles:20161016T170000
DTSTAMP:20260424T073055
CREATED:20160925T163511Z
LAST-MODIFIED:20160925T163511Z
UID:12939-1476612000-1476637200@4dpnr.com
SUMMARY:Maple Valley Operating Model Train Show
DESCRIPTION:
URL:https://4dpnr.com/event/maple-valley-operating-model-train-show-4/
LOCATION:Gracie Hansen Community Center\, 27132 Ravensdale Way\, Ravensdale\, WA\, 98051\, United States
CATEGORIES:Model Train Show
ORGANIZER;CN="Steve Hiester":MAILTO:hies_skel@hotmail.com
END:VEVENT
BEGIN:VEVENT
DTSTART;TZID=America/Los_Angeles:20161016T100000
DTEND;TZID=America/Los_Angeles:20161016T140000
DTSTAMP:20260424T073055
CREATED:20161013T201035Z
LAST-MODIFIED:20161013T201035Z
UID:13125-1476612000-1476626400@4dpnr.com
SUMMARY:North Olympic Peninsula Railroaders Train Show and Swap Meet
DESCRIPTION:
URL:https://4dpnr.com/event/north-olympic-peninsula-railroaders-train-show-and-swap-meet-2/
LOCATION:Sequim Prairie Grange\, 290 Macleay Rd\, Sequim\, WA\, 98382\, United States
CATEGORIES:Model Train Show,Train Sales
END:VEVENT
BEGIN:VEVENT
DTSTART;TZID=America/Los_Angeles:20161015T100000
DTEND;TZID=America/Los_Angeles:20161015T170000
DTSTAMP:20260424T073055
CREATED:20161013T200850Z
LAST-MODIFIED:20161013T200850Z
UID:13119-1476525600-1476550800@4dpnr.com
SUMMARY:North Olympic Peninsula Railroaders Train Show and Swap Meet
DESCRIPTION:
URL:https://4dpnr.com/event/north-olympic-peninsula-railroaders-train-show-and-swap-meet/
LOCATION:Sequim Prairie Grange\, 290 Macleay Rd\, Sequim\, WA\, 98382\, United States
CATEGORIES:Model Train Show,Train Sales
END:VEVENT
END:VCALENDAR