BEGIN:VCALENDAR
VERSION:2.0
PRODID:-//Welcome to the 4th Division - ECPv6.15.20//NONSGML v1.0//EN
CALSCALE:GREGORIAN
METHOD:PUBLISH
X-ORIGINAL-URL:https://4dpnr.com
X-WR-CALDESC:Events for Welcome to the 4th Division
REFRESH-INTERVAL;VALUE=DURATION:PT1H
X-Robots-Tag:noindex
X-PUBLISHED-TTL:PT1H
BEGIN:VTIMEZONE
TZID:America/Los_Angeles
BEGIN:DAYLIGHT
TZOFFSETFROM:-0800
TZOFFSETTO:-0700
TZNAME:PDT
DTSTART:20160313T100000
END:DAYLIGHT
BEGIN:STANDARD
TZOFFSETFROM:-0700
TZOFFSETTO:-0800
TZNAME:PST
DTSTART:20161106T090000
END:STANDARD
BEGIN:DAYLIGHT
TZOFFSETFROM:-0800
TZOFFSETTO:-0700
TZNAME:PDT
DTSTART:20170312T100000
END:DAYLIGHT
BEGIN:STANDARD
TZOFFSETFROM:-0700
TZOFFSETTO:-0800
TZNAME:PST
DTSTART:20171105T090000
END:STANDARD
BEGIN:DAYLIGHT
TZOFFSETFROM:-0800
TZOFFSETTO:-0700
TZNAME:PDT
DTSTART:20180311T100000
END:DAYLIGHT
BEGIN:STANDARD
TZOFFSETFROM:-0700
TZOFFSETTO:-0800
TZNAME:PST
DTSTART:20181104T090000
END:STANDARD
BEGIN:DAYLIGHT
TZOFFSETFROM:-0800
TZOFFSETTO:-0700
TZNAME:PDT
DTSTART:20190310T100000
END:DAYLIGHT
BEGIN:STANDARD
TZOFFSETFROM:-0700
TZOFFSETTO:-0800
TZNAME:PST
DTSTART:20191103T090000
END:STANDARD
BEGIN:DAYLIGHT
TZOFFSETFROM:-0800
TZOFFSETTO:-0700
TZNAME:PDT
DTSTART:20200308T100000
END:DAYLIGHT
BEGIN:STANDARD
TZOFFSETFROM:-0700
TZOFFSETTO:-0800
TZNAME:PST
DTSTART:20201101T090000
END:STANDARD
END:VTIMEZONE
BEGIN:VEVENT
DTSTART;TZID=America/Los_Angeles:20191005T090000
DTEND;TZID=America/Los_Angeles:20191005T170000
DTSTAMP:20260424T010509
CREATED:20190804T232419Z
LAST-MODIFIED:20190804T232419Z
UID:17669-1570266000-1570294800@4dpnr.com
SUMMARY:Lynden Lions Club Model Train and Circus Builders Show
DESCRIPTION:Saturday 9-5.  Sunday 10-4.
URL:https://4dpnr.com/event/lynden-lions-club-model-train-and-circus-builders-show-3/
LOCATION:Northwest Washington Fair Grounds\, 1775 Front St\, Lynden\, WA\, 98264\, United States
CATEGORIES:Model Train Show
ORGANIZER;CN="Lynden Lions Club":MAILTO:rjkayser@msn.com
END:VEVENT
BEGIN:VEVENT
DTSTART;TZID=America/Los_Angeles:20190224T100000
DTEND;TZID=America/Los_Angeles:20190224T160000
DTSTAMP:20260424T010509
CREATED:20181222T025346Z
LAST-MODIFIED:20181222T025346Z
UID:16824-1551002400-1551024000@4dpnr.com
SUMMARY:28th Annual Washington State Train Show
DESCRIPTION:
URL:https://4dpnr.com/event/28th-annual-washington-state-train-show-2/
LOCATION:Evergreen State Fairgrounds\, 14405 179th Avenue SE\, Monroe\, WA\, 98272\, United States
CATEGORIES:Model Train Show
END:VEVENT
BEGIN:VEVENT
DTSTART;TZID=America/Los_Angeles:20190223T100000
DTEND;TZID=America/Los_Angeles:20190223T170000
DTSTAMP:20260424T010509
CREATED:20181222T025212Z
LAST-MODIFIED:20181222T025212Z
UID:16822-1550916000-1550941200@4dpnr.com
SUMMARY:28th Annual Washington State Train Show
DESCRIPTION:
URL:https://4dpnr.com/event/28th-annual-washington-state-train-show/
LOCATION:Evergreen State Fairgrounds\, 14405 179th Avenue SE\, Monroe\, WA\, 98272\, United States
CATEGORIES:Model Train Show
END:VEVENT
BEGIN:VEVENT
DTSTART;TZID=America/Los_Angeles:20190121T100000
DTEND;TZID=America/Los_Angeles:20190121T180000
DTSTAMP:20260424T010509
CREATED:20181221T171230Z
LAST-MODIFIED:20181221T171230Z
UID:16786-1548064800-1548093600@4dpnr.com
SUMMARY:Pacific Science Center Model Train Show
DESCRIPTION:
URL:https://4dpnr.com/event/pacific-science-center-model-train-show-9/
LOCATION:Pacific Science Center\, 200 Second Avenue North\, Seattle\, WA\, 98109\, United States
CATEGORIES:Model Train Show,Museum or Historical Archive Event
ORGANIZER;CN="David Yadock":MAILTO:hi61izq@hotmail.com
END:VEVENT
BEGIN:VEVENT
DTSTART;TZID=America/Los_Angeles:20190120T100000
DTEND;TZID=America/Los_Angeles:20190120T180000
DTSTAMP:20260424T010509
CREATED:20181221T171141Z
LAST-MODIFIED:20181221T171141Z
UID:16784-1547978400-1548007200@4dpnr.com
SUMMARY:Pacific Science Center Model Train Show
DESCRIPTION:
URL:https://4dpnr.com/event/pacific-science-center-model-train-show-8/
LOCATION:Pacific Science Center\, 200 Second Avenue North\, Seattle\, WA\, 98109\, United States
CATEGORIES:Model Train Show,Museum or Historical Archive Event
ORGANIZER;CN="David Yadock":MAILTO:hi61izq@hotmail.com
END:VEVENT
BEGIN:VEVENT
DTSTART;TZID=America/Los_Angeles:20190119T100000
DTEND;TZID=America/Los_Angeles:20190119T180000
DTSTAMP:20260424T010509
CREATED:20181221T171014Z
LAST-MODIFIED:20181221T171014Z
UID:16782-1547892000-1547920800@4dpnr.com
SUMMARY:Pacific Science Center Model Train Show
DESCRIPTION:
URL:https://4dpnr.com/event/pacific-science-center-model-train-show-7/
LOCATION:Pacific Science Center\, 200 Second Avenue North\, Seattle\, WA\, 98109\, United States
CATEGORIES:Model Train Show,Museum or Historical Archive Event
ORGANIZER;CN="David Yadock":MAILTO:hi61izq@hotmail.com
END:VEVENT
BEGIN:VEVENT
DTSTART;TZID=America/Los_Angeles:20181125T100000
DTEND;TZID=America/Los_Angeles:20181125T170000
DTSTAMP:20260424T010509
CREATED:20181013T171138Z
LAST-MODIFIED:20181013T171138Z
UID:16459-1543140000-1543165200@4dpnr.com
SUMMARY:MOHAI Train Show
DESCRIPTION:
URL:https://4dpnr.com/event/mohai-train-show-3/
LOCATION:Museum Of History And Industry\, 860 Terry Ave N\, Seattle\, WA\, 98109\, United States
CATEGORIES:Model Train Show
ORGANIZER;CN="Ed Ives":MAILTO:Gresley7@gmail.com
END:VEVENT
BEGIN:VEVENT
DTSTART;TZID=America/Los_Angeles:20181124T100000
DTEND;TZID=America/Los_Angeles:20181124T200000
DTSTAMP:20260424T010509
CREATED:20181013T171051Z
LAST-MODIFIED:20181013T171051Z
UID:16457-1543053600-1543089600@4dpnr.com
SUMMARY:MOHAI Train Show
DESCRIPTION:
URL:https://4dpnr.com/event/mohai-train-show-2/
LOCATION:Museum Of History And Industry\, 860 Terry Ave N\, Seattle\, WA\, 98109\, United States
CATEGORIES:Model Train Show
ORGANIZER;CN="Ed Ives":MAILTO:Gresley7@gmail.com
END:VEVENT
BEGIN:VEVENT
DTSTART;TZID=America/Los_Angeles:20181123T100000
DTEND;TZID=America/Los_Angeles:20181123T170000
DTSTAMP:20260424T010509
CREATED:20181013T170930Z
LAST-MODIFIED:20181013T170930Z
UID:16455-1542967200-1542992400@4dpnr.com
SUMMARY:MOHAI Train Show
DESCRIPTION:
URL:https://4dpnr.com/event/mohai-train-show/
LOCATION:Museum Of History And Industry\, 860 Terry Ave N\, Seattle\, WA\, 98109\, United States
CATEGORIES:Model Train Show
ORGANIZER;CN="Ed Ives":MAILTO:Gresley7@gmail.com
END:VEVENT
BEGIN:VEVENT
DTSTART;TZID=America/Los_Angeles:20181021T100000
DTEND;TZID=America/Los_Angeles:20181021T160000
DTSTAMP:20260424T010509
CREATED:20181005T013943Z
LAST-MODIFIED:20181005T013943Z
UID:16356-1540116000-1540137600@4dpnr.com
SUMMARY:Maple Valley Train Show
DESCRIPTION:
URL:https://4dpnr.com/event/maple-valley-train-show-4/
LOCATION:Gracie Hansen Community Center\, 27132 Ravensdale Way\, Ravensdale\, WA\, 98051\, United States
CATEGORIES:Model Train Show
ORGANIZER;CN="Steve Hiester":MAILTO:hies_skel@hotmail.com
END:VEVENT
BEGIN:VEVENT
DTSTART;TZID=America/Los_Angeles:20181020T100000
DTEND;TZID=America/Los_Angeles:20181020T170000
DTSTAMP:20260424T010509
CREATED:20181005T013624Z
LAST-MODIFIED:20181005T013624Z
UID:16354-1540029600-1540054800@4dpnr.com
SUMMARY:Maple Valley Train Show
DESCRIPTION:
URL:https://4dpnr.com/event/maple-valley-train-show-3/
LOCATION:Gracie Hansen Community Center\, 27132 Ravensdale Way\, Ravensdale\, WA\, 98051\, United States
CATEGORIES:Model Train Show
ORGANIZER;CN="Steve Hiester":MAILTO:hies_skel@hotmail.com
END:VEVENT
BEGIN:VEVENT
DTSTART;TZID=America/Los_Angeles:20181014T090000
DTEND;TZID=America/Los_Angeles:20181014T160000
DTSTAMP:20260424T010510
CREATED:20181005T013306Z
LAST-MODIFIED:20181005T013306Z
UID:16352-1539507600-1539532800@4dpnr.com
SUMMARY:North Olympic Peninsula Railroaders Train Show & Swap Meet
DESCRIPTION:
URL:https://4dpnr.com/event/north-olympic-peninsula-railroaders-train-show-swap-meet-2/
LOCATION:Mount Vernon Senior Center\, 1401 Cleveland Ave\, Mt Vernon\, WA\, 98273\, United States
CATEGORIES:Model Train Show
ORGANIZER;CN="Ted Becker":MAILTO:rail.bird@att.net
END:VEVENT
BEGIN:VEVENT
DTSTART;TZID=America/Los_Angeles:20181013T090000
DTEND;TZID=America/Los_Angeles:20181013T160000
DTSTAMP:20260424T010510
CREATED:20181004T022340Z
LAST-MODIFIED:20181004T022401Z
UID:16330-1539421200-1539446400@4dpnr.com
SUMMARY:North Olympic Peninsula Railroaders Train Show & Swap Meet
DESCRIPTION:Saturday & Sunday 9-4
URL:https://4dpnr.com/event/north-olympic-peninsula-railroaders-train-show-swap-meet/
LOCATION:Mount Vernon Senior Center\, 1401 Cleveland Ave\, Mt Vernon\, WA\, 98273\, United States
CATEGORIES:Model Train Show
ORGANIZER;CN="Ted Becker":MAILTO:rail.bird@att.net
END:VEVENT
BEGIN:VEVENT
DTSTART;TZID=America/Los_Angeles:20181007T100000
DTEND;TZID=America/Los_Angeles:20181007T160000
DTSTAMP:20260424T010510
CREATED:20181005T013015Z
LAST-MODIFIED:20181005T013015Z
UID:16349-1538906400-1538928000@4dpnr.com
SUMMARY:Lynden Lions Club Model Train and Circus Builders Show
DESCRIPTION:
URL:https://4dpnr.com/event/lynden-lions-club-model-train-and-circus-builders-show-2/
LOCATION:Northwest Washington Fair Grounds\, 1775 Front St\, Lynden\, WA\, 98264\, United States
CATEGORIES:Model Train Show
ORGANIZER;CN="Lynden Lions Club":MAILTO:rjkayser@msn.com
END:VEVENT
BEGIN:VEVENT
DTSTART;TZID=America/Los_Angeles:20181006T090000
DTEND;TZID=America/Los_Angeles:20181006T170000
DTSTAMP:20260424T010510
CREATED:20181001T001338Z
LAST-MODIFIED:20181005T013110Z
UID:16297-1538816400-1538845200@4dpnr.com
SUMMARY:Lynden Lions Club Model Train and Circus Builders Show
DESCRIPTION:Saturday 9-5.  Sunday 10-4.
URL:https://4dpnr.com/event/lynden-lions-club-model-train-and-circus-builders-show/
LOCATION:Northwest Washington Fair Grounds\, 1775 Front St\, Lynden\, WA\, 98264\, United States
CATEGORIES:Model Train Show
ORGANIZER;CN="Lynden Lions Club":MAILTO:rjkayser@msn.com
END:VEVENT
BEGIN:VEVENT
DTSTART;TZID=America/Los_Angeles:20180224T100000
DTEND;TZID=America/Los_Angeles:20180224T170000
DTSTAMP:20260424T010510
CREATED:20180125T003550Z
LAST-MODIFIED:20180125T003941Z
UID:15630-1519466400-1519491600@4dpnr.com
SUMMARY:27th Annual Washington State Train Show
DESCRIPTION:www.unwclub.com/unwshow \nEvergreen State Fairgrounds\, Monroe WA
URL:https://4dpnr.com/event/27th-annual-washington-state-train-show/
LOCATION:WA
CATEGORIES:Model Train Show
END:VEVENT
BEGIN:VEVENT
DTSTART;TZID=America/Los_Angeles:20171112T100000
DTEND;TZID=America/Los_Angeles:20171112T160000
DTSTAMP:20260424T010510
CREATED:20171101T130743Z
LAST-MODIFIED:20171101T130743Z
UID:15327-1510480800-1510502400@4dpnr.com
SUMMARY:Great Train Show
DESCRIPTION:Check website for details.
URL:https://4dpnr.com/event/great-train-show-2/
LOCATION:Western Washington Fairgrounds\, 110 9th Ave SW\, Puyallup\, WA\, 98371\, United States
CATEGORIES:Model Train Show
END:VEVENT
BEGIN:VEVENT
DTSTART;TZID=America/Los_Angeles:20171111T100000
DTEND;TZID=America/Los_Angeles:20171111T160000
DTSTAMP:20260424T010510
CREATED:20171101T130633Z
LAST-MODIFIED:20171101T130822Z
UID:15325-1510394400-1510416000@4dpnr.com
SUMMARY:Great Train Show
DESCRIPTION:Check Website for details.
URL:https://4dpnr.com/event/great-train-show/
LOCATION:Western Washington Fairgrounds\, 110 9th Ave SW\, Puyallup\, WA\, 98371\, United States
CATEGORIES:Model Train Show
END:VEVENT
BEGIN:VEVENT
DTSTART;TZID=America/Los_Angeles:20171022T100000
DTEND;TZID=America/Los_Angeles:20171022T160000
DTSTAMP:20260424T010510
CREATED:20171008T185449Z
LAST-MODIFIED:20171008T185449Z
UID:15205-1508666400-1508688000@4dpnr.com
SUMMARY:Maple Valley Train Show
DESCRIPTION:For those who have not been to this show before it is a smaller show in the gym at the community center and is all trains\, i.e. no vendor sales etc.  Proceeds support the Greater Maple Valley Community Council.
URL:https://4dpnr.com/event/maple-valley-train-show-2/
LOCATION:Gracie Hansen Community Center\, 27132 Ravensdale Way\, Ravensdale\, WA\, 98051\, United States
CATEGORIES:Model Train Show
END:VEVENT
BEGIN:VEVENT
DTSTART;TZID=America/Los_Angeles:20171021T100000
DTEND;TZID=America/Los_Angeles:20171021T170000
DTSTAMP:20260424T010510
CREATED:20171008T185318Z
LAST-MODIFIED:20171008T185521Z
UID:15203-1508580000-1508605200@4dpnr.com
SUMMARY:Maple Valley Train Show
DESCRIPTION:For those who have not been to this show before it is a smaller show in the gym at the community center and is all trains\, i.e. no vendor sales etc.  Proceeds support the Greater Maple Valley Community Council.
URL:https://4dpnr.com/event/maple-valley-train-show/
LOCATION:Gracie Hansen Community Center\, 27132 Ravensdale Way\, Ravensdale\, WA\, 98051\, United States
CATEGORIES:Model Train Show
END:VEVENT
BEGIN:VEVENT
DTSTART;TZID=America/Los_Angeles:20170415T100000
DTEND;TZID=America/Los_Angeles:20170415T170000
DTSTAMP:20260424T010510
CREATED:20170207T185541Z
LAST-MODIFIED:20170207T185600Z
UID:14232-1492250400-1492275600@4dpnr.com
SUMMARY:MSMRE Open House
DESCRIPTION:http://4dpnr.com/military-society-of-model-railroad-engineers-upcoming-events-anchorage-alaska/
URL:https://4dpnr.com/event/msmre-open-house-3/
LOCATION:Joint Base Elmendorf-Richardson\, 600 Richardson Dr\, Joint Base Elmendorf-Richardson\, AK\, 99505\, United States
CATEGORIES:Model Train Show,Operating Session
ORGANIZER;CN="Randy %E2%80%9CBj%E2%80%9D Bjorgan":MAILTO:bjorgan@alaska.net
END:VEVENT
BEGIN:VEVENT
DTSTART;TZID=America/Los_Angeles:20170402T100000
DTEND;TZID=America/Los_Angeles:20170402T150000
DTSTAMP:20260424T010510
CREATED:20170219T224755Z
LAST-MODIFIED:20170219T224755Z
UID:14509-1491127200-1491145200@4dpnr.com
SUMMARY:Tacoma Northwestern Model Railroad Club April Fun Fest
DESCRIPTION:
URL:https://4dpnr.com/event/tacoma-northwestern-model-railroad-club-april-fun-fest-4/
LOCATION:Pacific Lutheran University Olson Auditorium\, 124th Street South\, Parkland\, WA\, 98444\, United States
CATEGORIES:Model Train Show,Train Sales
ORGANIZER;CN="Tacoma Northwestern Model Railroad Club":MAILTO:tnwmrr@gmail.com
END:VEVENT
BEGIN:VEVENT
DTSTART;TZID=America/Los_Angeles:20170401T090000
DTEND;TZID=America/Los_Angeles:20170401T160000
DTSTAMP:20260424T010510
CREATED:20170219T224630Z
LAST-MODIFIED:20170219T224647Z
UID:14505-1491037200-1491062400@4dpnr.com
SUMMARY:Tacoma Northwestern Model Railroad Club April Fun Fest
DESCRIPTION:
URL:https://4dpnr.com/event/tacoma-northwestern-model-railroad-club-april-fun-fest-3/
LOCATION:Pacific Lutheran University Olson Auditorium\, 124th Street South\, Parkland\, WA\, 98444\, United States
CATEGORIES:Model Train Show,Train Sales
ORGANIZER;CN="Tacoma Northwestern Model Railroad Club":MAILTO:tnwmrr@gmail.com
END:VEVENT
BEGIN:VEVENT
DTSTART;TZID=America/Los_Angeles:20170318T100000
DTEND;TZID=America/Los_Angeles:20170318T170000
DTSTAMP:20260424T010510
CREATED:20170207T185451Z
LAST-MODIFIED:20170207T185451Z
UID:14230-1489831200-1489856400@4dpnr.com
SUMMARY:MSMRE Open House
DESCRIPTION:http://4dpnr.com/military-society-of-model-railroad-engineers-upcoming-events-anchorage-alaska/
URL:https://4dpnr.com/event/msmre-open-house-2/
LOCATION:Joint Base Elmendorf-Richardson\, 600 Richardson Dr\, Joint Base Elmendorf-Richardson\, AK\, 99505\, United States
CATEGORIES:Model Train Show,Operating Session
ORGANIZER;CN="Randy %E2%80%9CBj%E2%80%9D Bjorgan":MAILTO:bjorgan@alaska.net
END:VEVENT
BEGIN:VEVENT
DTSTART;TZID=America/Los_Angeles:20170305T093000
DTEND;TZID=America/Los_Angeles:20170305T153000
DTSTAMP:20260424T010510
CREATED:20170219T223321Z
LAST-MODIFIED:20170219T223321Z
UID:14500-1488706200-1488727800@4dpnr.com
SUMMARY:Spokane Train Show
DESCRIPTION:Spring Spokane Train show sponsored by the River City Modelers at the Spokane Fair & Expo Center\, Bldg. A\, B & C. Admission $6.00 for adults\, 12 & under free. Close to 200 tables of all things railroad related for sale – model & toy trains\, photos\, books\, toy autos & trucks\, bridges & buildings. Train memorabilia – old lanterns\, signs\, china\, linen\, switch locks & keys and much more. There will be operating train layouts in N\, HO\, S\, O and G Scales along with a very large Free-Mo setup. Operations Lifesaver will be there too. Free parking\, food available.
URL:https://4dpnr.com/event/spokane-train-show-2/
LOCATION:Spokane County Fair and Expo Center\, 404 N. Havana St\, Spokane Valley\, WA\, 99202\, United States
CATEGORIES:Model Train Show,Train Sales
ORGANIZER;CN="Shirley Sample":MAILTO:shirley@busnws.com
END:VEVENT
BEGIN:VEVENT
DTSTART;TZID=America/Los_Angeles:20170305T090000
DTEND;TZID=America/Los_Angeles:20170305T180000
DTSTAMP:20260424T010510
CREATED:20170207T191407Z
LAST-MODIFIED:20170207T191407Z
UID:14257-1488704400-1488736800@4dpnr.com
SUMMARY:MSMRE at Fur Rondy
DESCRIPTION:http://4dpnr.com/military-society-of-model-railroad-engineers-upcoming-events-anchorage-alaska/
URL:https://4dpnr.com/event/msmre-at-fur-rondy-10/
LOCATION:Alaska Railroad Passenger Terminal\, 411 West 1st Avenue\, Anchorage\, AK\, 99501\, United States
CATEGORIES:Model Train Show
ORGANIZER;CN="Randy %E2%80%9CBj%E2%80%9D Bjorgan":MAILTO:bjorgan@alaska.net
END:VEVENT
BEGIN:VEVENT
DTSTART;TZID=America/Los_Angeles:20170304T090000
DTEND;TZID=America/Los_Angeles:20170304T180000
DTSTAMP:20260424T010510
CREATED:20170207T191335Z
LAST-MODIFIED:20170207T191335Z
UID:14255-1488618000-1488650400@4dpnr.com
SUMMARY:MSMRE at Fur Rondy
DESCRIPTION:http://4dpnr.com/military-society-of-model-railroad-engineers-upcoming-events-anchorage-alaska/
URL:https://4dpnr.com/event/msmre-at-fur-rondy-9/
LOCATION:Alaska Railroad Passenger Terminal\, 411 West 1st Avenue\, Anchorage\, AK\, 99501\, United States
CATEGORIES:Model Train Show
ORGANIZER;CN="Randy %E2%80%9CBj%E2%80%9D Bjorgan":MAILTO:bjorgan@alaska.net
END:VEVENT
BEGIN:VEVENT
DTSTART;TZID=America/Los_Angeles:20170303T090000
DTEND;TZID=America/Los_Angeles:20170303T180000
DTSTAMP:20260424T010510
CREATED:20170207T191302Z
LAST-MODIFIED:20170207T191302Z
UID:14253-1488531600-1488564000@4dpnr.com
SUMMARY:MSMRE at Fur Rondy
DESCRIPTION:http://4dpnr.com/military-society-of-model-railroad-engineers-upcoming-events-anchorage-alaska/
URL:https://4dpnr.com/event/msmre-at-fur-rondy-8/
LOCATION:Alaska Railroad Passenger Terminal\, 411 West 1st Avenue\, Anchorage\, AK\, 99501\, United States
CATEGORIES:Model Train Show
ORGANIZER;CN="Randy %E2%80%9CBj%E2%80%9D Bjorgan":MAILTO:bjorgan@alaska.net
END:VEVENT
BEGIN:VEVENT
DTSTART;TZID=America/Los_Angeles:20170302T090000
DTEND;TZID=America/Los_Angeles:20170302T180000
DTSTAMP:20260424T010510
CREATED:20170207T191214Z
LAST-MODIFIED:20170207T191214Z
UID:14251-1488445200-1488477600@4dpnr.com
SUMMARY:MSMRE at Fur Rondy
DESCRIPTION:http://4dpnr.com/military-society-of-model-railroad-engineers-upcoming-events-anchorage-alaska/
URL:https://4dpnr.com/event/msmre-at-fur-rondy-7/
LOCATION:Alaska Railroad Passenger Terminal\, 411 West 1st Avenue\, Anchorage\, AK\, 99501\, United States
CATEGORIES:Model Train Show
ORGANIZER;CN="Randy %E2%80%9CBj%E2%80%9D Bjorgan":MAILTO:bjorgan@alaska.net
END:VEVENT
BEGIN:VEVENT
DTSTART;TZID=America/Los_Angeles:20170301T090000
DTEND;TZID=America/Los_Angeles:20170301T180000
DTSTAMP:20260424T010510
CREATED:20170207T191144Z
LAST-MODIFIED:20170207T191144Z
UID:14249-1488358800-1488391200@4dpnr.com
SUMMARY:MSMRE at Fur Rondy
DESCRIPTION:http://4dpnr.com/military-society-of-model-railroad-engineers-upcoming-events-anchorage-alaska/
URL:https://4dpnr.com/event/msmre-at-fur-rondy-6/
LOCATION:Alaska Railroad Passenger Terminal\, 411 West 1st Avenue\, Anchorage\, AK\, 99501\, United States
CATEGORIES:Model Train Show
ORGANIZER;CN="Randy %E2%80%9CBj%E2%80%9D Bjorgan":MAILTO:bjorgan@alaska.net
END:VEVENT
END:VCALENDAR