BEGIN:VCALENDAR
VERSION:2.0
PRODID:-//Welcome to the 4th Division - ECPv6.15.20//NONSGML v1.0//EN
CALSCALE:GREGORIAN
METHOD:PUBLISH
X-WR-CALNAME:Welcome to the 4th Division
X-ORIGINAL-URL:https://4dpnr.com
X-WR-CALDESC:Events for Welcome to the 4th Division
REFRESH-INTERVAL;VALUE=DURATION:PT1H
X-Robots-Tag:noindex
X-PUBLISHED-TTL:PT1H
BEGIN:VTIMEZONE
TZID:America/Los_Angeles
BEGIN:DAYLIGHT
TZOFFSETFROM:-0800
TZOFFSETTO:-0700
TZNAME:PDT
DTSTART:20170312T100000
END:DAYLIGHT
BEGIN:STANDARD
TZOFFSETFROM:-0700
TZOFFSETTO:-0800
TZNAME:PST
DTSTART:20171105T090000
END:STANDARD
BEGIN:DAYLIGHT
TZOFFSETFROM:-0800
TZOFFSETTO:-0700
TZNAME:PDT
DTSTART:20180311T100000
END:DAYLIGHT
BEGIN:STANDARD
TZOFFSETFROM:-0700
TZOFFSETTO:-0800
TZNAME:PST
DTSTART:20181104T090000
END:STANDARD
BEGIN:DAYLIGHT
TZOFFSETFROM:-0800
TZOFFSETTO:-0700
TZNAME:PDT
DTSTART:20190310T100000
END:DAYLIGHT
BEGIN:STANDARD
TZOFFSETFROM:-0700
TZOFFSETTO:-0800
TZNAME:PST
DTSTART:20191103T090000
END:STANDARD
BEGIN:DAYLIGHT
TZOFFSETFROM:-0800
TZOFFSETTO:-0700
TZNAME:PDT
DTSTART:20200308T100000
END:DAYLIGHT
BEGIN:STANDARD
TZOFFSETFROM:-0700
TZOFFSETTO:-0800
TZNAME:PST
DTSTART:20201101T090000
END:STANDARD
BEGIN:DAYLIGHT
TZOFFSETFROM:-0800
TZOFFSETTO:-0700
TZNAME:PDT
DTSTART:20210314T100000
END:DAYLIGHT
BEGIN:STANDARD
TZOFFSETFROM:-0700
TZOFFSETTO:-0800
TZNAME:PST
DTSTART:20211107T090000
END:STANDARD
BEGIN:DAYLIGHT
TZOFFSETFROM:-0800
TZOFFSETTO:-0700
TZNAME:PDT
DTSTART:20220313T100000
END:DAYLIGHT
BEGIN:STANDARD
TZOFFSETFROM:-0700
TZOFFSETTO:-0800
TZNAME:PST
DTSTART:20221106T090000
END:STANDARD
BEGIN:DAYLIGHT
TZOFFSETFROM:-0800
TZOFFSETTO:-0700
TZNAME:PDT
DTSTART:20230312T100000
END:DAYLIGHT
BEGIN:STANDARD
TZOFFSETFROM:-0700
TZOFFSETTO:-0800
TZNAME:PST
DTSTART:20231105T090000
END:STANDARD
END:VTIMEZONE
BEGIN:VEVENT
DTSTART;VALUE=DATE:20220402
DTEND;VALUE=DATE:20220404
DTSTAMP:20260423T214241
CREATED:20220212T030615Z
LAST-MODIFIED:20220212T030615Z
UID:20863-1648857600-1649030399@4dpnr.com
SUMMARY:Lewis County Model Railroad Club Train Show and Swap Meet
DESCRIPTION:Hours: Saturday 10-4 Sunday 10-3\nAdmission is $5.00 per person. Children 10 and under free.\nContact Ted at 360-985-7788 or TedsTrains@LewisCounty.com
URL:https://4dpnr.com/event/lewis-county-model-railroad-club-train-show-and-swap-meet/
LOCATION:Southwest Washington Fairgrounds\, 1909 South Gold Street\, Centralia\, WA\, 98531\, United States
CATEGORIES:Model Train Show,Train Sales
END:VEVENT
BEGIN:VEVENT
DTSTART;VALUE=DATE:20220317
DTEND;VALUE=DATE:20220321
DTSTAMP:20260423T214241
CREATED:20220118T003936Z
LAST-MODIFIED:20220118T003936Z
UID:20810-1647475200-1647820799@4dpnr.com
SUMMARY:Rails to Sails Train Show
DESCRIPTION:
URL:https://4dpnr.com/event/rails-to-sails-train-show/
LOCATION:Foss Waterway Seaport\, 705 Dock Street\, Tacoma\, WA\, 98402\, United States
CATEGORIES:Model Train Show
ORGANIZER;CN="Bud Thompson":MAILTO:budmanthe3rd@yahoo.com
END:VEVENT
BEGIN:VEVENT
DTSTART;VALUE=DATE:20220212
DTEND;VALUE=DATE:20220214
DTSTAMP:20260423T214241
CREATED:20220118T003102Z
LAST-MODIFIED:20220118T003102Z
UID:20804-1644624000-1644796799@4dpnr.com
SUMMARY:Railroad Swap Meet & Train Show
DESCRIPTION:
URL:https://4dpnr.com/event/railroad-swap-meet-train-show/
LOCATION:Grays Harbor County Fairgrounds\, 32 Elma McCleary Rd\, Elma\, WA\, 98541\, United States
CATEGORIES:Convention or Meet,Model Train Show
ORGANIZER;CN="Tim Daubert":MAILTO:tim_daubert@yahoo.com
END:VEVENT
BEGIN:VEVENT
DTSTART;VALUE=DATE:20220122
DTEND;VALUE=DATE:20220124
DTSTAMP:20260423T214241
CREATED:20220118T001827Z
LAST-MODIFIED:20220118T001827Z
UID:20798-1642809600-1642982399@4dpnr.com
SUMMARY:Great Train Show
DESCRIPTION:Check website for details.\nJanuary 22nd 8am-4pm\nJanuary 23rd 10am-4pm
URL:https://4dpnr.com/event/great-train-show-3/
LOCATION:Western Washington Fairgrounds\, 110 9th Ave SW\, Puyallup\, WA\, 98371\, United States
CATEGORIES:Model Train Show
END:VEVENT
BEGIN:VEVENT
DTSTART;VALUE=DATE:20211016
DTEND;VALUE=DATE:20211018
DTSTAMP:20260423T214241
CREATED:20210924T041202Z
LAST-MODIFIED:20210924T041202Z
UID:20353-1634342400-1634515199@4dpnr.com
SUMMARY:Maple Valley Train Show
DESCRIPTION:Saturday 10:00 AM – 5:00 PM\nSunday 10:00 AM – 4:00 PM
URL:https://4dpnr.com/event/maple-valley-train-show-7/
LOCATION:Gracie Hansen Community Center\, 27132 Ravensdale Way\, Ravensdale\, WA\, 98051\, United States
CATEGORIES:Model Train Show
ORGANIZER;CN="Steve Hiester":MAILTO:hies_skel@hotmail.com
END:VEVENT
BEGIN:VEVENT
DTSTART;TZID=America/Los_Angeles:20211003T100000
DTEND;TZID=America/Los_Angeles:20211003T160000
DTSTAMP:20260423T214241
CREATED:20210915T151545Z
LAST-MODIFIED:20211002T023120Z
UID:20309-1633255200-1633276800@4dpnr.com
SUMMARY:Lynden Lions Club Model Train and Circus Builders Show
DESCRIPTION:Northwest Washington Fairgrounds\nHenry Jansen Agricultural Bldg.\n1775 Front St.\nLynden\, Washington 98264
URL:https://4dpnr.com/event/lynden-lions-club-model-train-and-circus-builders-show-6/
LOCATION:Northwest Washington Fair Grounds\, 1775 Front St\, Lynden\, WA\, 98264\, United States
CATEGORIES:Model Train Show
ORGANIZER;CN="Lynden Lions Club":MAILTO:rjkayser@msn.com
END:VEVENT
BEGIN:VEVENT
DTSTART;TZID=America/Los_Angeles:20211002T090000
DTEND;TZID=America/Los_Angeles:20211002T170000
DTSTAMP:20260423T214241
CREATED:20210915T151228Z
LAST-MODIFIED:20211002T022947Z
UID:20307-1633165200-1633194000@4dpnr.com
SUMMARY:Lynden Lions Club Model Train and Circus Builders Show
DESCRIPTION:Northwest Washington Fairgrounds\nHenry Jansen Agricultural Bldg.\n1775 Front St.\nLynden\, Washington 98264
URL:https://4dpnr.com/event/lynden-lions-club-model-train-and-circus-builders-show-5/
LOCATION:Northwest Washington Fair Grounds\, 1775 Front St\, Lynden\, WA\, 98264\, United States
CATEGORIES:Model Train Show
ORGANIZER;CN="Lynden Lions Club":MAILTO:rjkayser@msn.com
END:VEVENT
BEGIN:VEVENT
DTSTART;TZID=America/Los_Angeles:20200223T100000
DTEND;TZID=America/Los_Angeles:20200223T160000
DTSTAMP:20260423T214241
CREATED:20191011T013535Z
LAST-MODIFIED:20191011T013535Z
UID:18018-1582452000-1582473600@4dpnr.com
SUMMARY:29th Annual Washington State Train Show
DESCRIPTION:
URL:https://4dpnr.com/event/29th-annual-washington-state-train-show-2/
LOCATION:Evergreen State Fairgrounds\, 14405 179th Avenue SE\, Monroe\, WA\, 98272\, United States
CATEGORIES:Model Train Show
END:VEVENT
BEGIN:VEVENT
DTSTART;TZID=America/Los_Angeles:20200222T100000
DTEND;TZID=America/Los_Angeles:20200222T170000
DTSTAMP:20260423T214241
CREATED:20191011T013445Z
LAST-MODIFIED:20191011T013445Z
UID:18016-1582365600-1582390800@4dpnr.com
SUMMARY:29th Annual Washington State Train Show
DESCRIPTION:
URL:https://4dpnr.com/event/29th-annual-washington-state-train-show/
LOCATION:Evergreen State Fairgrounds\, 14405 179th Avenue SE\, Monroe\, WA\, 98272\, United States
CATEGORIES:Model Train Show
END:VEVENT
BEGIN:VEVENT
DTSTART;TZID=America/Los_Angeles:20200120T100000
DTEND;TZID=America/Los_Angeles:20200120T180000
DTSTAMP:20260423T214241
CREATED:20190916T003733Z
LAST-MODIFIED:20190916T003733Z
UID:17858-1579514400-1579543200@4dpnr.com
SUMMARY:Pacific Science Center Model Train Show
DESCRIPTION:
URL:https://4dpnr.com/event/pacific-science-center-model-train-show-12/
LOCATION:Pacific Science Center\, 200 Second Avenue North\, Seattle\, WA\, 98109\, United States
CATEGORIES:Model Train Show,Museum or Historical Archive Event
END:VEVENT
BEGIN:VEVENT
DTSTART;TZID=America/Los_Angeles:20200119T100000
DTEND;TZID=America/Los_Angeles:20200119T180000
DTSTAMP:20260423T214241
CREATED:20190916T003635Z
LAST-MODIFIED:20190916T003635Z
UID:17856-1579428000-1579456800@4dpnr.com
SUMMARY:Pacific Science Center Model Train Show
DESCRIPTION:
URL:https://4dpnr.com/event/pacific-science-center-model-train-show-11/
LOCATION:Pacific Science Center\, 200 Second Avenue North\, Seattle\, WA\, 98109\, United States
CATEGORIES:Model Train Show,Museum or Historical Archive Event
END:VEVENT
BEGIN:VEVENT
DTSTART;TZID=America/Los_Angeles:20200118T100000
DTEND;TZID=America/Los_Angeles:20200118T180000
DTSTAMP:20260423T214241
CREATED:20190916T003538Z
LAST-MODIFIED:20190916T003538Z
UID:17854-1579341600-1579370400@4dpnr.com
SUMMARY:Pacific Science Center Model Train Show
DESCRIPTION:
URL:https://4dpnr.com/event/pacific-science-center-model-train-show-10/
LOCATION:Pacific Science Center\, 200 Second Avenue North\, Seattle\, WA\, 98109\, United States
CATEGORIES:Model Train Show,Museum or Historical Archive Event
END:VEVENT
BEGIN:VEVENT
DTSTART;VALUE=DATE:20191226
DTEND;VALUE=DATE:20200102
DTSTAMP:20260423T214241
CREATED:20191217T023141Z
LAST-MODIFIED:20191217T023141Z
UID:18210-1577318400-1577923199@4dpnr.com
SUMMARY:Wa State History Museum Model Train Festival
DESCRIPTION:Hours: 10:00 AM – 5:00 PM
URL:https://4dpnr.com/event/wa-state-history-museum-model-train-festival-44/
LOCATION:Washington State History Museum\, 1911 Pacific Ave\, Tacoma\, WA\, 98402\, United States
CATEGORIES:Model Train Show,Museum or Historical Archive Event
END:VEVENT
BEGIN:VEVENT
DTSTART;VALUE=DATE:20191220
DTEND;VALUE=DATE:20191224
DTSTAMP:20260423T214241
CREATED:20191217T023034Z
LAST-MODIFIED:20191217T023034Z
UID:18208-1576800000-1577145599@4dpnr.com
SUMMARY:Wa State History Museum Model Train Festival
DESCRIPTION:Hours: 10:00 AM – 5:00 PM
URL:https://4dpnr.com/event/wa-state-history-museum-model-train-festival-43/
LOCATION:Washington State History Museum\, 1911 Pacific Ave\, Tacoma\, WA\, 98402\, United States
CATEGORIES:Model Train Show,Museum or Historical Archive Event
END:VEVENT
BEGIN:VEVENT
DTSTART;TZID=America/Los_Angeles:20191201T100000
DTEND;TZID=America/Los_Angeles:20191201T170000
DTSTAMP:20260423T214242
CREATED:20190804T233121Z
LAST-MODIFIED:20190804T233121Z
UID:17677-1575194400-1575219600@4dpnr.com
SUMMARY:MOHAI Train Show
DESCRIPTION:
URL:https://4dpnr.com/event/mohai-train-show-6/
LOCATION:Museum Of History And Industry\, 860 Terry Ave N\, Seattle\, WA\, 98109\, United States
CATEGORIES:Model Train Show
ORGANIZER;CN="Ed Ives":MAILTO:Gresley7@gmail.com
END:VEVENT
BEGIN:VEVENT
DTSTART;TZID=America/Los_Angeles:20191130T100000
DTEND;TZID=America/Los_Angeles:20191130T170000
DTSTAMP:20260423T214242
CREATED:20190804T233107Z
LAST-MODIFIED:20190804T233107Z
UID:17675-1575108000-1575133200@4dpnr.com
SUMMARY:MOHAI Train Show
DESCRIPTION:
URL:https://4dpnr.com/event/mohai-train-show-5/
LOCATION:Museum Of History And Industry\, 860 Terry Ave N\, Seattle\, WA\, 98109\, United States
CATEGORIES:Model Train Show
ORGANIZER;CN="Ed Ives":MAILTO:Gresley7@gmail.com
END:VEVENT
BEGIN:VEVENT
DTSTART;TZID=America/Los_Angeles:20191129T100000
DTEND;TZID=America/Los_Angeles:20191129T170000
DTSTAMP:20260423T214242
CREATED:20190804T233029Z
LAST-MODIFIED:20190804T233047Z
UID:17673-1575021600-1575046800@4dpnr.com
SUMMARY:MOHAI Train Show
DESCRIPTION:
URL:https://4dpnr.com/event/mohai-train-show-4/
LOCATION:Museum Of History And Industry\, 860 Terry Ave N\, Seattle\, WA\, 98109\, United States
CATEGORIES:Model Train Show
ORGANIZER;CN="Ed Ives":MAILTO:Gresley7@gmail.com
END:VEVENT
BEGIN:VEVENT
DTSTART;TZID=America/Los_Angeles:20191020T100000
DTEND;TZID=America/Los_Angeles:20191020T160000
DTSTAMP:20260423T214242
CREATED:20190804T203419Z
LAST-MODIFIED:20190804T203419Z
UID:17627-1571565600-1571587200@4dpnr.com
SUMMARY:Maple Valley Train Show
DESCRIPTION:
URL:https://4dpnr.com/event/maple-valley-train-show-6/
LOCATION:Gracie Hansen Community Center\, 27132 Ravensdale Way\, Ravensdale\, WA\, 98051\, United States
CATEGORIES:Model Train Show
ORGANIZER;CN="Steve Hiester":MAILTO:hies_skel@hotmail.com
END:VEVENT
BEGIN:VEVENT
DTSTART;TZID=America/Los_Angeles:20191019T100000
DTEND;TZID=America/Los_Angeles:20191019T170000
DTSTAMP:20260423T214242
CREATED:20190804T203317Z
LAST-MODIFIED:20190804T203317Z
UID:17625-1571479200-1571504400@4dpnr.com
SUMMARY:Maple Valley Train Show
DESCRIPTION:
URL:https://4dpnr.com/event/maple-valley-train-show-5/
LOCATION:Gracie Hansen Community Center\, 27132 Ravensdale Way\, Ravensdale\, WA\, 98051\, United States
CATEGORIES:Model Train Show
ORGANIZER;CN="Steve Hiester":MAILTO:hies_skel@hotmail.com
END:VEVENT
BEGIN:VEVENT
DTSTART;TZID=America/Los_Angeles:20191006T100000
DTEND;TZID=America/Los_Angeles:20191006T160000
DTSTAMP:20260423T214242
CREATED:20190804T232441Z
LAST-MODIFIED:20190804T232441Z
UID:17671-1570356000-1570377600@4dpnr.com
SUMMARY:Lynden Lions Club Model Train and Circus Builders Show
DESCRIPTION:Saturday 9-5.  Sunday 10-4.
URL:https://4dpnr.com/event/lynden-lions-club-model-train-and-circus-builders-show-4/
LOCATION:Northwest Washington Fair Grounds\, 1775 Front St\, Lynden\, WA\, 98264\, United States
CATEGORIES:Model Train Show
ORGANIZER;CN="Lynden Lions Club":MAILTO:rjkayser@msn.com
END:VEVENT
BEGIN:VEVENT
DTSTART;TZID=America/Los_Angeles:20191005T090000
DTEND;TZID=America/Los_Angeles:20191005T170000
DTSTAMP:20260423T214242
CREATED:20190804T232419Z
LAST-MODIFIED:20190804T232419Z
UID:17669-1570266000-1570294800@4dpnr.com
SUMMARY:Lynden Lions Club Model Train and Circus Builders Show
DESCRIPTION:Saturday 9-5.  Sunday 10-4.
URL:https://4dpnr.com/event/lynden-lions-club-model-train-and-circus-builders-show-3/
LOCATION:Northwest Washington Fair Grounds\, 1775 Front St\, Lynden\, WA\, 98264\, United States
CATEGORIES:Model Train Show
ORGANIZER;CN="Lynden Lions Club":MAILTO:rjkayser@msn.com
END:VEVENT
BEGIN:VEVENT
DTSTART;TZID=America/Los_Angeles:20190224T100000
DTEND;TZID=America/Los_Angeles:20190224T160000
DTSTAMP:20260423T214242
CREATED:20181222T025346Z
LAST-MODIFIED:20181222T025346Z
UID:16824-1551002400-1551024000@4dpnr.com
SUMMARY:28th Annual Washington State Train Show
DESCRIPTION:
URL:https://4dpnr.com/event/28th-annual-washington-state-train-show-2/
LOCATION:Evergreen State Fairgrounds\, 14405 179th Avenue SE\, Monroe\, WA\, 98272\, United States
CATEGORIES:Model Train Show
END:VEVENT
BEGIN:VEVENT
DTSTART;TZID=America/Los_Angeles:20190223T100000
DTEND;TZID=America/Los_Angeles:20190223T170000
DTSTAMP:20260423T214242
CREATED:20181222T025212Z
LAST-MODIFIED:20181222T025212Z
UID:16822-1550916000-1550941200@4dpnr.com
SUMMARY:28th Annual Washington State Train Show
DESCRIPTION:
URL:https://4dpnr.com/event/28th-annual-washington-state-train-show/
LOCATION:Evergreen State Fairgrounds\, 14405 179th Avenue SE\, Monroe\, WA\, 98272\, United States
CATEGORIES:Model Train Show
END:VEVENT
BEGIN:VEVENT
DTSTART;TZID=America/Los_Angeles:20190121T100000
DTEND;TZID=America/Los_Angeles:20190121T180000
DTSTAMP:20260423T214242
CREATED:20181221T171230Z
LAST-MODIFIED:20181221T171230Z
UID:16786-1548064800-1548093600@4dpnr.com
SUMMARY:Pacific Science Center Model Train Show
DESCRIPTION:
URL:https://4dpnr.com/event/pacific-science-center-model-train-show-9/
LOCATION:Pacific Science Center\, 200 Second Avenue North\, Seattle\, WA\, 98109\, United States
CATEGORIES:Model Train Show,Museum or Historical Archive Event
ORGANIZER;CN="David Yadock":MAILTO:hi61izq@hotmail.com
END:VEVENT
BEGIN:VEVENT
DTSTART;TZID=America/Los_Angeles:20190120T100000
DTEND;TZID=America/Los_Angeles:20190120T180000
DTSTAMP:20260423T214242
CREATED:20181221T171141Z
LAST-MODIFIED:20181221T171141Z
UID:16784-1547978400-1548007200@4dpnr.com
SUMMARY:Pacific Science Center Model Train Show
DESCRIPTION:
URL:https://4dpnr.com/event/pacific-science-center-model-train-show-8/
LOCATION:Pacific Science Center\, 200 Second Avenue North\, Seattle\, WA\, 98109\, United States
CATEGORIES:Model Train Show,Museum or Historical Archive Event
ORGANIZER;CN="David Yadock":MAILTO:hi61izq@hotmail.com
END:VEVENT
BEGIN:VEVENT
DTSTART;TZID=America/Los_Angeles:20190119T100000
DTEND;TZID=America/Los_Angeles:20190119T180000
DTSTAMP:20260423T214242
CREATED:20181221T171014Z
LAST-MODIFIED:20181221T171014Z
UID:16782-1547892000-1547920800@4dpnr.com
SUMMARY:Pacific Science Center Model Train Show
DESCRIPTION:
URL:https://4dpnr.com/event/pacific-science-center-model-train-show-7/
LOCATION:Pacific Science Center\, 200 Second Avenue North\, Seattle\, WA\, 98109\, United States
CATEGORIES:Model Train Show,Museum or Historical Archive Event
ORGANIZER;CN="David Yadock":MAILTO:hi61izq@hotmail.com
END:VEVENT
BEGIN:VEVENT
DTSTART;TZID=America/Los_Angeles:20181125T100000
DTEND;TZID=America/Los_Angeles:20181125T170000
DTSTAMP:20260423T214242
CREATED:20181013T171138Z
LAST-MODIFIED:20181013T171138Z
UID:16459-1543140000-1543165200@4dpnr.com
SUMMARY:MOHAI Train Show
DESCRIPTION:
URL:https://4dpnr.com/event/mohai-train-show-3/
LOCATION:Museum Of History And Industry\, 860 Terry Ave N\, Seattle\, WA\, 98109\, United States
CATEGORIES:Model Train Show
ORGANIZER;CN="Ed Ives":MAILTO:Gresley7@gmail.com
END:VEVENT
BEGIN:VEVENT
DTSTART;TZID=America/Los_Angeles:20181124T100000
DTEND;TZID=America/Los_Angeles:20181124T200000
DTSTAMP:20260423T214242
CREATED:20181013T171051Z
LAST-MODIFIED:20181013T171051Z
UID:16457-1543053600-1543089600@4dpnr.com
SUMMARY:MOHAI Train Show
DESCRIPTION:
URL:https://4dpnr.com/event/mohai-train-show-2/
LOCATION:Museum Of History And Industry\, 860 Terry Ave N\, Seattle\, WA\, 98109\, United States
CATEGORIES:Model Train Show
ORGANIZER;CN="Ed Ives":MAILTO:Gresley7@gmail.com
END:VEVENT
BEGIN:VEVENT
DTSTART;TZID=America/Los_Angeles:20181123T100000
DTEND;TZID=America/Los_Angeles:20181123T170000
DTSTAMP:20260423T214242
CREATED:20181013T170930Z
LAST-MODIFIED:20181013T170930Z
UID:16455-1542967200-1542992400@4dpnr.com
SUMMARY:MOHAI Train Show
DESCRIPTION:
URL:https://4dpnr.com/event/mohai-train-show/
LOCATION:Museum Of History And Industry\, 860 Terry Ave N\, Seattle\, WA\, 98109\, United States
CATEGORIES:Model Train Show
ORGANIZER;CN="Ed Ives":MAILTO:Gresley7@gmail.com
END:VEVENT
BEGIN:VEVENT
DTSTART;TZID=America/Los_Angeles:20181021T100000
DTEND;TZID=America/Los_Angeles:20181021T160000
DTSTAMP:20260423T214242
CREATED:20181005T013943Z
LAST-MODIFIED:20181005T013943Z
UID:16356-1540116000-1540137600@4dpnr.com
SUMMARY:Maple Valley Train Show
DESCRIPTION:
URL:https://4dpnr.com/event/maple-valley-train-show-4/
LOCATION:Gracie Hansen Community Center\, 27132 Ravensdale Way\, Ravensdale\, WA\, 98051\, United States
CATEGORIES:Model Train Show
ORGANIZER;CN="Steve Hiester":MAILTO:hies_skel@hotmail.com
END:VEVENT
END:VCALENDAR