BEGIN:VCALENDAR
VERSION:2.0
PRODID:-//Welcome to the 4th Division - ECPv6.15.20//NONSGML v1.0//EN
CALSCALE:GREGORIAN
METHOD:PUBLISH
X-ORIGINAL-URL:https://4dpnr.com
X-WR-CALDESC:Events for Welcome to the 4th Division
REFRESH-INTERVAL;VALUE=DURATION:PT1H
X-Robots-Tag:noindex
X-PUBLISHED-TTL:PT1H
BEGIN:VTIMEZONE
TZID:America/Los_Angeles
BEGIN:DAYLIGHT
TZOFFSETFROM:-0800
TZOFFSETTO:-0700
TZNAME:PDT
DTSTART:20140309T100000
END:DAYLIGHT
BEGIN:STANDARD
TZOFFSETFROM:-0700
TZOFFSETTO:-0800
TZNAME:PST
DTSTART:20141102T090000
END:STANDARD
BEGIN:DAYLIGHT
TZOFFSETFROM:-0800
TZOFFSETTO:-0700
TZNAME:PDT
DTSTART:20150308T100000
END:DAYLIGHT
BEGIN:STANDARD
TZOFFSETFROM:-0700
TZOFFSETTO:-0800
TZNAME:PST
DTSTART:20151101T090000
END:STANDARD
BEGIN:DAYLIGHT
TZOFFSETFROM:-0800
TZOFFSETTO:-0700
TZNAME:PDT
DTSTART:20160313T100000
END:DAYLIGHT
BEGIN:STANDARD
TZOFFSETFROM:-0700
TZOFFSETTO:-0800
TZNAME:PST
DTSTART:20161106T090000
END:STANDARD
BEGIN:DAYLIGHT
TZOFFSETFROM:-0800
TZOFFSETTO:-0700
TZNAME:PDT
DTSTART:20170312T100000
END:DAYLIGHT
BEGIN:STANDARD
TZOFFSETFROM:-0700
TZOFFSETTO:-0800
TZNAME:PST
DTSTART:20171105T090000
END:STANDARD
END:VTIMEZONE
BEGIN:VTIMEZONE
TZID:America/Vancouver
BEGIN:DAYLIGHT
TZOFFSETFROM:-0800
TZOFFSETTO:-0700
TZNAME:PDT
DTSTART:20140309T100000
END:DAYLIGHT
BEGIN:STANDARD
TZOFFSETFROM:-0700
TZOFFSETTO:-0800
TZNAME:PST
DTSTART:20141102T090000
END:STANDARD
BEGIN:DAYLIGHT
TZOFFSETFROM:-0800
TZOFFSETTO:-0700
TZNAME:PDT
DTSTART:20150308T100000
END:DAYLIGHT
BEGIN:STANDARD
TZOFFSETFROM:-0700
TZOFFSETTO:-0800
TZNAME:PST
DTSTART:20151101T090000
END:STANDARD
BEGIN:DAYLIGHT
TZOFFSETFROM:-0800
TZOFFSETTO:-0700
TZNAME:PDT
DTSTART:20160313T100000
END:DAYLIGHT
BEGIN:STANDARD
TZOFFSETFROM:-0700
TZOFFSETTO:-0800
TZNAME:PST
DTSTART:20161106T090000
END:STANDARD
END:VTIMEZONE
BEGIN:VEVENT
DTSTART;TZID=America/Los_Angeles:20160228T100000
DTEND;TZID=America/Los_Angeles:20160228T160000
DTSTAMP:20260424T140838
CREATED:20160203T071726Z
LAST-MODIFIED:20160203T071726Z
UID:8145-1456653600-1456675200@4dpnr.com
SUMMARY:United NW Model Train Show and Marketplace
DESCRIPTION:
URL:https://4dpnr.com/event/united-nw-model-train-show-and-marketplace-2/
LOCATION:Evergreen State Fairgrounds\, 14405 179th Avenue SE\, Monroe\, WA\, 98272\, United States
CATEGORIES:Model Train Show,Train Sales
ORGANIZER;CN="United NW Model RR Club":MAILTO:info@unwclub.org
END:VEVENT
BEGIN:VEVENT
DTSTART;TZID=America/Los_Angeles:20160227T100000
DTEND;TZID=America/Los_Angeles:20160227T170000
DTSTAMP:20260424T140838
CREATED:20160203T071558Z
LAST-MODIFIED:20160203T071748Z
UID:8142-1456567200-1456592400@4dpnr.com
SUMMARY:United NW Model Train Show and Marketplace
DESCRIPTION:
URL:https://4dpnr.com/event/united-nw-model-train-show-and-marketplace/
LOCATION:Evergreen State Fairgrounds\, 14405 179th Avenue SE\, Monroe\, WA\, 98272\, United States
CATEGORIES:Model Train Show,Train Sales
ORGANIZER;CN="United NW Model RR Club":MAILTO:info@unwclub.org
END:VEVENT
BEGIN:VEVENT
DTSTART;TZID=America/Los_Angeles:20160118T100000
DTEND;TZID=America/Los_Angeles:20160118T180000
DTSTAMP:20260424T140838
CREATED:20151110T071621Z
LAST-MODIFIED:20151110T071621Z
UID:7427-1453111200-1453140000@4dpnr.com
SUMMARY:Pacific Science Center Model Train Show
DESCRIPTION:
URL:https://4dpnr.com/event/pacific-science-center-model-train-show-3/
LOCATION:Pacific Science Center\, 200 Second Avenue North\, Seattle\, WA\, 98109\, United States
CATEGORIES:Model Train Show
ORGANIZER;CN="David Yadock":MAILTO:hi61izq@hotmail.com
END:VEVENT
BEGIN:VEVENT
DTSTART;TZID=America/Los_Angeles:20160117T100000
DTEND;TZID=America/Los_Angeles:20160117T180000
DTSTAMP:20260424T140838
CREATED:20151110T071511Z
LAST-MODIFIED:20151110T071511Z
UID:7426-1453024800-1453053600@4dpnr.com
SUMMARY:Pacific Science Center Model Train Show
DESCRIPTION:
URL:https://4dpnr.com/event/pacific-science-center-model-train-show-2/
LOCATION:Pacific Science Center\, 200 Second Avenue North\, Seattle\, WA\, 98109\, United States
CATEGORIES:Model Train Show
ORGANIZER;CN="David Yadock":MAILTO:hi61izq@hotmail.com
END:VEVENT
BEGIN:VEVENT
DTSTART;TZID=America/Los_Angeles:20160116T100000
DTEND;TZID=America/Los_Angeles:20160116T180000
DTSTAMP:20260424T140838
CREATED:20151110T071335Z
LAST-MODIFIED:20151110T071335Z
UID:7423-1452938400-1452967200@4dpnr.com
SUMMARY:Pacific Science Center Model Train Show
DESCRIPTION:
URL:https://4dpnr.com/event/pacific-science-center-model-train-show/
LOCATION:Pacific Science Center\, 200 Second Avenue North\, Seattle\, WA\, 98109\, United States
CATEGORIES:Model Train Show
ORGANIZER;CN="David Yadock":MAILTO:hi61izq@hotmail.com
END:VEVENT
BEGIN:VEVENT
DTSTART;TZID=America/Los_Angeles:20160101T100000
DTEND;TZID=America/Los_Angeles:20160101T170000
DTSTAMP:20260424T140838
CREATED:20151020T163126Z
LAST-MODIFIED:20151020T163126Z
UID:7272-1451642400-1451667600@4dpnr.com
SUMMARY:WA State History Museum Model Train Festival
DESCRIPTION:20th Annual Model Train Festival at The Washington State History Museum in Tacoma\, December 21 thru January 1\, 10 AM to 5 PM (Closed Christmas Eve and Christmas Day). The model train festival is included with museum admission. \nSanta onsite for free photos from 11am – 3pm on December 21\, 22\, 23. \nWhile Santa’s elves produce a lot of train sets each holiday season\, they can’t hold a candle to the quality and scale of the ones on display each year at the Washington State History Museum’s Model Train Festival. The event showcases model train displays designed and assembled by model train enthusiasts across the state. The displays occupy every floor of the museum and include the largest permanent model train layout in the state. Bring your camera!
URL:https://4dpnr.com/event/wa-state-history-museum-model-train-festival-10/
LOCATION:Washington State History Museum\, 1911 Pacific Ave\, Tacoma\, WA\, 98402\, United States
CATEGORIES:Model Train Show
ORGANIZER;CN="Rick Bacon":MAILTO:rnbx@harbornet.com
END:VEVENT
BEGIN:VEVENT
DTSTART;TZID=America/Los_Angeles:20151231T100000
DTEND;TZID=America/Los_Angeles:20151231T170000
DTSTAMP:20260424T140838
CREATED:20151020T163034Z
LAST-MODIFIED:20151020T163034Z
UID:7271-1451556000-1451581200@4dpnr.com
SUMMARY:WA State History Museum Model Train Festival
DESCRIPTION:20th Annual Model Train Festival at The Washington State History Museum in Tacoma\, December 21 thru January 1\, 10 AM to 5 PM (Closed Christmas Eve and Christmas Day). The model train festival is included with museum admission. \nSanta onsite for free photos from 11am – 3pm on December 21\, 22\, 23. \nWhile Santa’s elves produce a lot of train sets each holiday season\, they can’t hold a candle to the quality and scale of the ones on display each year at the Washington State History Museum’s Model Train Festival. The event showcases model train displays designed and assembled by model train enthusiasts across the state. The displays occupy every floor of the museum and include the largest permanent model train layout in the state. Bring your camera!
URL:https://4dpnr.com/event/wa-state-history-museum-model-train-festival-9/
LOCATION:Washington State History Museum\, 1911 Pacific Ave\, Tacoma\, WA\, 98402\, United States
CATEGORIES:Model Train Show
ORGANIZER;CN="Rick Bacon":MAILTO:rnbx@harbornet.com
END:VEVENT
BEGIN:VEVENT
DTSTART;TZID=America/Los_Angeles:20151230T100000
DTEND;TZID=America/Los_Angeles:20151230T170000
DTSTAMP:20260424T140838
CREATED:20151020T162945Z
LAST-MODIFIED:20151020T162945Z
UID:7270-1451469600-1451494800@4dpnr.com
SUMMARY:WA State History Museum Model Train Festival
DESCRIPTION:20th Annual Model Train Festival at The Washington State History Museum in Tacoma\, December 21 thru January 1\, 10 AM to 5 PM (Closed Christmas Eve and Christmas Day). The model train festival is included with museum admission. \nSanta onsite for free photos from 11am – 3pm on December 21\, 22\, 23. \nWhile Santa’s elves produce a lot of train sets each holiday season\, they can’t hold a candle to the quality and scale of the ones on display each year at the Washington State History Museum’s Model Train Festival. The event showcases model train displays designed and assembled by model train enthusiasts across the state. The displays occupy every floor of the museum and include the largest permanent model train layout in the state. Bring your camera!
URL:https://4dpnr.com/event/wa-state-history-museum-model-train-festival-8/
LOCATION:Washington State History Museum\, 1911 Pacific Ave\, Tacoma\, WA\, 98402\, United States
CATEGORIES:Model Train Show
ORGANIZER;CN="Rick Bacon":MAILTO:rnbx@harbornet.com
END:VEVENT
BEGIN:VEVENT
DTSTART;TZID=America/Los_Angeles:20151229T100000
DTEND;TZID=America/Los_Angeles:20151229T170000
DTSTAMP:20260424T140838
CREATED:20151020T162854Z
LAST-MODIFIED:20151020T162854Z
UID:7269-1451383200-1451408400@4dpnr.com
SUMMARY:WA State History Museum Model Train Festival
DESCRIPTION:20th Annual Model Train Festival at The Washington State History Museum in Tacoma\, December 21 thru January 1\, 10 AM to 5 PM (Closed Christmas Eve and Christmas Day). The model train festival is included with museum admission. \nSanta onsite for free photos from 11am – 3pm on December 21\, 22\, 23. \nWhile Santa’s elves produce a lot of train sets each holiday season\, they can’t hold a candle to the quality and scale of the ones on display each year at the Washington State History Museum’s Model Train Festival. The event showcases model train displays designed and assembled by model train enthusiasts across the state. The displays occupy every floor of the museum and include the largest permanent model train layout in the state. Bring your camera!
URL:https://4dpnr.com/event/wa-state-history-museum-model-train-festival-7/
LOCATION:Washington State History Museum\, 1911 Pacific Ave\, Tacoma\, WA\, 98402\, United States
CATEGORIES:Model Train Show
ORGANIZER;CN="Rick Bacon":MAILTO:rnbx@harbornet.com
END:VEVENT
BEGIN:VEVENT
DTSTART;TZID=America/Los_Angeles:20151228T100000
DTEND;TZID=America/Los_Angeles:20151228T170000
DTSTAMP:20260424T140838
CREATED:20151020T162733Z
LAST-MODIFIED:20151020T162733Z
UID:7268-1451296800-1451322000@4dpnr.com
SUMMARY:WA State History Museum Model Train Festival
DESCRIPTION:20th Annual Model Train Festival at The Washington State History Museum in Tacoma\, December 21 thru January 1\, 10 AM to 5 PM (Closed Christmas Eve and Christmas Day). The model train festival is included with museum admission. \nSanta onsite for free photos from 11am – 3pm on December 21\, 22\, 23. \nWhile Santa’s elves produce a lot of train sets each holiday season\, they can’t hold a candle to the quality and scale of the ones on display each year at the Washington State History Museum’s Model Train Festival. The event showcases model train displays designed and assembled by model train enthusiasts across the state. The displays occupy every floor of the museum and include the largest permanent model train layout in the state. Bring your camera!
URL:https://4dpnr.com/event/wa-state-history-museum-model-train-festival-6/
LOCATION:Washington State History Museum\, 1911 Pacific Ave\, Tacoma\, WA\, 98402\, United States
CATEGORIES:Model Train Show
ORGANIZER;CN="Rick Bacon":MAILTO:rnbx@harbornet.com
END:VEVENT
BEGIN:VEVENT
DTSTART;TZID=America/Los_Angeles:20151227T100000
DTEND;TZID=America/Los_Angeles:20151227T170000
DTSTAMP:20260424T140838
CREATED:20151020T162631Z
LAST-MODIFIED:20151020T162631Z
UID:7267-1451210400-1451235600@4dpnr.com
SUMMARY:WA State History Museum Model Train Festival
DESCRIPTION:20th Annual Model Train Festival at The Washington State History Museum in Tacoma\, December 21 thru January 1\, 10 AM to 5 PM (Closed Christmas Eve and Christmas Day). The model train festival is included with museum admission. \nSanta onsite for free photos from 11am – 3pm on December 21\, 22\, 23. \nWhile Santa’s elves produce a lot of train sets each holiday season\, they can’t hold a candle to the quality and scale of the ones on display each year at the Washington State History Museum’s Model Train Festival. The event showcases model train displays designed and assembled by model train enthusiasts across the state. The displays occupy every floor of the museum and include the largest permanent model train layout in the state. Bring your camera!
URL:https://4dpnr.com/event/wa-state-history-museum-model-train-festival-5/
LOCATION:Washington State History Museum\, 1911 Pacific Ave\, Tacoma\, WA\, 98402\, United States
CATEGORIES:Model Train Show
ORGANIZER;CN="Rick Bacon":MAILTO:rnbx@harbornet.com
END:VEVENT
BEGIN:VEVENT
DTSTART;TZID=America/Los_Angeles:20151226T100000
DTEND;TZID=America/Los_Angeles:20151226T170000
DTSTAMP:20260424T140838
CREATED:20151020T162419Z
LAST-MODIFIED:20151020T162531Z
UID:7265-1451124000-1451149200@4dpnr.com
SUMMARY:WA State History Museum Model Train Festival
DESCRIPTION:20th Annual Model Train Festival at The Washington State History Museum in Tacoma\, December 21 thru January 1\, 10 AM to 5 PM (Closed Christmas Eve and Christmas Day). The model train festival is included with museum admission. \nSanta onsite for free photos from 11am – 3pm on December 21\, 22\, 23. \nWhile Santa’s elves produce a lot of train sets each holiday season\, they can’t hold a candle to the quality and scale of the ones on display each year at the Washington State History Museum’s Model Train Festival. The event showcases model train displays designed and assembled by model train enthusiasts across the state. The displays occupy every floor of the museum and include the largest permanent model train layout in the state. Bring your camera!
URL:https://4dpnr.com/event/wa-state-history-museum-model-train-festival-4/
LOCATION:Washington State History Museum\, 1911 Pacific Ave\, Tacoma\, WA\, 98402\, United States
CATEGORIES:Model Train Show
ORGANIZER;CN="Rick Bacon":MAILTO:rnbx@harbornet.com
END:VEVENT
BEGIN:VEVENT
DTSTART;TZID=America/Los_Angeles:20151223T100000
DTEND;TZID=America/Los_Angeles:20151223T170000
DTSTAMP:20260424T140838
CREATED:20151020T162322Z
LAST-MODIFIED:20151020T162322Z
UID:7264-1450864800-1450890000@4dpnr.com
SUMMARY:WA State History Museum Model Train Festival
DESCRIPTION:20th Annual Model Train Festival at The Washington State History Museum in Tacoma\, December 21 thru January 1\, 10 AM to 5 PM (Closed Christmas Eve and Christmas Day). The model train festival is included with museum admission. \nSanta onsite for free photos from 11am – 3pm on December 21\, 22\, 23. \nWhile Santa’s elves produce a lot of train sets each holiday season\, they can’t hold a candle to the quality and scale of the ones on display each year at the Washington State History Museum’s Model Train Festival. The event showcases model train displays designed and assembled by model train enthusiasts across the state. The displays occupy every floor of the museum and include the largest permanent model train layout in the state. Bring your camera!
URL:https://4dpnr.com/event/wa-state-history-museum-model-train-festival-3/
LOCATION:Washington State History Museum\, 1911 Pacific Ave\, Tacoma\, WA\, 98402\, United States
CATEGORIES:Model Train Show
ORGANIZER;CN="Rick Bacon":MAILTO:rnbx@harbornet.com
END:VEVENT
BEGIN:VEVENT
DTSTART;TZID=America/Los_Angeles:20151222T100000
DTEND;TZID=America/Los_Angeles:20151222T170000
DTSTAMP:20260424T140838
CREATED:20151020T162206Z
LAST-MODIFIED:20151020T162219Z
UID:7263-1450778400-1450803600@4dpnr.com
SUMMARY:WA State History Museum Model Train Festival
DESCRIPTION:20th Annual Model Train Festival at The Washington State History Museum in Tacoma\, December 21 thru January 1\, 10 AM to 5 PM (Closed Christmas Eve and Christmas Day). The model train festival is included with museum admission. \nSanta onsite for free photos from 11am – 3pm on December 21\, 22\, 23. \nWhile Santa’s elves produce a lot of train sets each holiday season\, they can’t hold a candle to the quality and scale of the ones on display each year at the Washington State History Museum’s Model Train Festival. The event showcases model train displays designed and assembled by model train enthusiasts across the state. The displays occupy every floor of the museum and include the largest permanent model train layout in the state. Bring your camera!
URL:https://4dpnr.com/event/wa-state-history-museum-model-train-festival-2/
LOCATION:Washington State History Museum\, 1911 Pacific Ave\, Tacoma\, WA\, 98402\, United States
CATEGORIES:Model Train Show
ORGANIZER;CN="Rick Bacon":MAILTO:rnbx@harbornet.com
END:VEVENT
BEGIN:VEVENT
DTSTART;TZID=America/Los_Angeles:20151221T100000
DTEND;TZID=America/Los_Angeles:20151221T170000
DTSTAMP:20260424T140838
CREATED:20151020T162001Z
LAST-MODIFIED:20151020T162019Z
UID:7260-1450692000-1450717200@4dpnr.com
SUMMARY:WA State History Museum Model Train Festival
DESCRIPTION:20th Annual Model Train Festival at The Washington State History Museum in Tacoma\, December 21 thru January 1\, 10 AM to 5 PM (Closed Christmas Eve and Christmas Day). The model train festival is included with museum admission. \nSanta onsite for free photos from 11am – 3pm on December 21\, 22\, 23. \nWhile Santa’s elves produce a lot of train sets each holiday season\, they can’t hold a candle to the quality and scale of the ones on display each year at the Washington State History Museum’s Model Train Festival. The event showcases model train displays designed and assembled by model train enthusiasts across the state. The displays occupy every floor of the museum and include the largest permanent model train layout in the state. Bring your camera!
URL:https://4dpnr.com/event/wa-state-history-museum-model-train-festival/
LOCATION:Washington State History Museum\, 1911 Pacific Ave\, Tacoma\, WA\, 98402\, United States
CATEGORIES:Model Train Show
ORGANIZER;CN="Rick Bacon":MAILTO:rnbx@harbornet.com
END:VEVENT
BEGIN:VEVENT
DTSTART;TZID=America/Los_Angeles:20151114T150000
DTEND;TZID=America/Los_Angeles:20151114T190000
DTSTAMP:20260424T140838
CREATED:20151112T010631Z
LAST-MODIFIED:20151112T010631Z
UID:7478-1447513200-1447527600@4dpnr.com
SUMMARY:Training for Christmas
DESCRIPTION:
URL:https://4dpnr.com/event/training-for-christmas/
LOCATION:Inglewood Presbyterian Church\, 7718 NE 141st Street\, Kirkland\, WA\, 98034\, United States
CATEGORIES:Model Train Show
ORGANIZER;CN="Tom Stephenson":MAILTO:tom@wTrak.org
END:VEVENT
BEGIN:VEVENT
DTSTART;TZID=America/Los_Angeles:20151107T100000
DTEND;TZID=America/Los_Angeles:20151107T160000
DTSTAMP:20260424T140838
CREATED:20151026T065014Z
LAST-MODIFIED:20151026T065014Z
UID:7285-1446890400-1446912000@4dpnr.com
SUMMARY:Inland Northwest FREE-mo-N Fall Show 2015
DESCRIPTION:Free Admission! The largest operating modular train layout in North Idaho.
URL:https://4dpnr.com/event/inland-northwest-free-mo-n-fall-show-2015-2/
LOCATION:Post Falls Library\, 821 N Spokane Street\, Post Falls\, ID\, 83854\, United States
CATEGORIES:Model Train Show
ORGANIZER;CN="Inland Northwest Free-mo-N":MAILTO:oregonshortline@gmail.com
END:VEVENT
BEGIN:VEVENT
DTSTART;TZID=America/Los_Angeles:20151106T120000
DTEND;TZID=America/Los_Angeles:20151106T170000
DTSTAMP:20260424T140838
CREATED:20151026T064854Z
LAST-MODIFIED:20151026T065049Z
UID:7281-1446811200-1446829200@4dpnr.com
SUMMARY:Inland Northwest FREE-mo-N Fall Show 2015
DESCRIPTION:Free Admission! The largest operating modular train layout in North Idaho.
URL:https://4dpnr.com/event/inland-northwest-free-mo-n-fall-show-2015/
LOCATION:Post Falls Library\, 821 N Spokane Street\, Post Falls\, ID\, 83854\, United States
CATEGORIES:Model Train Show
ORGANIZER;CN="Inland Northwest Free-mo-N":MAILTO:oregonshortline@gmail.com
END:VEVENT
BEGIN:VEVENT
DTSTART;TZID=America/Vancouver:20151018T100000
DTEND;TZID=America/Vancouver:20151018T170000
DTSTAMP:20260424T140838
CREATED:20150918T000807Z
LAST-MODIFIED:20150918T000807Z
UID:6920-1445162400-1445187600@4dpnr.com
SUMMARY:Maple Valley Operating Model Train Show
DESCRIPTION:17th Annual Maple Valley Operating Model Train Show. Suggested Donation: Adults $5\, Children (3-11) $2.
URL:https://4dpnr.com/event/maple-valley-operating-model-train-show-2/
LOCATION:Gracie Hansen Community Center\, 27132 Ravensdale Way\, Ravensdale\, WA\, 98051\, United States
CATEGORIES:Model Train Show
ORGANIZER;CN="Steve Hiester":MAILTO:hies_skel@hotmail.com
END:VEVENT
BEGIN:VEVENT
DTSTART;TZID=America/Vancouver:20151017T100000
DTEND;TZID=America/Vancouver:20151017T170000
DTSTAMP:20260424T140838
CREATED:20150918T000636Z
LAST-MODIFIED:20150918T000636Z
UID:6917-1445076000-1445101200@4dpnr.com
SUMMARY:Maple Valley Operating Model Train Show
DESCRIPTION:17th Annual Maple Valley Operating Model Train Show. Suggested Donation: Adults $5\, Children (3-11) $2.
URL:https://4dpnr.com/event/maple-valley-operating-model-train-show/
LOCATION:Gracie Hansen Community Center\, 27132 Ravensdale Way\, Ravensdale\, WA\, 98051\, United States
CATEGORIES:Model Train Show
ORGANIZER;CN="Steve Hiester":MAILTO:hies_skel@hotmail.com
END:VEVENT
BEGIN:VEVENT
DTSTART;TZID=America/Vancouver:20151004T100000
DTEND;TZID=America/Vancouver:20151004T160000
DTSTAMP:20260424T140838
CREATED:20150916T204729Z
LAST-MODIFIED:20150916T204748Z
UID:6906-1443952800-1443974400@4dpnr.com
SUMMARY:Lynden Lions Club Model Train Show
DESCRIPTION:Lynden Lions Club 31st Annual International Model Train Show. Northwest Washington Fair Grounds – Henry Jansen Building. Admission: Adults $7; Family (up to 6 people) $22; Seniors $6; 6-12 $5; under 6\, free with an adult.
URL:https://4dpnr.com/event/lynden-lions-club-train-show/
LOCATION:Northwest Washington Fair Grounds\, 1775 Front St\, Lynden\, WA\, 98264\, United States
CATEGORIES:Model Train Show
ORGANIZER;CN="Lynden Lions Club":MAILTO:rjkayser@msn.com
END:VEVENT
BEGIN:VEVENT
DTSTART;TZID=America/Vancouver:20151003T090000
DTEND;TZID=America/Vancouver:20151003T170000
DTSTAMP:20260424T140838
CREATED:20150916T204539Z
LAST-MODIFIED:20150916T204539Z
UID:6903-1443862800-1443891600@4dpnr.com
SUMMARY:Lynden Lions Club Model Train Show
DESCRIPTION:Lynden Lions Club 31st Annual International Model Train Show. Northwest Washington Fair Grounds – Henry Jansen Building. Admission: Adults $7; Family (up to 6 people) $22; Seniors $6; 6-12 $5; under 6\, free with an adult.
URL:https://4dpnr.com/event/lynden-lions-club-model-train-show/
LOCATION:Northwest Washington Fair Grounds\, 1775 Front St\, Lynden\, WA\, 98264\, United States
CATEGORIES:Model Train Show
ORGANIZER;CN="Lynden Lions Club":MAILTO:rjkayser@msn.com
END:VEVENT
BEGIN:VEVENT
DTSTART;VALUE=DATE:20150828
DTEND;VALUE=DATE:20150831
DTSTAMP:20260424T140838
CREATED:20150809T000422Z
LAST-MODIFIED:20150916T200723Z
UID:6591-1440720000-1440979199@4dpnr.com
SUMMARY:National Train Show
DESCRIPTION:
URL:https://4dpnr.com/event/national-train-show/
LOCATION:Portland Expo Center\, 2060 North Marine Dr.\, Portland\, OR\, 97217\, United States
CATEGORIES:Model Train Show
END:VEVENT
END:VCALENDAR