BEGIN:VCALENDAR
VERSION:2.0
PRODID:-//Welcome to the 4th Division - ECPv6.15.20//NONSGML v1.0//EN
CALSCALE:GREGORIAN
METHOD:PUBLISH
X-ORIGINAL-URL:https://4dpnr.com
X-WR-CALDESC:Events for Welcome to the 4th Division
REFRESH-INTERVAL;VALUE=DURATION:PT1H
X-Robots-Tag:noindex
X-PUBLISHED-TTL:PT1H
BEGIN:VTIMEZONE
TZID:America/Los_Angeles
BEGIN:DAYLIGHT
TZOFFSETFROM:-0800
TZOFFSETTO:-0700
TZNAME:PDT
DTSTART:20140309T100000
END:DAYLIGHT
BEGIN:STANDARD
TZOFFSETFROM:-0700
TZOFFSETTO:-0800
TZNAME:PST
DTSTART:20141102T090000
END:STANDARD
BEGIN:DAYLIGHT
TZOFFSETFROM:-0800
TZOFFSETTO:-0700
TZNAME:PDT
DTSTART:20150308T100000
END:DAYLIGHT
BEGIN:STANDARD
TZOFFSETFROM:-0700
TZOFFSETTO:-0800
TZNAME:PST
DTSTART:20151101T090000
END:STANDARD
BEGIN:DAYLIGHT
TZOFFSETFROM:-0800
TZOFFSETTO:-0700
TZNAME:PDT
DTSTART:20160313T100000
END:DAYLIGHT
BEGIN:STANDARD
TZOFFSETFROM:-0700
TZOFFSETTO:-0800
TZNAME:PST
DTSTART:20161106T090000
END:STANDARD
BEGIN:DAYLIGHT
TZOFFSETFROM:-0800
TZOFFSETTO:-0700
TZNAME:PDT
DTSTART:20170312T100000
END:DAYLIGHT
BEGIN:STANDARD
TZOFFSETFROM:-0700
TZOFFSETTO:-0800
TZNAME:PST
DTSTART:20171105T090000
END:STANDARD
BEGIN:DAYLIGHT
TZOFFSETFROM:-0800
TZOFFSETTO:-0700
TZNAME:PDT
DTSTART:20180311T100000
END:DAYLIGHT
BEGIN:STANDARD
TZOFFSETFROM:-0700
TZOFFSETTO:-0800
TZNAME:PST
DTSTART:20181104T090000
END:STANDARD
BEGIN:DAYLIGHT
TZOFFSETFROM:-0800
TZOFFSETTO:-0700
TZNAME:PDT
DTSTART:20190310T100000
END:DAYLIGHT
BEGIN:STANDARD
TZOFFSETFROM:-0700
TZOFFSETTO:-0800
TZNAME:PST
DTSTART:20191103T090000
END:STANDARD
BEGIN:DAYLIGHT
TZOFFSETFROM:-0800
TZOFFSETTO:-0700
TZNAME:PDT
DTSTART:20200308T100000
END:DAYLIGHT
BEGIN:STANDARD
TZOFFSETFROM:-0700
TZOFFSETTO:-0800
TZNAME:PST
DTSTART:20201101T090000
END:STANDARD
BEGIN:DAYLIGHT
TZOFFSETFROM:-0800
TZOFFSETTO:-0700
TZNAME:PDT
DTSTART:20210314T100000
END:DAYLIGHT
BEGIN:STANDARD
TZOFFSETFROM:-0700
TZOFFSETTO:-0800
TZNAME:PST
DTSTART:20211107T090000
END:STANDARD
END:VTIMEZONE
BEGIN:VTIMEZONE
TZID:America/Vancouver
BEGIN:DAYLIGHT
TZOFFSETFROM:-0800
TZOFFSETTO:-0700
TZNAME:PDT
DTSTART:20140309T100000
END:DAYLIGHT
BEGIN:STANDARD
TZOFFSETFROM:-0700
TZOFFSETTO:-0800
TZNAME:PST
DTSTART:20141102T090000
END:STANDARD
BEGIN:DAYLIGHT
TZOFFSETFROM:-0800
TZOFFSETTO:-0700
TZNAME:PDT
DTSTART:20150308T100000
END:DAYLIGHT
BEGIN:STANDARD
TZOFFSETFROM:-0700
TZOFFSETTO:-0800
TZNAME:PST
DTSTART:20151101T090000
END:STANDARD
BEGIN:DAYLIGHT
TZOFFSETFROM:-0800
TZOFFSETTO:-0700
TZNAME:PDT
DTSTART:20160313T100000
END:DAYLIGHT
BEGIN:STANDARD
TZOFFSETFROM:-0700
TZOFFSETTO:-0800
TZNAME:PST
DTSTART:20161106T090000
END:STANDARD
END:VTIMEZONE
BEGIN:VEVENT
DTSTART;TZID=America/Los_Angeles:20200926T100000
DTEND;TZID=America/Los_Angeles:20200926T113000
DTSTAMP:20260424T003913
CREATED:20200712T153345Z
LAST-MODIFIED:20200712T153345Z
UID:18892-1601114400-1601119800@4dpnr.com
SUMMARY:4D Virtual Layout Tour
DESCRIPTION:Scott Buckley and Steve Cox\nMeeting ID: 871 5863 0632\nPassword: 305377
URL:https://4dpnr.com/event/4d-virtual-layout-tour-4/
CATEGORIES:Layout Tour
END:VEVENT
BEGIN:VEVENT
DTSTART;TZID=America/Los_Angeles:20200912T100000
DTEND;TZID=America/Los_Angeles:20200912T113000
DTSTAMP:20260424T003913
CREATED:20200712T153117Z
LAST-MODIFIED:20200712T153616Z
UID:18889-1599904800-1599910200@4dpnr.com
SUMMARY:4D Virtual Layout Tour
DESCRIPTION:Brian Ferris and Janice & Barry Dupler\nMeeting ID: 885 1361 3667\nPassword: 786815
URL:https://4dpnr.com/event/4d-virtual-layout-tour-3/
CATEGORIES:Layout Tour
END:VEVENT
BEGIN:VEVENT
DTSTART;TZID=America/Los_Angeles:20200822T100000
DTEND;TZID=America/Los_Angeles:20200822T113000
DTSTAMP:20260424T003913
CREATED:20200712T152947Z
LAST-MODIFIED:20200712T153221Z
UID:18887-1598090400-1598095800@4dpnr.com
SUMMARY:4D Virtual Layout Tour
DESCRIPTION:Al Lowe and TBD\nMeeting ID: 876 2469 7618\nPassword: 272952
URL:https://4dpnr.com/event/4d-virtual-layout-tour-2/
CATEGORIES:Layout Tour
END:VEVENT
BEGIN:VEVENT
DTSTART;TZID=America/Los_Angeles:20200808T093000
DTEND;TZID=America/Los_Angeles:20200808T113000
DTSTAMP:20260424T003913
CREATED:20200712T152800Z
LAST-MODIFIED:20200712T152820Z
UID:18885-1596879000-1596886200@4dpnr.com
SUMMARY:4D Board Meeting & Layout Tour
DESCRIPTION:4D Board meeting\, followed by Greg Price layout tour\nMeeting ID: 830 0997 2278\nPassword: 486837
URL:https://4dpnr.com/event/4d-board-meeting-layout-tour/
CATEGORIES:BoD Meeting,Layout Tour
END:VEVENT
BEGIN:VEVENT
DTSTART;TZID=America/Los_Angeles:20200725T100000
DTEND;TZID=America/Los_Angeles:20200725T113000
DTSTAMP:20260424T003913
CREATED:20200712T152612Z
LAST-MODIFIED:20200725T030002Z
UID:18883-1595671200-1595676600@4dpnr.com
SUMMARY:4D Virtual Layout Tour
DESCRIPTION:Russ Segner and Ray Wheeler\nMeeting ID: 897 6179 2543\nPasscode: 872682
URL:https://4dpnr.com/event/4d-virtual-layout-tour/
CATEGORIES:Layout Tour
END:VEVENT
BEGIN:VEVENT
DTSTART;TZID=America/Los_Angeles:20200620T100000
DTEND;TZID=America/Los_Angeles:20200620T113000
DTSTAMP:20260424T003913
CREATED:20200616T021224Z
LAST-MODIFIED:20200616T021224Z
UID:18797-1592647200-1592652600@4dpnr.com
SUMMARY:4D Layout Tours
DESCRIPTION:Joe Green will give a tour of his C&O Ryder Gap Subdivision\, and Byron Osborn will give a tour of the Boeing Club layout.
URL:https://4dpnr.com/event/4d-layout-tours/
CATEGORIES:Layout Tour
END:VEVENT
BEGIN:VEVENT
DTSTART;TZID=America/Los_Angeles:20200606T110000
DTEND;TZID=America/Los_Angeles:20200606T123000
DTSTAMP:20260424T003913
CREATED:20200605T024340Z
LAST-MODIFIED:20200605T024340Z
UID:18754-1591441200-1591446600@4dpnr.com
SUMMARY:Online Layout Tours
DESCRIPTION:Online layout tours of Bill Sorinsin (HO) and Janice & Barry Dupler (HO/HOn3).  Zoom meeting information was sent in a Grab Iron email.
URL:https://4dpnr.com/event/online-layout-tours/
CATEGORIES:Layout Tour
END:VEVENT
BEGIN:VEVENT
DTSTART;VALUE=DATE:20200418
DTEND;VALUE=DATE:20200420
DTSTAMP:20260424T003913
CREATED:20200229T171907Z
LAST-MODIFIED:20200312T040235Z
UID:18395-1587168000-1587340799@4dpnr.com
SUMMARY:POSTPONED - Tacoma Area Model Railroad Tour
DESCRIPTION:Postponed until further notice due to the COVID-19 health issue
URL:https://4dpnr.com/event/tacoma-area-model-railroad-tour-2/
LOCATION:Rob’s Trains and Hobbies\, 5423 South Tacoma Way\, Tacoma\, WA\, 98409\, United States
CATEGORIES:Layout Tour
END:VEVENT
BEGIN:VEVENT
DTSTART;TZID=America/Los_Angeles:20190511T100000
DTEND;TZID=America/Los_Angeles:20190511T140000
DTSTAMP:20260424T003913
CREATED:20190226T161547Z
LAST-MODIFIED:20190226T161547Z
UID:17216-1557568800-1557583200@4dpnr.com
SUMMARY:National Train Day
DESCRIPTION:Swamp Creek and Western Railroad Association Open House
URL:https://4dpnr.com/event/national-train-day/
LOCATION:Edmonds Station\, 210 Railroad Avenue\, Edmonds\, WA\, 98020\, United States
CATEGORIES:Layout Tour
END:VEVENT
BEGIN:VEVENT
DTSTART;TZID=America/Los_Angeles:20180414T090000
DTEND;TZID=America/Los_Angeles:20180414T160000
DTSTAMP:20260424T003913
CREATED:20180322T141457Z
LAST-MODIFIED:20180322T141609Z
UID:15887-1523696400-1523721600@4dpnr.com
SUMMARY:Tacoma Layout Tours
DESCRIPTION:“There will be a Tacoma area layout tour taking place on April 14th. It will run from 9:00am to 4:00pm. There are currently 6 layouts with a potential for 2 more. If you are interested in attending\, contact Greg Price via email at:  fishyweather@gmail.com Information and directions will be sent to you by Friday the 13th.” \nGreg Price\nMatheson & Western RR
URL:https://4dpnr.com/event/tacoma-layout-tours/
CATEGORIES:Layout Tour
END:VEVENT
BEGIN:VEVENT
DTSTART;TZID=America/Los_Angeles:20170422T100000
DTEND;TZID=America/Los_Angeles:20170422T160000
DTSTAMP:20260424T003913
CREATED:20170215T232637Z
LAST-MODIFIED:20170215T232637Z
UID:14423-1492855200-1492876800@4dpnr.com
SUMMARY:Olympia Model Railroad Layout Tour
DESCRIPTION:15th Annual Layout Tour. Contact Scott (see organizer details) for additional info.
URL:https://4dpnr.com/event/olympia-model-railroad-layout-tour/
CATEGORIES:Layout Tour
ORGANIZER;CN="Scott Buckley":MAILTO:sbuckley54@comcast.net
END:VEVENT
BEGIN:VEVENT
DTSTART;TZID=America/Los_Angeles:20170305T120000
DTEND;TZID=America/Los_Angeles:20170305T160000
DTSTAMP:20260424T003913
CREATED:20170219T222954Z
LAST-MODIFIED:20170219T222954Z
UID:14498-1488715200-1488729600@4dpnr.com
SUMMARY:River City Modelers Open House
DESCRIPTION:
URL:https://4dpnr.com/event/river-city-modelers-open-house-2/
LOCATION:River City Modelers\, 1130 East Sprague Avenue\, Spokane\, WA\, 99202\, United States
CATEGORIES:Layout Tour
ORGANIZER;CN="River City Modelers":MAILTO:RCMinfonow@gmail.com
END:VEVENT
BEGIN:VEVENT
DTSTART;TZID=America/Los_Angeles:20170304T160000
DTEND;TZID=America/Los_Angeles:20170304T200000
DTSTAMP:20260424T003913
CREATED:20170219T222915Z
LAST-MODIFIED:20170219T222915Z
UID:14496-1488643200-1488657600@4dpnr.com
SUMMARY:River City Modelers Open House
DESCRIPTION:
URL:https://4dpnr.com/event/river-city-modelers-open-house/
LOCATION:River City Modelers\, 1130 East Sprague Avenue\, Spokane\, WA\, 99202\, United States
CATEGORIES:Layout Tour
ORGANIZER;CN="River City Modelers":MAILTO:RCMinfonow@gmail.com
END:VEVENT
BEGIN:VEVENT
DTSTART;TZID=America/Los_Angeles:20161231T100000
DTEND;TZID=America/Los_Angeles:20161231T160000
DTSTAMP:20260424T003913
CREATED:20161224T200808Z
LAST-MODIFIED:20161224T201039Z
UID:13795-1483178400-1483200000@4dpnr.com
SUMMARY:PNRA and BEMRRC Holiday Open House
DESCRIPTION:PNRA and BEMRRC Holiday Open House
URL:https://4dpnr.com/event/pnra-and-bemrrc-holiday-open-house-6/
LOCATION:Pacific Northwest Railroad Archive\, 425 SW 153rd Street\, Burien\, WA\, 98166\, United States
CATEGORIES:Layout Tour,Museum or Historical Archive Event
ORGANIZER;CN="Gary Tarbox":MAILTO:info@PNRArchive.comcastbiz.net
END:VEVENT
BEGIN:VEVENT
DTSTART;TZID=America/Los_Angeles:20161230T120000
DTEND;TZID=America/Los_Angeles:20161230T180000
DTSTAMP:20260424T003913
CREATED:20161224T200731Z
LAST-MODIFIED:20161224T201032Z
UID:13793-1483099200-1483120800@4dpnr.com
SUMMARY:PNRA and BEMRRC Holiday Open House
DESCRIPTION:PNRA and BEMRRC Holiday Open House
URL:https://4dpnr.com/event/pnra-and-bemrrc-holiday-open-house-5/
LOCATION:Pacific Northwest Railroad Archive\, 425 SW 153rd Street\, Burien\, WA\, 98166\, United States
CATEGORIES:Layout Tour,Museum or Historical Archive Event
ORGANIZER;CN="Gary Tarbox":MAILTO:info@PNRArchive.comcastbiz.net
END:VEVENT
BEGIN:VEVENT
DTSTART;TZID=America/Los_Angeles:20161229T120000
DTEND;TZID=America/Los_Angeles:20161229T180000
DTSTAMP:20260424T003913
CREATED:20161224T200702Z
LAST-MODIFIED:20161224T201026Z
UID:13791-1483012800-1483034400@4dpnr.com
SUMMARY:PNRA and BEMRRC Holiday Open House
DESCRIPTION:PNRA and BEMRRC Holiday Open House
URL:https://4dpnr.com/event/pnra-and-bemrrc-holiday-open-house-4/
LOCATION:Pacific Northwest Railroad Archive\, 425 SW 153rd Street\, Burien\, WA\, 98166\, United States
CATEGORIES:Layout Tour,Museum or Historical Archive Event
ORGANIZER;CN="Gary Tarbox":MAILTO:info@PNRArchive.comcastbiz.net
END:VEVENT
BEGIN:VEVENT
DTSTART;TZID=America/Los_Angeles:20161228T120000
DTEND;TZID=America/Los_Angeles:20161228T180000
DTSTAMP:20260424T003913
CREATED:20161224T200628Z
LAST-MODIFIED:20161224T201019Z
UID:13789-1482926400-1482948000@4dpnr.com
SUMMARY:PNRA and BEMRRC Holiday Open House
DESCRIPTION:PNRA and BEMRRC Holiday Open House
URL:https://4dpnr.com/event/pnra-and-bemrrc-holiday-open-house-3/
LOCATION:Pacific Northwest Railroad Archive\, 425 SW 153rd Street\, Burien\, WA\, 98166\, United States
CATEGORIES:Layout Tour,Museum or Historical Archive Event
ORGANIZER;CN="Gary Tarbox":MAILTO:info@PNRArchive.comcastbiz.net
END:VEVENT
BEGIN:VEVENT
DTSTART;TZID=America/Los_Angeles:20161227T120000
DTEND;TZID=America/Los_Angeles:20161227T180000
DTSTAMP:20260424T003913
CREATED:20161224T200553Z
LAST-MODIFIED:20161224T201011Z
UID:13787-1482840000-1482861600@4dpnr.com
SUMMARY:PNRA and BEMRRC Holiday Open House
DESCRIPTION:PNRA and BEMRRC Holiday Open House
URL:https://4dpnr.com/event/pnra-and-bemrrc-holiday-open-house-2/
LOCATION:Pacific Northwest Railroad Archive\, 425 SW 153rd Street\, Burien\, WA\, 98166\, United States
CATEGORIES:Layout Tour,Museum or Historical Archive Event
ORGANIZER;CN="Gary Tarbox":MAILTO:info@PNRArchive.comcastbiz.net
END:VEVENT
BEGIN:VEVENT
DTSTART;TZID=America/Los_Angeles:20161226T120000
DTEND;TZID=America/Los_Angeles:20161226T180000
DTSTAMP:20260424T003913
CREATED:20161224T200515Z
LAST-MODIFIED:20161224T201002Z
UID:13785-1482753600-1482775200@4dpnr.com
SUMMARY:PNRA and BEMRRC Holiday Open House
DESCRIPTION:PNRA and BEMRRC Holiday Open House
URL:https://4dpnr.com/event/pnra-and-bemrrc-holiday-open-house/
LOCATION:Pacific Northwest Railroad Archive\, 425 SW 153rd Street\, Burien\, WA\, 98166\, United States
CATEGORIES:Layout Tour,Museum or Historical Archive Event
ORGANIZER;CN="Gary Tarbox":MAILTO:info@PNRArchive.comcastbiz.net
END:VEVENT
BEGIN:VEVENT
DTSTART;TZID=America/Los_Angeles:20161001T130000
DTEND;TZID=America/Los_Angeles:20161001T170000
DTSTAMP:20260424T003913
CREATED:20160926T184433Z
LAST-MODIFIED:20160926T184518Z
UID:12952-1475326800-1475341200@4dpnr.com
SUMMARY:Eastside Layout Tour
DESCRIPTION:Click here for info
URL:https://4dpnr.com/event/eastside-layout-tour-2/
CATEGORIES:Layout Tour
ORGANIZER;CN="Russ Segner":MAILTO:russseg@gmail.com
END:VEVENT
BEGIN:VEVENT
DTSTART;TZID=America/Los_Angeles:20160828T100000
DTEND;TZID=America/Los_Angeles:20160828T170000
DTSTAMP:20260424T003913
CREATED:20160812T043942Z
LAST-MODIFIED:20160817T071457Z
UID:12620-1472378400-1472403600@4dpnr.com
SUMMARY:Eastside Layout Tour
DESCRIPTION:Click here for info
URL:https://4dpnr.com/event/eastside-layout-tour/
CATEGORIES:Layout Tour
ORGANIZER;CN="Russ Segner":MAILTO:russseg@gmail.com
END:VEVENT
BEGIN:VEVENT
DTSTART;TZID=America/Los_Angeles:20160430T100000
DTEND;TZID=America/Los_Angeles:20160430T160000
DTSTAMP:20260424T003913
CREATED:20160118T234648Z
LAST-MODIFIED:20160118T234833Z
UID:7979-1462010400-1462032000@4dpnr.com
SUMMARY:Olympia Model Railroad Layout Tour
DESCRIPTION:14th Annual Layout Tour. Contact Scott (see organizer details) for additional info.
URL:https://4dpnr.com/event/olympia-layout-tour/
CATEGORIES:Layout Tour
ORGANIZER;CN="Scott Buckley":MAILTO:sbuckley54@comcast.net
END:VEVENT
BEGIN:VEVENT
DTSTART;TZID=America/Los_Angeles:20151129T100000
DTEND;TZID=America/Los_Angeles:20151129T160000
DTSTAMP:20260424T003913
CREATED:20151125T215003Z
LAST-MODIFIED:20151125T215003Z
UID:7636-1448791200-1448812800@4dpnr.com
SUMMARY:Cloud City and Western Annual Open House
DESCRIPTION:
URL:https://4dpnr.com/event/cloud-city-and-western-annual-open-house-2/
LOCATION:Jack Tingstad House\, 508 NW Broadway Ave\, Coupeville\, WA\, 98239\, United States
CATEGORIES:Layout Tour
ORGANIZER;CN="Rich Blake":MAILTO:svw_organizer@4dpnr.com
END:VEVENT
BEGIN:VEVENT
DTSTART;TZID=America/Los_Angeles:20151128T100000
DTEND;TZID=America/Los_Angeles:20151128T160000
DTSTAMP:20260424T003913
CREATED:20151125T214805Z
LAST-MODIFIED:20151125T214848Z
UID:7633-1448704800-1448726400@4dpnr.com
SUMMARY:Cloud City and Western Annual Open House
DESCRIPTION:
URL:https://4dpnr.com/event/cloud-city-and-western-annual-open-house/
LOCATION:Jack Tingstad House\, 508 NW Broadway Ave\, Coupeville\, WA\, 98239\, United States
CATEGORIES:Layout Tour
ORGANIZER;CN="Rich Blake":MAILTO:svw_organizer@4dpnr.com
END:VEVENT
BEGIN:VEVENT
DTSTART;TZID=America/Vancouver:20150604T190000
DTEND;TZID=America/Vancouver:20150604T210000
DTSTAMP:20260424T003913
CREATED:20150606T072240Z
LAST-MODIFIED:20150916T200309Z
UID:5495-1433444400-1433451600@4dpnr.com
SUMMARY:Seattle-North Annual Train Layout Room Tour
DESCRIPTION:See four fabulous train layout rooms in Edmonds and Lake Forest Park.
URL:https://4dpnr.com/event/seattle-north-annual-train-layout-room-tour/
LOCATION:Ronald United Methodist Church\, 17839 Aurora Ave N\, Shoreline\, WA\, 98133\, United States
CATEGORIES:Layout Tour
ORGANIZER;CN="Jeff Moorman":MAILTO:kb7rr@arrl.net
END:VEVENT
END:VCALENDAR