BEGIN:VCALENDAR
VERSION:2.0
PRODID:-//Welcome to the 4th Division - ECPv6.15.20//NONSGML v1.0//EN
CALSCALE:GREGORIAN
METHOD:PUBLISH
X-WR-CALNAME:Welcome to the 4th Division
X-ORIGINAL-URL:https://4dpnr.com
X-WR-CALDESC:Events for Welcome to the 4th Division
REFRESH-INTERVAL;VALUE=DURATION:PT1H
X-Robots-Tag:noindex
X-PUBLISHED-TTL:PT1H
BEGIN:VTIMEZONE
TZID:America/Los_Angeles
BEGIN:DAYLIGHT
TZOFFSETFROM:-0800
TZOFFSETTO:-0700
TZNAME:PDT
DTSTART:20140309T100000
END:DAYLIGHT
BEGIN:STANDARD
TZOFFSETFROM:-0700
TZOFFSETTO:-0800
TZNAME:PST
DTSTART:20141102T090000
END:STANDARD
BEGIN:DAYLIGHT
TZOFFSETFROM:-0800
TZOFFSETTO:-0700
TZNAME:PDT
DTSTART:20150308T100000
END:DAYLIGHT
BEGIN:STANDARD
TZOFFSETFROM:-0700
TZOFFSETTO:-0800
TZNAME:PST
DTSTART:20151101T090000
END:STANDARD
BEGIN:DAYLIGHT
TZOFFSETFROM:-0800
TZOFFSETTO:-0700
TZNAME:PDT
DTSTART:20160313T100000
END:DAYLIGHT
BEGIN:STANDARD
TZOFFSETFROM:-0700
TZOFFSETTO:-0800
TZNAME:PST
DTSTART:20161106T090000
END:STANDARD
BEGIN:DAYLIGHT
TZOFFSETFROM:-0800
TZOFFSETTO:-0700
TZNAME:PDT
DTSTART:20170312T100000
END:DAYLIGHT
BEGIN:STANDARD
TZOFFSETFROM:-0700
TZOFFSETTO:-0800
TZNAME:PST
DTSTART:20171105T090000
END:STANDARD
BEGIN:DAYLIGHT
TZOFFSETFROM:-0800
TZOFFSETTO:-0700
TZNAME:PDT
DTSTART:20180311T100000
END:DAYLIGHT
BEGIN:STANDARD
TZOFFSETFROM:-0700
TZOFFSETTO:-0800
TZNAME:PST
DTSTART:20181104T090000
END:STANDARD
BEGIN:DAYLIGHT
TZOFFSETFROM:-0800
TZOFFSETTO:-0700
TZNAME:PDT
DTSTART:20190310T100000
END:DAYLIGHT
BEGIN:STANDARD
TZOFFSETFROM:-0700
TZOFFSETTO:-0800
TZNAME:PST
DTSTART:20191103T090000
END:STANDARD
BEGIN:DAYLIGHT
TZOFFSETFROM:-0800
TZOFFSETTO:-0700
TZNAME:PDT
DTSTART:20200308T100000
END:DAYLIGHT
BEGIN:STANDARD
TZOFFSETFROM:-0700
TZOFFSETTO:-0800
TZNAME:PST
DTSTART:20201101T090000
END:STANDARD
END:VTIMEZONE
BEGIN:VTIMEZONE
TZID:America/Vancouver
BEGIN:DAYLIGHT
TZOFFSETFROM:-0800
TZOFFSETTO:-0700
TZNAME:PDT
DTSTART:20140309T100000
END:DAYLIGHT
BEGIN:STANDARD
TZOFFSETFROM:-0700
TZOFFSETTO:-0800
TZNAME:PST
DTSTART:20141102T090000
END:STANDARD
BEGIN:DAYLIGHT
TZOFFSETFROM:-0800
TZOFFSETTO:-0700
TZNAME:PDT
DTSTART:20150308T100000
END:DAYLIGHT
BEGIN:STANDARD
TZOFFSETFROM:-0700
TZOFFSETTO:-0800
TZNAME:PST
DTSTART:20151101T090000
END:STANDARD
BEGIN:DAYLIGHT
TZOFFSETFROM:-0800
TZOFFSETTO:-0700
TZNAME:PDT
DTSTART:20160313T100000
END:DAYLIGHT
BEGIN:STANDARD
TZOFFSETFROM:-0700
TZOFFSETTO:-0800
TZNAME:PST
DTSTART:20161106T090000
END:STANDARD
END:VTIMEZONE
BEGIN:VEVENT
DTSTART;TZID=America/Los_Angeles:20190622T090000
DTEND;TZID=America/Los_Angeles:20190622T160000
DTSTAMP:20260423T214422
CREATED:20190608T124717Z
LAST-MODIFIED:20190608T124717Z
UID:17487-1561194000-1561219200@4dpnr.com
SUMMARY:Spring Meet 2019
DESCRIPTION:
URL:https://4dpnr.com/event/spring-meet-2019/
LOCATION:Tacoma Community College\, 6501 S. 19th St\, Tacoma\, WA\, 98466\, United States
CATEGORIES:Clinic,Convention or Meet
END:VEVENT
BEGIN:VEVENT
DTSTART;VALUE=DATE:20190529
DTEND;VALUE=DATE:20190603
DTSTAMP:20260423T214422
CREATED:20181223T043949Z
LAST-MODIFIED:20181223T043949Z
UID:16829-1559088000-1559519999@4dpnr.com
SUMMARY:Kootenay Express 2019\, PNR Convention
DESCRIPTION:
URL:https://4dpnr.com/event/kootenay-express-2019-pnr-convention/
LOCATION:Prestige Inn\, 209 Van Horne Street South\, Cranbrook\, British Columbia\, Canada
CATEGORIES:Convention or Meet
END:VEVENT
BEGIN:VEVENT
DTSTART;VALUE=DATE:20190421
DTEND;VALUE=DATE:20190425
DTSTAMP:20260423T214422
CREATED:20190916T014527Z
LAST-MODIFIED:20190916T014527Z
UID:17865-1555804800-1556150399@4dpnr.com
SUMMARY:2020 PNR Convention
DESCRIPTION:Valley River Inn\, Eugene OR
URL:https://4dpnr.com/event/2020-pnr-convention/
LOCATION:WA
CATEGORIES:Convention or Meet
END:VEVENT
BEGIN:VEVENT
DTSTART;VALUE=DATE:20190406
DTEND;VALUE=DATE:20190407
DTSTAMP:20260423T214422
CREATED:20181221T174446Z
LAST-MODIFIED:20181221T174446Z
UID:16795-1554508800-1554595199@4dpnr.com
SUMMARY:Sn3 Symposium
DESCRIPTION:
URL:https://4dpnr.com/event/sn3-symposium-3/
LOCATION:Sheraton Bellevue\, 100 112th Ave NE\, Bellevue\, WA\, 98004\, United States
CATEGORIES:Clinic,Convention or Meet
ORGANIZER;CN="Robin Peel":MAILTO:rapeel@me.com
END:VEVENT
BEGIN:VEVENT
DTSTART;VALUE=DATE:20190405
DTEND;VALUE=DATE:20190406
DTSTAMP:20260423T214422
CREATED:20181221T174314Z
LAST-MODIFIED:20181221T174542Z
UID:16793-1554422400-1554508799@4dpnr.com
SUMMARY:Sn3 Symposium
DESCRIPTION:
URL:https://4dpnr.com/event/sn3-symposium-2/
LOCATION:Sheraton Bellevue\, 100 112th Ave NE\, Bellevue\, WA\, 98004\, United States
CATEGORIES:Clinic,Convention or Meet
ORGANIZER;CN="Robin Peel":MAILTO:rapeel@me.com
END:VEVENT
BEGIN:VEVENT
DTSTART;VALUE=DATE:20190404
DTEND;VALUE=DATE:20190405
DTSTAMP:20260423T214422
CREATED:20181221T173718Z
LAST-MODIFIED:20181221T174525Z
UID:16790-1554336000-1554422399@4dpnr.com
SUMMARY:Sn3 Symposium
DESCRIPTION:
URL:https://4dpnr.com/event/sn3-symposium/
LOCATION:Sheraton Bellevue\, 100 112th Ave NE\, Bellevue\, WA\, 98004\, United States
CATEGORIES:Clinic,Convention or Meet
ORGANIZER;CN="Robin Peel":MAILTO:rapeel@me.com
END:VEVENT
BEGIN:VEVENT
DTSTART;VALUE=DATE:20170607
DTEND;VALUE=DATE:20170611
DTSTAMP:20260423T214422
CREATED:20170214T175710Z
LAST-MODIFIED:20170214T175710Z
UID:14416-1496793600-1497139199@4dpnr.com
SUMMARY:Spokane Falls Express\, PNR Convention 2017
DESCRIPTION:
URL:https://4dpnr.com/event/spokane-falls-express-pnr-convention-2017/
LOCATION:Red Lion Hotel\, W. 303  North River Drive\, Spokane\, WA\, 99201\, United States
CATEGORIES:Convention or Meet
END:VEVENT
BEGIN:VEVENT
DTSTART;VALUE=DATE:20170505
DTEND;VALUE=DATE:20170508
DTSTAMP:20260423T214422
CREATED:20170214T175216Z
LAST-MODIFIED:20170214T175216Z
UID:14413-1493942400-1494201599@4dpnr.com
SUMMARY:Railway Modellers Meet
DESCRIPTION:
URL:https://4dpnr.com/event/railway-modellers-meet/
LOCATION:Simon Fraser University\, 8888 University Dr\, Burnaby\, BC\, V5A 1S6\, Canada
CATEGORIES:Convention or Meet
END:VEVENT
BEGIN:VEVENT
DTSTART;TZID=America/Los_Angeles:20170415T090000
DTEND;TZID=America/Los_Angeles:20170415T160000
DTSTAMP:20260423T214422
CREATED:20170219T211747Z
LAST-MODIFIED:20170219T211747Z
UID:14471-1492246800-1492272000@4dpnr.com
SUMMARY:4D Spring Meet
DESCRIPTION:Additional details will be added.
URL:https://4dpnr.com/event/4d-spring-meet-2/
LOCATION:Sheraton Bellevue\, 100 112th Ave NE\, Bellevue\, WA\, 98004\, United States
CATEGORIES:Convention or Meet
ORGANIZER;CN="Russ Segner":MAILTO:russseg@gmail.com
END:VEVENT
BEGIN:VEVENT
DTSTART;TZID=America/Los_Angeles:20170401T100000
DTEND;TZID=America/Los_Angeles:20170401T170000
DTSTAMP:20260423T214422
CREATED:20170219T223911Z
LAST-MODIFIED:20170219T223911Z
UID:14502-1491040800-1491066000@4dpnr.com
SUMMARY:Northwest Santa-Fe Mini-Meet
DESCRIPTION:18th annual Mini-Meet of Santa Fe Railway fans and modelers in the Northwest. The Boeing Employees Model Railroad Club’s large\, double-deck HO layout (under construction) is in the same building and will be open for viewing during breaks. Don’t forget to bring your favorite Santa Fe models to show\, as well as renting a table for any Santa Fe-related items that you’d like to sell.
URL:https://4dpnr.com/event/northwest-santa-fe-mini-meet-2/
LOCATION:Pacific Northwest Railroad Archive\, 425 SW 153rd Street\, Burien\, WA\, 98166\, United States
CATEGORIES:Convention or Meet
ORGANIZER;CN="John Thompson":MAILTO:JThomp1945@aol.com
END:VEVENT
BEGIN:VEVENT
DTSTART;TZID=America/Los_Angeles:20161106T100000
DTEND;TZID=America/Los_Angeles:20161106T170000
DTSTAMP:20260423T214422
CREATED:20161026T190921Z
LAST-MODIFIED:20161026T190921Z
UID:13259-1478426400-1478451600@4dpnr.com
SUMMARY:Vancouver Train Expo
DESCRIPTION:
URL:https://4dpnr.com/event/vancouver-train-expo-2/
LOCATION:Pacific National Exhibition\, 2901 E Hastings St\, Vancouver\, BC\, V5K 5J1\, Canada
CATEGORIES:Convention or Meet,Model Train Show
ORGANIZER;CN="Chairman Vancouver Train Expo":MAILTO:chairman@vancouvertrainexpo.ca
END:VEVENT
BEGIN:VEVENT
DTSTART;TZID=America/Los_Angeles:20161105T100000
DTEND;TZID=America/Los_Angeles:20161105T180000
DTSTAMP:20260423T214422
CREATED:20161026T190823Z
LAST-MODIFIED:20161026T190823Z
UID:13255-1478340000-1478368800@4dpnr.com
SUMMARY:Vancouver Train Expo
DESCRIPTION:
URL:https://4dpnr.com/event/vancouver-train-expo/
LOCATION:Pacific National Exhibition\, 2901 E Hastings St\, Vancouver\, BC\, V5K 5J1\, Canada
CATEGORIES:Convention or Meet,Model Train Show
ORGANIZER;CN="Chairman Vancouver Train Expo":MAILTO:chairman@vancouvertrainexpo.ca
END:VEVENT
BEGIN:VEVENT
DTSTART;TZID=America/Los_Angeles:20160924T080000
DTEND;TZID=America/Los_Angeles:20160924T170000
DTSTAMP:20260423T214422
CREATED:20160810T180730Z
LAST-MODIFIED:20160810T180730Z
UID:12573-1474704000-1474736400@4dpnr.com
SUMMARY:3rd Div Fall Meet
DESCRIPTION:
URL:https://4dpnr.com/event/3rd-div-fall-meet/
LOCATION:Covenant Presbyterian Church\, 4848 North Five Mile Road\, Boise\, ID\, 83713\, United States
CATEGORIES:Convention or Meet
END:VEVENT
BEGIN:VEVENT
DTSTART;TZID=America/Los_Angeles:20160813T100000
DTEND;TZID=America/Los_Angeles:20160813T130000
DTSTAMP:20260423T214422
CREATED:20160810T180219Z
LAST-MODIFIED:20160810T180219Z
UID:12569-1471082400-1471093200@4dpnr.com
SUMMARY:2nd Div Summer Meet
DESCRIPTION:
URL:https://4dpnr.com/event/2nd-div-summer-meet/
LOCATION:Cedar Mill Library\, 12505 NW Cornell Road Suite 13\, Portland\, OR\, 97229\, United States
CATEGORIES:Convention or Meet
END:VEVENT
BEGIN:VEVENT
DTSTART;TZID=America/Los_Angeles:20160716T123000
DTEND;TZID=America/Los_Angeles:20160716T143000
DTSTAMP:20260423T214422
CREATED:20160712T070513Z
LAST-MODIFIED:20160712T070627Z
UID:12058-1468672200-1468679400@4dpnr.com
SUMMARY:Pennsylvania RR Tech & Historical Society Meeting
DESCRIPTION:Please see the related Grab Iron post for additional information.
URL:https://4dpnr.com/event/pennsylvania-rr-tech-historical-society-meeting-3/
LOCATION:Pacific Northwest Railroad Archive\, 425 SW 153rd Street\, Burien\, WA\, 98166\, United States
CATEGORIES:Convention or Meet,Museum or Historical Archive Event
ORGANIZER;CN="Jim Trunzo":MAILTO:jetrunzo@gmail.com
END:VEVENT
BEGIN:VEVENT
DTSTART;VALUE=DATE:20160619
DTEND;VALUE=DATE:20160620
DTSTAMP:20260423T214422
CREATED:20160109T084241Z
LAST-MODIFIED:20160109T084241Z
UID:7894-1466294400-1466380799@4dpnr.com
SUMMARY:Selkirk Express 2016\, PNR Convention
DESCRIPTION:
URL:https://4dpnr.com/event/selkirk-express-2016-pnr-convention-5/
LOCATION:Prestige Harbourfront Resort & Convention Centre\, 251 Harbourfront Drive\, NE\, Salmon Arm\, British Columbia\, V1E\, Canada
CATEGORIES:Convention or Meet
ORGANIZER;CN="David Walker":MAILTO:mcwalk@telus.net
END:VEVENT
BEGIN:VEVENT
DTSTART;TZID=America/Los_Angeles:20160618T090000
DTEND;TZID=America/Los_Angeles:20160618T160000
DTSTAMP:20260423T214422
CREATED:20160614T073338Z
LAST-MODIFIED:20160614T073428Z
UID:12008-1466240400-1466265600@4dpnr.com
SUMMARY:Washington Homeschool Organization Convention (with Modular Layouts)
DESCRIPTION:
URL:https://4dpnr.com/event/washington-homeschool-organization-convention-with-modular-layouts-2/
LOCATION:Western Washington Fairgrounds\, 110 9th Ave SW\, Puyallup\, WA\, 98371\, United States
CATEGORIES:Convention or Meet
END:VEVENT
BEGIN:VEVENT
DTSTART;VALUE=DATE:20160618
DTEND;VALUE=DATE:20160619
DTSTAMP:20260423T214422
CREATED:20160109T084138Z
LAST-MODIFIED:20160109T084138Z
UID:7893-1466208000-1466294399@4dpnr.com
SUMMARY:Selkirk Express 2016\, PNR Convention
DESCRIPTION:
URL:https://4dpnr.com/event/selkirk-express-2016-pnr-convention-4/
LOCATION:Prestige Harbourfront Resort & Convention Centre\, 251 Harbourfront Drive\, NE\, Salmon Arm\, British Columbia\, V1E\, Canada
CATEGORIES:Convention or Meet
ORGANIZER;CN="David Walker":MAILTO:mcwalk@telus.net
END:VEVENT
BEGIN:VEVENT
DTSTART;TZID=America/Los_Angeles:20160617T090000
DTEND;TZID=America/Los_Angeles:20160617T180000
DTSTAMP:20260423T214422
CREATED:20160614T073219Z
LAST-MODIFIED:20160614T073417Z
UID:12005-1466154000-1466186400@4dpnr.com
SUMMARY:Washington Homeschool Organization Convention (with Modular Layouts)
DESCRIPTION:
URL:https://4dpnr.com/event/washington-homeschool-organization-convention-with-modular-layouts/
LOCATION:Western Washington Fairgrounds\, 110 9th Ave SW\, Puyallup\, WA\, 98371\, United States
CATEGORIES:Convention or Meet
END:VEVENT
BEGIN:VEVENT
DTSTART;VALUE=DATE:20160617
DTEND;VALUE=DATE:20160618
DTSTAMP:20260423T214422
CREATED:20160109T084025Z
LAST-MODIFIED:20160109T084025Z
UID:7892-1466121600-1466207999@4dpnr.com
SUMMARY:Selkirk Express 2016\, PNR Convention
DESCRIPTION:
URL:https://4dpnr.com/event/selkirk-express-2016-pnr-convention-3/
LOCATION:Prestige Harbourfront Resort & Convention Centre\, 251 Harbourfront Drive\, NE\, Salmon Arm\, British Columbia\, V1E\, Canada
CATEGORIES:Convention or Meet
ORGANIZER;CN="David Walker":MAILTO:mcwalk@telus.net
END:VEVENT
BEGIN:VEVENT
DTSTART;VALUE=DATE:20160616
DTEND;VALUE=DATE:20160617
DTSTAMP:20260423T214422
CREATED:20160109T083912Z
LAST-MODIFIED:20160109T083912Z
UID:7891-1466035200-1466121599@4dpnr.com
SUMMARY:Selkirk Express 2016\, PNR Convention
DESCRIPTION:
URL:https://4dpnr.com/event/selkirk-express-2016-pnr-convention-2/
LOCATION:Prestige Harbourfront Resort & Convention Centre\, 251 Harbourfront Drive\, NE\, Salmon Arm\, British Columbia\, V1E\, Canada
CATEGORIES:Convention or Meet
ORGANIZER;CN="David Walker":MAILTO:mcwalk@telus.net
END:VEVENT
BEGIN:VEVENT
DTSTART;VALUE=DATE:20160615
DTEND;VALUE=DATE:20160616
DTSTAMP:20260423T214423
CREATED:20160109T083704Z
LAST-MODIFIED:20160109T083704Z
UID:7888-1465948800-1466035199@4dpnr.com
SUMMARY:Selkirk Express 2016\, PNR Convention
DESCRIPTION:
URL:https://4dpnr.com/event/selkirk-express-2016-pnr-convention/
LOCATION:Prestige Harbourfront Resort & Convention Centre\, 251 Harbourfront Drive\, NE\, Salmon Arm\, British Columbia\, V1E\, Canada
CATEGORIES:Convention or Meet
ORGANIZER;CN="David Walker":MAILTO:mcwalk@telus.net
END:VEVENT
BEGIN:VEVENT
DTSTART;TZID=America/Los_Angeles:20160521T090000
DTEND;TZID=America/Los_Angeles:20160521T170000
DTSTAMP:20260423T214423
CREATED:20160520T223308Z
LAST-MODIFIED:20160520T223308Z
UID:11830-1463821200-1463850000@4dpnr.com
SUMMARY:Rails by the Bay\, PNW RR Prototype Modelers Meet
DESCRIPTION:Rails by the Bay\, Pacific Northwest Railroad Prototype Modelers Meet
URL:https://4dpnr.com/event/rails-by-the-bay-pnw-rr-prototype-modelers-meet/
LOCATION:Evergreen State Fairgrounds\, 14405 179th Avenue SE\, Monroe\, WA\, 98272\, United States
CATEGORIES:Convention or Meet
ORGANIZER;CN="RPM Meet":MAILTO:RPM_Meet@northwestrpm.com
END:VEVENT
BEGIN:VEVENT
DTSTART;TZID=America/Los_Angeles:20160514T090000
DTEND;TZID=America/Los_Angeles:20160514T160000
DTSTAMP:20260423T214423
CREATED:20160203T014604Z
LAST-MODIFIED:20160222T164614Z
UID:8119-1463216400-1463241600@4dpnr.com
SUMMARY:4D Spring Meet
DESCRIPTION:Tacoma Community College\, Building 15 (Science and Engineering). \nAdditional details will be added
URL:https://4dpnr.com/event/4d-spring-meet/
LOCATION:Tacoma Community College\, 6501 S. 19th St\, Tacoma\, WA\, 98466\, United States
CATEGORIES:Convention or Meet
ORGANIZER;CN="Russ Segner":MAILTO:russseg@gmail.com
END:VEVENT
BEGIN:VEVENT
DTSTART;TZID=America/Los_Angeles:20160402T130000
DTEND;TZID=America/Los_Angeles:20160402T150000
DTSTAMP:20260423T214423
CREATED:20160308T034148Z
LAST-MODIFIED:20160308T034148Z
UID:8345-1459602000-1459609200@4dpnr.com
SUMMARY:Pennsylvania RR Tech & Historical Society Meeting
DESCRIPTION:Please see the related Grab Iron post for additional information.
URL:https://4dpnr.com/event/pennsylvania-rr-tech-historical-society-meeting-2/
LOCATION:Pacific Northwest Railroad Archive\, 425 SW 153rd Street\, Burien\, WA\, 98166\, United States
CATEGORIES:Convention or Meet,Museum or Historical Archive Event
ORGANIZER;CN="Jim Trunzo":MAILTO:jetrunzo@gmail.com
END:VEVENT
BEGIN:VEVENT
DTSTART;TZID=America/Los_Angeles:20160319T100000
DTEND;TZID=America/Los_Angeles:20160319T170000
DTSTAMP:20260423T214423
CREATED:20160203T230231Z
LAST-MODIFIED:20160203T230231Z
UID:8146-1458381600-1458406800@4dpnr.com
SUMMARY:Northwest Santa-Fe Mini-Meet
DESCRIPTION:17th annual Mini-Meet of Santa Fe Railway fans and modelers in the Northwest. \n9:00 -10:00 – Register\, pick up handouts\, meet other attendees\n10:00 – Bill Messecar on “Operating a Prototype Santa Fe Layout”\n11:00 – Colin Kikawa on “Modeling Santa Fe’s Shadow-Lined Passenger Cars”\n12:00 – 1:00 – No host lunch break & sales tables & view Boeing’s HO layout\n1:00   –  Introduction of attendees\n1:15   – John Thompson on “Santa Fe’s 4-8-4s and HO Models”\n2:30   –  Break\n2:45   –  Jerry Boudreaux on “Designing and Building a Santa Fe Layout”\n3:30   –  Doug Nighswonger on “Santa Fe All the Way” (1950s-1960s Slides)\n4:45   –  Wrap-Up and End Mini-Meet \nCost for the event and handouts is $10 to cover our costs. Sale tables are available for a $10 fee per table. \nThe Boeing Employees Model Railroad Club’s large\, double-deck HO layout (under construction) is in the same building and will be open for viewing during breaks.
URL:https://4dpnr.com/event/northwest-santa-fe-mini-meet/
LOCATION:Pacific Northwest Railroad Archive\, 425 SW 153rd Street\, Burien\, WA\, 98166\, United States
CATEGORIES:Convention or Meet,Train Sales
ORGANIZER;CN="John Thompson":MAILTO:JThomp1945@aol.com
END:VEVENT
BEGIN:VEVENT
DTSTART;TZID=America/Los_Angeles:20160305T100000
DTEND;TZID=America/Los_Angeles:20160305T170000
DTSTAMP:20260423T214423
CREATED:20160219T043751Z
LAST-MODIFIED:20160219T043751Z
UID:8218-1457172000-1457197200@4dpnr.com
SUMMARY:Milwaukee Road Meet
DESCRIPTION:The annual March Milwaukee Road Meet is a gathering for slides\, movies and discussion and socializing. All are welcome! As in the past\, this is a free event. Bring your photos\, artifacts\, models\, memorabilia and other items for display.
URL:https://4dpnr.com/event/milwaukee-road-meet/
LOCATION:Pacific Northwest Railroad Archive\, 425 SW 153rd Street\, Burien\, WA\, 98166\, United States
CATEGORIES:Convention or Meet
END:VEVENT
BEGIN:VEVENT
DTSTART;TZID=America/Los_Angeles:20151017T130000
DTEND;TZID=America/Los_Angeles:20151017T150000
DTSTAMP:20260423T214423
CREATED:20151013T011443Z
LAST-MODIFIED:20160308T032958Z
UID:7186-1445086800-1445094000@4dpnr.com
SUMMARY:Pennsylvania RR Tech & Historical Society Meeting
DESCRIPTION:Please see the related Grab Iron post for additional information.
URL:https://4dpnr.com/event/pennsylvania-rr-tech-historical-society-meeting/
LOCATION:Pacific Northwest Railroad Archive\, 425 SW 153rd Street\, Burien\, WA\, 98166\, United States
CATEGORIES:Convention or Meet,Museum or Historical Archive Event
ORGANIZER;CN="Jim Trunzo":MAILTO:jetrunzo@gmail.com
END:VEVENT
BEGIN:VEVENT
DTSTART;VALUE=DATE:20150823
DTEND;VALUE=DATE:20150830
DTSTAMP:20260423T214423
CREATED:20150809T000021Z
LAST-MODIFIED:20150916T200653Z
UID:6588-1440288000-1440892799@4dpnr.com
SUMMARY:NMRA National Convention
DESCRIPTION:
URL:https://4dpnr.com/event/nmra-national-convention/
LOCATION:DoubleTree by Hilton Hotel\, 1000 NE Multnomah Street\, Portland\, WA\, 97232\, United States
CATEGORIES:Convention or Meet
END:VEVENT
BEGIN:VEVENT
DTSTART;TZID=America/Vancouver:20150606T090000
DTEND;TZID=America/Vancouver:20150606T163000
DTSTAMP:20260423T214423
CREATED:20150606T071734Z
LAST-MODIFIED:20150916T200333Z
UID:5492-1433581200-1433608200@4dpnr.com
SUMMARY:Making Tracks - 4th Div Spring Meet
DESCRIPTION:The 4th Division’s Spring Meet. Click here for additional information.
URL:https://4dpnr.com/event/making-tracks-4th-div-spring-meet/
LOCATION:Sheraton Bellevue\, 100 112th Ave NE\, Bellevue\, WA\, 98004\, United States
CATEGORIES:Convention or Meet
ORGANIZER;CN="Russ Segner":MAILTO:russseg@gmail.com
END:VEVENT
END:VCALENDAR