BEGIN:VCALENDAR
VERSION:2.0
PRODID:-//Welcome to the 4th Division - ECPv6.15.20//NONSGML v1.0//EN
CALSCALE:GREGORIAN
METHOD:PUBLISH
X-WR-CALNAME:Welcome to the 4th Division
X-ORIGINAL-URL:https://4dpnr.com
X-WR-CALDESC:Events for Welcome to the 4th Division
REFRESH-INTERVAL;VALUE=DURATION:PT1H
X-Robots-Tag:noindex
X-PUBLISHED-TTL:PT1H
BEGIN:VTIMEZONE
TZID:America/Los_Angeles
BEGIN:DAYLIGHT
TZOFFSETFROM:-0800
TZOFFSETTO:-0700
TZNAME:PDT
DTSTART:20160313T100000
END:DAYLIGHT
BEGIN:STANDARD
TZOFFSETFROM:-0700
TZOFFSETTO:-0800
TZNAME:PST
DTSTART:20161106T090000
END:STANDARD
BEGIN:DAYLIGHT
TZOFFSETFROM:-0800
TZOFFSETTO:-0700
TZNAME:PDT
DTSTART:20170312T100000
END:DAYLIGHT
BEGIN:STANDARD
TZOFFSETFROM:-0700
TZOFFSETTO:-0800
TZNAME:PST
DTSTART:20171105T090000
END:STANDARD
BEGIN:DAYLIGHT
TZOFFSETFROM:-0800
TZOFFSETTO:-0700
TZNAME:PDT
DTSTART:20180311T100000
END:DAYLIGHT
BEGIN:STANDARD
TZOFFSETFROM:-0700
TZOFFSETTO:-0800
TZNAME:PST
DTSTART:20181104T090000
END:STANDARD
BEGIN:DAYLIGHT
TZOFFSETFROM:-0800
TZOFFSETTO:-0700
TZNAME:PDT
DTSTART:20190310T100000
END:DAYLIGHT
BEGIN:STANDARD
TZOFFSETFROM:-0700
TZOFFSETTO:-0800
TZNAME:PST
DTSTART:20191103T090000
END:STANDARD
BEGIN:DAYLIGHT
TZOFFSETFROM:-0800
TZOFFSETTO:-0700
TZNAME:PDT
DTSTART:20200308T100000
END:DAYLIGHT
BEGIN:STANDARD
TZOFFSETFROM:-0700
TZOFFSETTO:-0800
TZNAME:PST
DTSTART:20201101T090000
END:STANDARD
BEGIN:DAYLIGHT
TZOFFSETFROM:-0800
TZOFFSETTO:-0700
TZNAME:PDT
DTSTART:20210314T100000
END:DAYLIGHT
BEGIN:STANDARD
TZOFFSETFROM:-0700
TZOFFSETTO:-0800
TZNAME:PST
DTSTART:20211107T090000
END:STANDARD
BEGIN:DAYLIGHT
TZOFFSETFROM:-0800
TZOFFSETTO:-0700
TZNAME:PDT
DTSTART:20220313T100000
END:DAYLIGHT
BEGIN:STANDARD
TZOFFSETFROM:-0700
TZOFFSETTO:-0800
TZNAME:PST
DTSTART:20221106T090000
END:STANDARD
BEGIN:DAYLIGHT
TZOFFSETFROM:-0800
TZOFFSETTO:-0700
TZNAME:PDT
DTSTART:20230312T100000
END:DAYLIGHT
BEGIN:STANDARD
TZOFFSETFROM:-0700
TZOFFSETTO:-0800
TZNAME:PST
DTSTART:20231105T090000
END:STANDARD
BEGIN:DAYLIGHT
TZOFFSETFROM:-0800
TZOFFSETTO:-0700
TZNAME:PDT
DTSTART:20240310T100000
END:DAYLIGHT
BEGIN:STANDARD
TZOFFSETFROM:-0700
TZOFFSETTO:-0800
TZNAME:PST
DTSTART:20241103T090000
END:STANDARD
BEGIN:DAYLIGHT
TZOFFSETFROM:-0800
TZOFFSETTO:-0700
TZNAME:PDT
DTSTART:20250309T100000
END:DAYLIGHT
BEGIN:STANDARD
TZOFFSETFROM:-0700
TZOFFSETTO:-0800
TZNAME:PST
DTSTART:20251102T090000
END:STANDARD
BEGIN:DAYLIGHT
TZOFFSETFROM:-0800
TZOFFSETTO:-0700
TZNAME:PDT
DTSTART:20260308T100000
END:DAYLIGHT
BEGIN:STANDARD
TZOFFSETFROM:-0700
TZOFFSETTO:-0800
TZNAME:PST
DTSTART:20261101T090000
END:STANDARD
END:VTIMEZONE
BEGIN:VEVENT
DTSTART;TZID=America/Los_Angeles:20250531T073000
DTEND;TZID=America/Los_Angeles:20250531T170000
DTSTAMP:20260423T183521
CREATED:20250422T012036Z
LAST-MODIFIED:20250524T213406Z
UID:23289-1748676600-1748710800@4dpnr.com
SUMMARY:4D NMRA Spring Meet and Annual Meeting 2025
DESCRIPTION:Please register by downloading and filling out the form below and send to bkenworthy4@comcast.net.\n\nSpring Meet 2025 Announcement\n\n\n\nTIMETABLE\n\n \n\n7:30 to 8:15 am       Check-in at the Snoqualmie Depot.\n8:30 to 9:00 am       Train ride from Snoqualmie Depot to Northwest Railway Museum (NRM).\n\n \n\n9:10 to 9:55 am       Clinic Session 1\n1A – Shop Tour – Meet at the Yellow Bollards at the Railroad Crossing – Presented by NRM staff and volunteers.\n1B – Clinic in Conference Room in Railway History Center – “Layout Design with CAD:  How?  Why?” – Presented by Robin Peel.\n1C – Clinic in Train Shed Foyer in Train Shed Exhibit Hall – “Building Bench Work with Extruded Aluminum” – Presented by Magnus Christerson.\n\n \n\n10:05 to 10:50 am    Clinic Session 2\n2A – Shop Tour – Meet at the Yellow Bollards at the Railroad Crossing – Presented by NRM staff and volunteers.\n2B – Clinic in Conference Room in Railway History Center – “Operating Sessions for Beginners” – Presented by Bob Stafford.  Attendees are invited to sign up for a First Timers Operating Session at the Boeing Engineers MRC layout on Sat.\, June 14th.\n2C – Clinic in Train Shed Foyer in Train Shed Exhibit Hall – “Using AI in Model Railroading – An Example” – Presented by Kurt Laidlaw.\n2D – Clinic in Trains Shed Exhibit Hall – “O Scale Layout Progress Report” – Presented by NRM staff and volunteers.\n\n \n\n11:00 to 11:45 pm   Clinic Session 3\n3A – Shop Tour – Meet at the Yellow Bollards at the Railroad Crossing – Presented by NRM staff and volunteers.\n3B – Clinic in Conference Room in Railway History Center – “Using JMRI for Operations on an On30 Modular Club Layout” – Presented by Rich Blake.\n3C – Clinic in Train Shed Foyer in Train Shed Exhibit Hall – “I’d Build an Open Pit Mine If I Only Had More Room – a Mirror and Woodland Scenics to the Rescue” – Presented by Greg Wright.\n\n \n\n11:45 to 12:40 pm   Lunch and Annual Meeting.\n12:40 to 1:00 pm     Roundhouse Exhibit Gallery Presentation – NRM staff.\n1:00 to 1:20 pm       2027 NMRA National Convention in Tacoma Presentation.\n1:30 to 2:00 pm       Train ride from NRM to Snoqualmie Depot.\n2:00 to 3:00 pm       Travel Time to Layout Open Houses.\n\n \n\n3:00 to 5:00 pm       Layout Open Houses.\nGreg Amer’s BNSF The Industrial Lead (modern era\, HO)\nRuss Segner’s Coal Creek Lumber Company (1930\, Sn3)\n3:30 to 5:00 pm       Larry Sloan’s South Olympic Branch (1970’s\, HO)
URL:https://4dpnr.com/event/spring-meet-2025/
LOCATION:Northwest Railway Museum\, 38625 SE King Street\, Snoqualmie\, WA\, 98065\, United States
CATEGORIES:Clinic,Convention or Meet,Layout Tour
ORGANIZER;CN="4th Div%2C PNR":MAILTO:burr.stewart@gmail.com
END:VEVENT
BEGIN:VEVENT
DTSTART;VALUE=DATE:20250509
DTEND;VALUE=DATE:20250512
DTSTAMP:20260423T183521
CREATED:20241020T021743Z
LAST-MODIFIED:20241020T023909Z
UID:23050-1746748800-1747007999@4dpnr.com
SUMMARY:Ainsworth Connector\, PNR Convention 2025
DESCRIPTION:This annual Regional Convention will be May 9 – 11\, 2025 in Pasco\, Washington. \nThe Convention will offer self-guided layout tours\, free-mo layouts\, operating sessions\, clinics\, achievement program evaluations\, and more!
URL:https://4dpnr.com/event/ainsworth-connector-pnr-convention-2025/
LOCATION:WA
CATEGORIES:Clinic,Convention or Meet,Layout Tour,Operating Session
END:VEVENT
BEGIN:VEVENT
DTSTART;VALUE=DATE:20250714
DTEND;VALUE=DATE:20250720
DTSTAMP:20260423T183521
CREATED:20241020T022410Z
LAST-MODIFIED:20241020T023624Z
UID:23052-1752451200-1752969599@4dpnr.com
SUMMARY:National Convention 2025 - STATION No. VI
DESCRIPTION:The annual National Model Train Convention is July 14 – 19\, 2025 at the Sheraton Hotel in Novi\, MI.  There will be clinics\, workshops\, operating sessions\, 60 model train layouts to visit\, prototype tours and much more.
URL:https://4dpnr.com/event/national-convention-2025-station-no-vi/
LOCATION:WA
CATEGORIES:Clinic,Convention or Meet,Layout Tour,Operating Session
END:VEVENT
BEGIN:VEVENT
DTSTART;VALUE=DATE:20240804
DTEND;VALUE=DATE:20240812
DTSTAMP:20260423T183521
CREATED:20240116T013802Z
LAST-MODIFIED:20240116T014019Z
UID:22300-1722729600-1723420799@4dpnr.com
SUMMARY:National Convention 2024 - SurfLiner
DESCRIPTION:Hosted at the The Westin Long Beach in Long Beach California.
URL:https://4dpnr.com/event/national-convention-2024-surfliner/
LOCATION:WA
CATEGORIES:Convention or Meet
END:VEVENT
BEGIN:VEVENT
DTSTART;TZID=America/Los_Angeles:20240608T073000
DTEND;TZID=America/Los_Angeles:20240608T170000
DTSTAMP:20260423T183521
CREATED:20240302T175956Z
LAST-MODIFIED:20240302T180226Z
UID:22475-1717831800-1717866000@4dpnr.com
SUMMARY:Spring Meet 2024
DESCRIPTION:The schedule will be:\n7:30 to 8:30 am – Registration at the North Bend Depot\n8:30 to 9:00 am – Train Ride from North Bend to Museum\n9:00 to 9:10 am – Gathering Time\n9:10 to 10:00 am – Clinics 1 and 2\n10:10 to 11:00 am – Clinics 3 and 4\n11:10 to 12:00 noon – Clinics 5 and 6\n12:00 to 1:00 pm – Lunch and Annual Meeting\n1:00 to 1:30 pm – Free Time at the Museum\n1:30 to 2:00 pm – Return Train Ride to North Bend\n2:00 to 3:00 pm – Travel Time\n3:00 to 5:00 pm – Layout Open Houses
URL:https://4dpnr.com/event/spring-meet-2024/
LOCATION:Northwest Railway Museum\, 38625 SE King Street\, Snoqualmie\, WA\, 98065\, United States
CATEGORIES:Clinic,Convention or Meet,Layout Tour
END:VEVENT
BEGIN:VEVENT
DTSTART;VALUE=DATE:20240522
DTEND;VALUE=DATE:20240527
DTSTAMP:20260423T183521
CREATED:20231217T024114Z
LAST-MODIFIED:20231217T024139Z
UID:22203-1716336000-1716767999@4dpnr.com
SUMMARY:Surrey Excursion\, PNR Convention 2024
DESCRIPTION:
URL:https://4dpnr.com/event/surrey-excursion-pnr-convention-2024/
LOCATION:Sheraton Vancouver Guildford Hotel\, 15269 104th Avenue\, Surrey\, British Columbia\, V3R 1N5\, Canada
CATEGORIES:Clinic,Convention or Meet,Layout Tour,Operating Session
END:VEVENT
BEGIN:VEVENT
DTSTART;VALUE=DATE:20240210
DTEND;VALUE=DATE:20240212
DTSTAMP:20260423T183521
CREATED:20240115T204058Z
LAST-MODIFIED:20240116T015439Z
UID:22297-1707523200-1707695999@4dpnr.com
SUMMARY:3rd Annual Railroad Swap Meet & Train Show
DESCRIPTION:
URL:https://4dpnr.com/event/3rd-annual-railroad-swap-meet-train-show/
LOCATION:Grays Harbor County Fairgrounds\, 32 Elma McCleary Rd\, Elma\, WA\, 98541\, United States
CATEGORIES:Convention or Meet,Model Train Show
END:VEVENT
BEGIN:VEVENT
DTSTART;VALUE=DATE:20230820
DTEND;VALUE=DATE:20230827
DTSTAMP:20260423T183521
CREATED:20220905T173500Z
LAST-MODIFIED:20220905T173932Z
UID:21304-1692489600-1693094399@4dpnr.com
SUMMARY:National Convention 2023 - The Texas Express
DESCRIPTION:
URL:https://4dpnr.com/event/national-convention-2023-the-texas-express/
LOCATION:Gaylord Texan Resort & Convention Center\, 1501 Gaylord Trail\, Grapevine\, TX\, 76051\, United States
CATEGORIES:Convention or Meet
END:VEVENT
BEGIN:VEVENT
DTSTART;VALUE=DATE:20230526
DTEND;VALUE=DATE:20230529
DTSTAMP:20260423T183521
CREATED:20230416T020641Z
LAST-MODIFIED:20230416T020641Z
UID:21817-1685059200-1685318399@4dpnr.com
SUMMARY:Railway Modellers Meet - In Person
DESCRIPTION:
URL:https://4dpnr.com/event/railway-modellers-meet-in-person/
LOCATION:Simon Fraser University\, 8888 University Dr\, Burnaby\, BC\, V5A 1S6\, Canada
CATEGORIES:Convention or Meet
END:VEVENT
BEGIN:VEVENT
DTSTART;TZID=America/Los_Angeles:20230518T190000
DTEND;TZID=America/Los_Angeles:20230518T214500
DTSTAMP:20260423T183521
CREATED:20230416T020827Z
LAST-MODIFIED:20230416T021344Z
UID:21821-1684436400-1684446300@4dpnr.com
SUMMARY:Railway Modellers Meet - Virtual
DESCRIPTION:
URL:https://4dpnr.com/event/railway-modellers-meet-virtual-2/
LOCATION:WA
CATEGORIES:Convention or Meet
END:VEVENT
BEGIN:VEVENT
DTSTART;TZID=America/Los_Angeles:20230504T190000
DTEND;TZID=America/Los_Angeles:20230504T214500
DTSTAMP:20260423T183521
CREATED:20230416T020805Z
LAST-MODIFIED:20230416T021225Z
UID:21819-1683226800-1683236700@4dpnr.com
SUMMARY:Railway Modellers Meet - Virtual
DESCRIPTION:
URL:https://4dpnr.com/event/railway-modellers-meet-virtual/
LOCATION:WA
CATEGORIES:Convention or Meet
END:VEVENT
BEGIN:VEVENT
DTSTART;VALUE=DATE:20220901
DTEND;VALUE=DATE:20220905
DTSTAMP:20260423T183521
CREATED:20220530T160118Z
LAST-MODIFIED:20220530T160314Z
UID:21121-1661990400-1662335999@4dpnr.com
SUMMARY:2022 National Narrow Gauge Convention
DESCRIPTION:
URL:https://4dpnr.com/event/2022-national-narrow-gauge-convention/
LOCATION:Hotel Murano\, 1320 Broadway\, Tacoma\, WA\, 98402\, United States
CATEGORIES:Clinic,Convention or Meet
END:VEVENT
BEGIN:VEVENT
DTSTART;TZID=America/Los_Angeles:20220618T090000
DTEND;TZID=America/Los_Angeles:20220618T160000
DTSTAMP:20260423T183521
CREATED:20220530T160545Z
LAST-MODIFIED:20220530T160913Z
UID:21123-1655542800-1655568000@4dpnr.com
SUMMARY:Bremerton Northern Model Railroad Swap Meet
DESCRIPTION:
URL:https://4dpnr.com/event/bremerton-northern-model-railroad-swap-meet-3/
LOCATION:Central Kitsap Presbyterian Church\, 9300 Nels Nelson Road\, Bremerton\, WA\, 98311\, United States
CATEGORIES:Convention or Meet
END:VEVENT
BEGIN:VEVENT
DTSTART;TZID=America/Los_Angeles:20220604T090000
DTEND;TZID=America/Los_Angeles:20220604T160000
DTSTAMP:20260423T183521
CREATED:20220530T154800Z
LAST-MODIFIED:20220530T155116Z
UID:21114-1654333200-1654358400@4dpnr.com
SUMMARY:Spring Meet 2022
DESCRIPTION:
URL:https://4dpnr.com/event/spring-meet-2022/
LOCATION:Everett Community College\, 2000 Tower Street\, Everett\, WA\, 98201\, United States
CATEGORIES:Clinic,Convention or Meet
END:VEVENT
BEGIN:VEVENT
DTSTART;VALUE=DATE:20220511
DTEND;VALUE=DATE:20220515
DTSTAMP:20260423T183521
CREATED:20211218T182915Z
LAST-MODIFIED:20211218T182915Z
UID:20739-1652227200-1652572799@4dpnr.com
SUMMARY:2022 PNR Convention
DESCRIPTION:Valley River Inn\, Eugene OR
URL:https://4dpnr.com/event/2022-pnr-convention/
LOCATION:WA
CATEGORIES:Convention or Meet
END:VEVENT
BEGIN:VEVENT
DTSTART;VALUE=DATE:20220212
DTEND;VALUE=DATE:20220214
DTSTAMP:20260423T183521
CREATED:20220118T003102Z
LAST-MODIFIED:20220118T003102Z
UID:20804-1644624000-1644796799@4dpnr.com
SUMMARY:Railroad Swap Meet & Train Show
DESCRIPTION:
URL:https://4dpnr.com/event/railroad-swap-meet-train-show/
LOCATION:Grays Harbor County Fairgrounds\, 32 Elma McCleary Rd\, Elma\, WA\, 98541\, United States
CATEGORIES:Convention or Meet,Model Train Show
ORGANIZER;CN="Tim Daubert":MAILTO:tim_daubert@yahoo.com
END:VEVENT
BEGIN:VEVENT
DTSTART;TZID=America/Los_Angeles:20210829T100000
DTEND;TZID=America/Los_Angeles:20210829T160000
DTSTAMP:20260423T183521
CREATED:20210826T033449Z
LAST-MODIFIED:20210826T033449Z
UID:20237-1630231200-1630252800@4dpnr.com
SUMMARY:Bremerton Northern Model Railroad Swap Meet
DESCRIPTION:Live Swap Meet!\nKitsap Mall\n10315 Silverdale Way NW\nSilverdale WA
URL:https://4dpnr.com/event/bremerton-northern-model-railroad-swap-meet-2/
LOCATION:WA
CATEGORIES:Convention or Meet
END:VEVENT
BEGIN:VEVENT
DTSTART;TZID=America/Los_Angeles:20210828T100000
DTEND;TZID=America/Los_Angeles:20210828T160000
DTSTAMP:20260423T183522
CREATED:20210826T033319Z
LAST-MODIFIED:20210826T033319Z
UID:20235-1630144800-1630166400@4dpnr.com
SUMMARY:Bremerton Northern Model Railroad Swap Meet
DESCRIPTION:Live Swap Meet!\nKitsap Mall\n10315 Silverdale Way NW\nSilverdale WA
URL:https://4dpnr.com/event/bremerton-northern-model-railroad-swap-meet/
LOCATION:WA
CATEGORIES:Convention or Meet
END:VEVENT
BEGIN:VEVENT
DTSTART;VALUE=DATE:20200712
DTEND;VALUE=DATE:20200719
DTSTAMP:20260423T183522
CREATED:20190916T004239Z
LAST-MODIFIED:20200629T144600Z
UID:17861-1594512000-1595116799@4dpnr.com
SUMMARY:National Convention 2020 - Cancelled
DESCRIPTION:
URL:https://4dpnr.com/event/national-convention-2020-st-louis-missouri/
LOCATION:America’s Center\, 701 Convention Plaza\, St. Louis\, MO\, 63101\, United States
CATEGORIES:Convention or Meet
END:VEVENT
BEGIN:VEVENT
DTSTART;VALUE=DATE:20190707
DTEND;VALUE=DATE:20190714
DTSTAMP:20260423T183522
CREATED:20181223T045046Z
LAST-MODIFIED:20181223T045046Z
UID:16832-1562457600-1563062399@4dpnr.com
SUMMARY:National Convention 2019\, Salt Lake City
DESCRIPTION:
URL:https://4dpnr.com/event/national-convention-2019-salt-lake-city/
LOCATION:Little America Hotel\, 500 South Main Street\, Salt Lake City\, UT\, 84101\, United States
CATEGORIES:Convention or Meet
END:VEVENT
BEGIN:VEVENT
DTSTART;TZID=America/Los_Angeles:20190622T090000
DTEND;TZID=America/Los_Angeles:20190622T160000
DTSTAMP:20260423T183522
CREATED:20190608T124717Z
LAST-MODIFIED:20190608T124717Z
UID:17487-1561194000-1561219200@4dpnr.com
SUMMARY:Spring Meet 2019
DESCRIPTION:
URL:https://4dpnr.com/event/spring-meet-2019/
LOCATION:Tacoma Community College\, 6501 S. 19th St\, Tacoma\, WA\, 98466\, United States
CATEGORIES:Clinic,Convention or Meet
END:VEVENT
BEGIN:VEVENT
DTSTART;VALUE=DATE:20190529
DTEND;VALUE=DATE:20190603
DTSTAMP:20260423T183522
CREATED:20181223T043949Z
LAST-MODIFIED:20181223T043949Z
UID:16829-1559088000-1559519999@4dpnr.com
SUMMARY:Kootenay Express 2019\, PNR Convention
DESCRIPTION:
URL:https://4dpnr.com/event/kootenay-express-2019-pnr-convention/
LOCATION:Prestige Inn\, 209 Van Horne Street South\, Cranbrook\, British Columbia\, Canada
CATEGORIES:Convention or Meet
END:VEVENT
BEGIN:VEVENT
DTSTART;VALUE=DATE:20190421
DTEND;VALUE=DATE:20190425
DTSTAMP:20260423T183522
CREATED:20190916T014527Z
LAST-MODIFIED:20190916T014527Z
UID:17865-1555804800-1556150399@4dpnr.com
SUMMARY:2020 PNR Convention
DESCRIPTION:Valley River Inn\, Eugene OR
URL:https://4dpnr.com/event/2020-pnr-convention/
LOCATION:WA
CATEGORIES:Convention or Meet
END:VEVENT
BEGIN:VEVENT
DTSTART;VALUE=DATE:20190406
DTEND;VALUE=DATE:20190407
DTSTAMP:20260423T183522
CREATED:20181221T174446Z
LAST-MODIFIED:20181221T174446Z
UID:16795-1554508800-1554595199@4dpnr.com
SUMMARY:Sn3 Symposium
DESCRIPTION:
URL:https://4dpnr.com/event/sn3-symposium-3/
LOCATION:Sheraton Bellevue\, 100 112th Ave NE\, Bellevue\, WA\, 98004\, United States
CATEGORIES:Clinic,Convention or Meet
ORGANIZER;CN="Robin Peel":MAILTO:rapeel@me.com
END:VEVENT
BEGIN:VEVENT
DTSTART;VALUE=DATE:20190405
DTEND;VALUE=DATE:20190406
DTSTAMP:20260423T183522
CREATED:20181221T174314Z
LAST-MODIFIED:20181221T174542Z
UID:16793-1554422400-1554508799@4dpnr.com
SUMMARY:Sn3 Symposium
DESCRIPTION:
URL:https://4dpnr.com/event/sn3-symposium-2/
LOCATION:Sheraton Bellevue\, 100 112th Ave NE\, Bellevue\, WA\, 98004\, United States
CATEGORIES:Clinic,Convention or Meet
ORGANIZER;CN="Robin Peel":MAILTO:rapeel@me.com
END:VEVENT
BEGIN:VEVENT
DTSTART;VALUE=DATE:20190404
DTEND;VALUE=DATE:20190405
DTSTAMP:20260423T183522
CREATED:20181221T173718Z
LAST-MODIFIED:20181221T174525Z
UID:16790-1554336000-1554422399@4dpnr.com
SUMMARY:Sn3 Symposium
DESCRIPTION:
URL:https://4dpnr.com/event/sn3-symposium/
LOCATION:Sheraton Bellevue\, 100 112th Ave NE\, Bellevue\, WA\, 98004\, United States
CATEGORIES:Clinic,Convention or Meet
ORGANIZER;CN="Robin Peel":MAILTO:rapeel@me.com
END:VEVENT
BEGIN:VEVENT
DTSTART;VALUE=DATE:20170607
DTEND;VALUE=DATE:20170611
DTSTAMP:20260423T183522
CREATED:20170214T175710Z
LAST-MODIFIED:20170214T175710Z
UID:14416-1496793600-1497139199@4dpnr.com
SUMMARY:Spokane Falls Express\, PNR Convention 2017
DESCRIPTION:
URL:https://4dpnr.com/event/spokane-falls-express-pnr-convention-2017/
LOCATION:Red Lion Hotel\, W. 303  North River Drive\, Spokane\, WA\, 99201\, United States
CATEGORIES:Convention or Meet
END:VEVENT
BEGIN:VEVENT
DTSTART;VALUE=DATE:20170505
DTEND;VALUE=DATE:20170508
DTSTAMP:20260423T183522
CREATED:20170214T175216Z
LAST-MODIFIED:20170214T175216Z
UID:14413-1493942400-1494201599@4dpnr.com
SUMMARY:Railway Modellers Meet
DESCRIPTION:
URL:https://4dpnr.com/event/railway-modellers-meet/
LOCATION:Simon Fraser University\, 8888 University Dr\, Burnaby\, BC\, V5A 1S6\, Canada
CATEGORIES:Convention or Meet
END:VEVENT
BEGIN:VEVENT
DTSTART;TZID=America/Los_Angeles:20170415T090000
DTEND;TZID=America/Los_Angeles:20170415T160000
DTSTAMP:20260423T183522
CREATED:20170219T211747Z
LAST-MODIFIED:20170219T211747Z
UID:14471-1492246800-1492272000@4dpnr.com
SUMMARY:4D Spring Meet
DESCRIPTION:Additional details will be added.
URL:https://4dpnr.com/event/4d-spring-meet-2/
LOCATION:Sheraton Bellevue\, 100 112th Ave NE\, Bellevue\, WA\, 98004\, United States
CATEGORIES:Convention or Meet
ORGANIZER;CN="Russ Segner":MAILTO:russseg@gmail.com
END:VEVENT
BEGIN:VEVENT
DTSTART;TZID=America/Los_Angeles:20170401T100000
DTEND;TZID=America/Los_Angeles:20170401T170000
DTSTAMP:20260423T183522
CREATED:20170219T223911Z
LAST-MODIFIED:20170219T223911Z
UID:14502-1491040800-1491066000@4dpnr.com
SUMMARY:Northwest Santa-Fe Mini-Meet
DESCRIPTION:18th annual Mini-Meet of Santa Fe Railway fans and modelers in the Northwest. The Boeing Employees Model Railroad Club’s large\, double-deck HO layout (under construction) is in the same building and will be open for viewing during breaks. Don’t forget to bring your favorite Santa Fe models to show\, as well as renting a table for any Santa Fe-related items that you’d like to sell.
URL:https://4dpnr.com/event/northwest-santa-fe-mini-meet-2/
LOCATION:Pacific Northwest Railroad Archive\, 425 SW 153rd Street\, Burien\, WA\, 98166\, United States
CATEGORIES:Convention or Meet
ORGANIZER;CN="John Thompson":MAILTO:JThomp1945@aol.com
END:VEVENT
END:VCALENDAR