BEGIN:VCALENDAR
VERSION:2.0
PRODID:-//Welcome to the 4th Division - ECPv6.15.20//NONSGML v1.0//EN
CALSCALE:GREGORIAN
METHOD:PUBLISH
X-ORIGINAL-URL:https://4dpnr.com
X-WR-CALDESC:Events for Welcome to the 4th Division
REFRESH-INTERVAL;VALUE=DURATION:PT1H
X-Robots-Tag:noindex
X-PUBLISHED-TTL:PT1H
BEGIN:VTIMEZONE
TZID:America/Los_Angeles
BEGIN:DAYLIGHT
TZOFFSETFROM:-0800
TZOFFSETTO:-0700
TZNAME:PDT
DTSTART:20150308T100000
END:DAYLIGHT
BEGIN:STANDARD
TZOFFSETFROM:-0700
TZOFFSETTO:-0800
TZNAME:PST
DTSTART:20151101T090000
END:STANDARD
BEGIN:DAYLIGHT
TZOFFSETFROM:-0800
TZOFFSETTO:-0700
TZNAME:PDT
DTSTART:20160313T100000
END:DAYLIGHT
BEGIN:STANDARD
TZOFFSETFROM:-0700
TZOFFSETTO:-0800
TZNAME:PST
DTSTART:20161106T090000
END:STANDARD
BEGIN:DAYLIGHT
TZOFFSETFROM:-0800
TZOFFSETTO:-0700
TZNAME:PDT
DTSTART:20170312T100000
END:DAYLIGHT
BEGIN:STANDARD
TZOFFSETFROM:-0700
TZOFFSETTO:-0800
TZNAME:PST
DTSTART:20171105T090000
END:STANDARD
BEGIN:DAYLIGHT
TZOFFSETFROM:-0800
TZOFFSETTO:-0700
TZNAME:PDT
DTSTART:20180311T100000
END:DAYLIGHT
BEGIN:STANDARD
TZOFFSETFROM:-0700
TZOFFSETTO:-0800
TZNAME:PST
DTSTART:20181104T090000
END:STANDARD
BEGIN:DAYLIGHT
TZOFFSETFROM:-0800
TZOFFSETTO:-0700
TZNAME:PDT
DTSTART:20190310T100000
END:DAYLIGHT
BEGIN:STANDARD
TZOFFSETFROM:-0700
TZOFFSETTO:-0800
TZNAME:PST
DTSTART:20191103T090000
END:STANDARD
BEGIN:DAYLIGHT
TZOFFSETFROM:-0800
TZOFFSETTO:-0700
TZNAME:PDT
DTSTART:20200308T100000
END:DAYLIGHT
BEGIN:STANDARD
TZOFFSETFROM:-0700
TZOFFSETTO:-0800
TZNAME:PST
DTSTART:20201101T090000
END:STANDARD
BEGIN:DAYLIGHT
TZOFFSETFROM:-0800
TZOFFSETTO:-0700
TZNAME:PDT
DTSTART:20210314T100000
END:DAYLIGHT
BEGIN:STANDARD
TZOFFSETFROM:-0700
TZOFFSETTO:-0800
TZNAME:PST
DTSTART:20211107T090000
END:STANDARD
BEGIN:DAYLIGHT
TZOFFSETFROM:-0800
TZOFFSETTO:-0700
TZNAME:PDT
DTSTART:20220313T100000
END:DAYLIGHT
BEGIN:STANDARD
TZOFFSETFROM:-0700
TZOFFSETTO:-0800
TZNAME:PST
DTSTART:20221106T090000
END:STANDARD
BEGIN:DAYLIGHT
TZOFFSETFROM:-0800
TZOFFSETTO:-0700
TZNAME:PDT
DTSTART:20230312T100000
END:DAYLIGHT
BEGIN:STANDARD
TZOFFSETFROM:-0700
TZOFFSETTO:-0800
TZNAME:PST
DTSTART:20231105T090000
END:STANDARD
BEGIN:DAYLIGHT
TZOFFSETFROM:-0800
TZOFFSETTO:-0700
TZNAME:PDT
DTSTART:20240310T100000
END:DAYLIGHT
BEGIN:STANDARD
TZOFFSETFROM:-0700
TZOFFSETTO:-0800
TZNAME:PST
DTSTART:20241103T090000
END:STANDARD
BEGIN:DAYLIGHT
TZOFFSETFROM:-0800
TZOFFSETTO:-0700
TZNAME:PDT
DTSTART:20250309T100000
END:DAYLIGHT
BEGIN:STANDARD
TZOFFSETFROM:-0700
TZOFFSETTO:-0800
TZNAME:PST
DTSTART:20251102T090000
END:STANDARD
END:VTIMEZONE
BEGIN:VTIMEZONE
TZID:America/Vancouver
BEGIN:DAYLIGHT
TZOFFSETFROM:-0800
TZOFFSETTO:-0700
TZNAME:PDT
DTSTART:20140309T100000
END:DAYLIGHT
BEGIN:STANDARD
TZOFFSETFROM:-0700
TZOFFSETTO:-0800
TZNAME:PST
DTSTART:20141102T090000
END:STANDARD
BEGIN:DAYLIGHT
TZOFFSETFROM:-0800
TZOFFSETTO:-0700
TZNAME:PDT
DTSTART:20150308T100000
END:DAYLIGHT
BEGIN:STANDARD
TZOFFSETFROM:-0700
TZOFFSETTO:-0800
TZNAME:PST
DTSTART:20151101T090000
END:STANDARD
BEGIN:DAYLIGHT
TZOFFSETFROM:-0800
TZOFFSETTO:-0700
TZNAME:PDT
DTSTART:20160313T100000
END:DAYLIGHT
BEGIN:STANDARD
TZOFFSETFROM:-0700
TZOFFSETTO:-0800
TZNAME:PST
DTSTART:20161106T090000
END:STANDARD
END:VTIMEZONE
BEGIN:VEVENT
DTSTART;TZID=America/Los_Angeles:20241123T100000
DTEND;TZID=America/Los_Angeles:20241123T160000
DTSTAMP:20260423T200028
CREATED:20241028T045433Z
LAST-MODIFIED:20241028T045433Z
UID:23066-1732356000-1732377600@4dpnr.com
SUMMARY:Longview\, Kelso & Rainier MRR Club Model Train and Toy Swap Meet
DESCRIPTION:
URL:https://4dpnr.com/event/longview-kelso-rainier-mrr-club-model-train-and-toy-swap-meet/
LOCATION:Cowlitz County Event Center\, 1900 7th Ave\, Longview\, WA\, 98626\, United States
CATEGORIES:Community Event
END:VEVENT
BEGIN:VEVENT
DTSTART;VALUE=DATE:20220819
DTEND;VALUE=DATE:20220821
DTSTAMP:20260423T200028
CREATED:20220817T044955Z
LAST-MODIFIED:20220817T050252Z
UID:21223-1660867200-1661039999@4dpnr.com
SUMMARY:Snoqualmie Days Festival
DESCRIPTION:
URL:https://4dpnr.com/event/snoqualmie-days-festival/
LOCATION:Northwest Railway Museum\, 38625 SE King Street\, Snoqualmie\, WA\, 98065\, United States
CATEGORIES:Community Event
ORGANIZER;CN="Peggy Barchi":MAILTO:peggy@trainmuseum.org
END:VEVENT
BEGIN:VEVENT
DTSTART;TZID=America/Los_Angeles:20190109T193000
DTEND;TZID=America/Los_Angeles:20190109T210000
DTSTAMP:20260423T200028
CREATED:20181212T011230Z
LAST-MODIFIED:20181212T011230Z
UID:16634-1547062200-1547067600@4dpnr.com
SUMMARY:Snohomish County Railfans
DESCRIPTION:
URL:https://4dpnr.com/event/snohomish-county-railfans-2/
LOCATION:Hilton Lake Fire Station 12\, 3525 108th St. SE\, Everett\, WA\, 98208\, United States
CATEGORIES:Community Event
ORGANIZER;CN="Bob Alkire":MAILTO:bobalkire@comcast.net
END:VEVENT
BEGIN:VEVENT
DTSTART;TZID=America/Los_Angeles:20181212T193000
DTEND;TZID=America/Los_Angeles:20181212T210000
DTSTAMP:20260423T200028
CREATED:20181212T010922Z
LAST-MODIFIED:20181212T011256Z
UID:16632-1544643000-1544648400@4dpnr.com
SUMMARY:Snohomish County Railfans
DESCRIPTION:
URL:https://4dpnr.com/event/snohomish-county-railfans/
LOCATION:Hilton Lake Fire Station 12\, 3525 108th St. SE\, Everett\, WA\, 98208\, United States
CATEGORIES:Community Event
ORGANIZER;CN="Bob Alkire":MAILTO:bobalkire@comcast.net
END:VEVENT
BEGIN:VEVENT
DTSTART;TZID=America/Los_Angeles:20180113T100000
DTEND;TZID=America/Los_Angeles:20180113T180000
DTSTAMP:20260423T200028
CREATED:20171012T181521Z
LAST-MODIFIED:20171012T181521Z
UID:15303-1515837600-1515866400@4dpnr.com
SUMMARY:Pacific Science Center Train Show
DESCRIPTION:44th Annual Event
URL:https://4dpnr.com/event/pacific-science-center-train-show/
LOCATION:Pacific Science Center\, 200 Second Avenue North\, Seattle\, WA\, 98109\, United States
CATEGORIES:Community Event
END:VEVENT
BEGIN:VEVENT
DTSTART;TZID=America/Los_Angeles:20160821T100000
DTEND;TZID=America/Los_Angeles:20160821T160000
DTSTAMP:20260423T200028
CREATED:20160728T160349Z
LAST-MODIFIED:20160728T160349Z
UID:12487-1471773600-1471795200@4dpnr.com
SUMMARY:Snoqualmie Railroad Days
DESCRIPTION:
URL:https://4dpnr.com/event/snoqualmie-railroad-days-3/
LOCATION:Northwest Railway Museum\, 38625 SE King Street\, Snoqualmie\, WA\, 98065\, United States
CATEGORIES:Community Event
ORGANIZER;CN="Peggy Barchi":MAILTO:peggy@trainmuseum.org
END:VEVENT
BEGIN:VEVENT
DTSTART;TZID=America/Los_Angeles:20160820T070000
DTEND;TZID=America/Los_Angeles:20160820T210000
DTSTAMP:20260423T200028
CREATED:20160728T160247Z
LAST-MODIFIED:20160728T160247Z
UID:12485-1471676400-1471726800@4dpnr.com
SUMMARY:Snoqualmie Railroad Days
DESCRIPTION:
URL:https://4dpnr.com/event/snoqualmie-railroad-days-2/
LOCATION:Northwest Railway Museum\, 38625 SE King Street\, Snoqualmie\, WA\, 98065\, United States
CATEGORIES:Community Event
ORGANIZER;CN="Peggy Barchi":MAILTO:peggy@trainmuseum.org
END:VEVENT
BEGIN:VEVENT
DTSTART;TZID=America/Los_Angeles:20160819T170000
DTEND;TZID=America/Los_Angeles:20160819T210000
DTSTAMP:20260423T200028
CREATED:20160728T160126Z
LAST-MODIFIED:20160728T160126Z
UID:12484-1471626000-1471640400@4dpnr.com
SUMMARY:Snoqualmie Railroad Days
DESCRIPTION:
URL:https://4dpnr.com/event/snoqualmie-railroad-days/
LOCATION:Northwest Railway Museum\, 38625 SE King Street\, Snoqualmie\, WA\, 98065\, United States
CATEGORIES:Community Event
ORGANIZER;CN="Peggy Barchi":MAILTO:peggy@trainmuseum.org
END:VEVENT
BEGIN:VEVENT
DTSTART;TZID=America/Los_Angeles:20160724T090000
DTEND;TZID=America/Los_Angeles:20160724T170000
DTSTAMP:20260423T200028
CREATED:20160401T223137Z
LAST-MODIFIED:20160401T223137Z
UID:8740-1469350800-1469379600@4dpnr.com
SUMMARY:Day Out With Thomas at the NWM
DESCRIPTION:
URL:https://4dpnr.com/event/day-out-with-thomas-at-the-nwm-6/
LOCATION:Northwest Railway Museum\, 38625 SE King Street\, Snoqualmie\, WA\, 98065\, United States
CATEGORIES:Community Event,Museum or Historical Archive Event
ORGANIZER;CN="Peggy Barchi":MAILTO:peggy@trainmuseum.org
END:VEVENT
BEGIN:VEVENT
DTSTART;TZID=America/Los_Angeles:20160723T090000
DTEND;TZID=America/Los_Angeles:20160723T170000
DTSTAMP:20260423T200028
CREATED:20160401T223051Z
LAST-MODIFIED:20160401T223051Z
UID:8739-1469264400-1469293200@4dpnr.com
SUMMARY:Day Out With Thomas at the NWM
DESCRIPTION:
URL:https://4dpnr.com/event/day-out-with-thomas-at-the-nwm-5/
LOCATION:Northwest Railway Museum\, 38625 SE King Street\, Snoqualmie\, WA\, 98065\, United States
CATEGORIES:Community Event,Museum or Historical Archive Event
ORGANIZER;CN="Peggy Barchi":MAILTO:peggy@trainmuseum.org
END:VEVENT
BEGIN:VEVENT
DTSTART;TZID=America/Los_Angeles:20160722T090000
DTEND;TZID=America/Los_Angeles:20160722T170000
DTSTAMP:20260423T200028
CREATED:20160401T223005Z
LAST-MODIFIED:20160401T223005Z
UID:8738-1469178000-1469206800@4dpnr.com
SUMMARY:Day Out With Thomas at the NWM
DESCRIPTION:
URL:https://4dpnr.com/event/day-out-with-thomas-at-the-nwm-4/
LOCATION:Northwest Railway Museum\, 38625 SE King Street\, Snoqualmie\, WA\, 98065\, United States
CATEGORIES:Community Event,Museum or Historical Archive Event
ORGANIZER;CN="Peggy Barchi":MAILTO:peggy@trainmuseum.org
END:VEVENT
BEGIN:VEVENT
DTSTART;TZID=America/Los_Angeles:20160717T090000
DTEND;TZID=America/Los_Angeles:20160717T170000
DTSTAMP:20260423T200028
CREATED:20160401T222907Z
LAST-MODIFIED:20160401T222907Z
UID:8737-1468746000-1468774800@4dpnr.com
SUMMARY:Day Out With Thomas at the NWM
DESCRIPTION:
URL:https://4dpnr.com/event/day-out-with-thomas-at-the-nwm-3/
LOCATION:Northwest Railway Museum\, 38625 SE King Street\, Snoqualmie\, WA\, 98065\, United States
CATEGORIES:Community Event,Museum or Historical Archive Event
ORGANIZER;CN="Peggy Barchi":MAILTO:peggy@trainmuseum.org
END:VEVENT
BEGIN:VEVENT
DTSTART;TZID=America/Los_Angeles:20160716T090000
DTEND;TZID=America/Los_Angeles:20160716T170000
DTSTAMP:20260423T200028
CREATED:20160401T222815Z
LAST-MODIFIED:20160401T222815Z
UID:8736-1468659600-1468688400@4dpnr.com
SUMMARY:Day Out With Thomas at the NWM
DESCRIPTION:
URL:https://4dpnr.com/event/day-out-with-thomas-at-the-nwm-2/
LOCATION:Northwest Railway Museum\, 38625 SE King Street\, Snoqualmie\, WA\, 98065\, United States
CATEGORIES:Community Event,Museum or Historical Archive Event
ORGANIZER;CN="Peggy Barchi":MAILTO:peggy@trainmuseum.org
END:VEVENT
BEGIN:VEVENT
DTSTART;TZID=America/Los_Angeles:20160715T090000
DTEND;TZID=America/Los_Angeles:20160715T170000
DTSTAMP:20260423T200028
CREATED:20160401T222705Z
LAST-MODIFIED:20160401T222705Z
UID:8735-1468573200-1468602000@4dpnr.com
SUMMARY:Day Out With Thomas at the NWM
DESCRIPTION:
URL:https://4dpnr.com/event/day-out-with-thomas-at-the-nwm/
LOCATION:Northwest Railway Museum\, 38625 SE King Street\, Snoqualmie\, WA\, 98065\, United States
CATEGORIES:Community Event,Museum or Historical Archive Event
ORGANIZER;CN="Peggy Barchi":MAILTO:peggy@trainmuseum.org
END:VEVENT
BEGIN:VEVENT
DTSTART;VALUE=DATE:20150814
DTEND;VALUE=DATE:20150817
DTSTAMP:20260423T200028
CREATED:20150809T000605Z
LAST-MODIFIED:20150916T200947Z
UID:6593-1439510400-1439769599@4dpnr.com
SUMMARY:Snoqualmie Railroad Days 2015
DESCRIPTION:
URL:https://4dpnr.com/event/snoqualmie-railroad-days-2015/
LOCATION:Northwest Railway Museum\, 38625 SE King Street\, Snoqualmie\, WA\, 98065\, United States
CATEGORIES:Community Event
ORGANIZER;CN="Peggy Barchi":MAILTO:peggy@trainmuseum.org
END:VEVENT
END:VCALENDAR