BEGIN:VCALENDAR
VERSION:2.0
PRODID:-//Welcome to the 4th Division - ECPv6.15.20//NONSGML v1.0//EN
CALSCALE:GREGORIAN
METHOD:PUBLISH
X-WR-CALNAME:Welcome to the 4th Division
X-ORIGINAL-URL:https://4dpnr.com
X-WR-CALDESC:Events for Welcome to the 4th Division
REFRESH-INTERVAL;VALUE=DURATION:PT1H
X-Robots-Tag:noindex
X-PUBLISHED-TTL:PT1H
BEGIN:VTIMEZONE
TZID:America/Los_Angeles
BEGIN:DAYLIGHT
TZOFFSETFROM:-0800
TZOFFSETTO:-0700
TZNAME:PDT
DTSTART:20210314T100000
END:DAYLIGHT
BEGIN:STANDARD
TZOFFSETFROM:-0700
TZOFFSETTO:-0800
TZNAME:PST
DTSTART:20211107T090000
END:STANDARD
BEGIN:DAYLIGHT
TZOFFSETFROM:-0800
TZOFFSETTO:-0700
TZNAME:PDT
DTSTART:20220313T100000
END:DAYLIGHT
BEGIN:STANDARD
TZOFFSETFROM:-0700
TZOFFSETTO:-0800
TZNAME:PST
DTSTART:20221106T090000
END:STANDARD
BEGIN:DAYLIGHT
TZOFFSETFROM:-0800
TZOFFSETTO:-0700
TZNAME:PDT
DTSTART:20230312T100000
END:DAYLIGHT
BEGIN:STANDARD
TZOFFSETFROM:-0700
TZOFFSETTO:-0800
TZNAME:PST
DTSTART:20231105T090000
END:STANDARD
BEGIN:DAYLIGHT
TZOFFSETFROM:-0800
TZOFFSETTO:-0700
TZNAME:PDT
DTSTART:20240310T100000
END:DAYLIGHT
BEGIN:STANDARD
TZOFFSETFROM:-0700
TZOFFSETTO:-0800
TZNAME:PST
DTSTART:20241103T090000
END:STANDARD
END:VTIMEZONE
BEGIN:VEVENT
DTSTART;TZID=America/Los_Angeles:20230411T180000
DTEND;TZID=America/Los_Angeles:20230411T200000
DTSTAMP:20260424T055755
CREATED:20230204T180346Z
LAST-MODIFIED:20230416T022119Z
UID:21684-1681236000-1681243200@4dpnr.com
SUMMARY:Westside Clinic
DESCRIPTION:“Electricity and Multi-Meters” presented by Bert Cripe
URL:https://4dpnr.com/event/westside-clinic-65/
LOCATION:United Way Volunteer Center\, 645 4th St\, Bremerton\, WA\, 98337\, United States
CATEGORIES:Clinic
ORGANIZER;CN="Bill Hupe":MAILTO:whopay@tscnet.com
END:VEVENT
BEGIN:VEVENT
DTSTART;TZID=America/Los_Angeles:20230406T190000
DTEND;TZID=America/Los_Angeles:20230406T203000
DTSTAMP:20260424T055755
CREATED:20230204T174944Z
LAST-MODIFIED:20230204T174944Z
UID:21676-1680807600-1680813000@4dpnr.com
SUMMARY:Seattle North End Clinic on Zoom
DESCRIPTION:
URL:https://4dpnr.com/event/seattle-north-end-clinic-on-zoom-9/
LOCATION:Virtual Zoom Meeting (link in GrabIron)
CATEGORIES:Clinic
ORGANIZER;CN="Lisa Murray":MAILTO:mattinata@outlook.com
END:VEVENT
BEGIN:VEVENT
DTSTART;TZID=America/Los_Angeles:20230320T190000
DTEND;TZID=America/Los_Angeles:20230320T210000
DTSTAMP:20260424T055755
CREATED:20221211T024633Z
LAST-MODIFIED:20221211T024633Z
UID:21557-1679338800-1679346000@4dpnr.com
SUMMARY:Mount Vernon Clinic
DESCRIPTION:
URL:https://4dpnr.com/event/mount-vernon-clinic-33/
LOCATION:Mount Vernon Senior Center\, 1401 Cleveland Ave\, Mt Vernon\, WA\, 98273\, United States
CATEGORIES:Clinic
ORGANIZER;CN="Al Carter":MAILTO:tabooma@msn.com
END:VEVENT
BEGIN:VEVENT
DTSTART;TZID=America/Los_Angeles:20230317T190000
DTEND;TZID=America/Los_Angeles:20230317T203000
DTSTAMP:20260424T055755
CREATED:20221211T024541Z
LAST-MODIFIED:20221211T024541Z
UID:21555-1679079600-1679085000@4dpnr.com
SUMMARY:Olympia Clinic
DESCRIPTION:
URL:https://4dpnr.com/event/olympia-clinic-34/
LOCATION:Panorama City Seattle Room\, 1751 Circle Ln SE\, Lacey\, WA\, 98503\, United States
CATEGORIES:Clinic
ORGANIZER;CN="Gregory Wright":MAILTO:gregorywright2002@yahoo.com
END:VEVENT
BEGIN:VEVENT
DTSTART;TZID=America/Los_Angeles:20230316T190000
DTEND;TZID=America/Los_Angeles:20230316T213000
DTSTAMP:20260424T055755
CREATED:20221211T024958Z
LAST-MODIFIED:20221211T024958Z
UID:21561-1678993200-1679002200@4dpnr.com
SUMMARY:Eastside Virtual Clinic
DESCRIPTION:
URL:https://4dpnr.com/event/eastside-virtual-clinic-16/
LOCATION:Virtual Zoom Meeting (link in GrabIron)
CATEGORIES:Clinic
ORGANIZER;CN="Russ Segner":MAILTO:russseg@gmail.com
END:VEVENT
BEGIN:VEVENT
DTSTART;TZID=America/Los_Angeles:20230311T100000
DTEND;TZID=America/Los_Angeles:20230311T113000
DTSTAMP:20260424T055755
CREATED:20230225T034116Z
LAST-MODIFIED:20230308T173642Z
UID:21735-1678528800-1678534200@4dpnr.com
SUMMARY:March's "Second Saturday" Zoom is a panel on Aluminum for benchwork
DESCRIPTION:Before you go out and buy a bunch of lumber for your railroad’s benchwork\, consider joining us on March 11 for an interesting panel discussion on how to use new types of aluminum products instead. There can be advantages to it! Five panelists with recent experience looking into or using aluminum will compare notes and take your questions and thoughts\, moderated by Lee Marsh. \nAs usual\, the meeting will open at 9:30 and the formal presentations will start at 10:00am PST. The Zoom info to join the meeting is: \nhttps://us02web.zoom.us/j/87210657142?pwd=ZHhIWnZGMUU0YnAwNVUvMENheEZSUT09 \nMeeting ID: 872 1065 7142\nPasscode: 805577
URL:https://4dpnr.com/event/marchs-second-saturday-zoom-is-a-panel-on-aluminum-for-benchwork/
LOCATION:Virtual Zoom Meeting (link in GrabIron)
CATEGORIES:Clinic
ORGANIZER;CN="4th Div%2C PNR":MAILTO:burr.stewart@gmail.com
END:VEVENT
BEGIN:VEVENT
DTSTART;TZID=America/Los_Angeles:20230309T190000
DTEND;TZID=America/Los_Angeles:20230309T210000
DTSTAMP:20260424T055755
CREATED:20221211T012709Z
LAST-MODIFIED:20221211T012709Z
UID:21545-1678388400-1678395600@4dpnr.com
SUMMARY:Tacoma Clinic
DESCRIPTION:
URL:https://4dpnr.com/event/tacoma-clinic-62/
LOCATION:Virtual Zoom Meeting (link in GrabIron)
CATEGORIES:Clinic
ORGANIZER;CN="Kevin Klettke":MAILTO:wnrr@comcast.net
END:VEVENT
BEGIN:VEVENT
DTSTART;TZID=America/Los_Angeles:20230309T180000
DTEND;TZID=America/Los_Angeles:20230309T200000
DTSTAMP:20260424T055755
CREATED:20221211T012543Z
LAST-MODIFIED:20221211T012543Z
UID:21541-1678384800-1678392000@4dpnr.com
SUMMARY:Westside Clinic
DESCRIPTION:
URL:https://4dpnr.com/event/westside-clinic-64/
LOCATION:United Way Volunteer Center\, 645 4th St\, Bremerton\, WA\, 98337\, United States
CATEGORIES:Clinic
ORGANIZER;CN="Bill Hupe":MAILTO:whopay@tscnet.com
END:VEVENT
BEGIN:VEVENT
DTSTART;TZID=America/Los_Angeles:20230308T190000
DTEND;TZID=America/Los_Angeles:20230308T210000
DTSTAMP:20260424T055755
CREATED:20221211T012327Z
LAST-MODIFIED:20221211T012327Z
UID:21537-1678302000-1678309200@4dpnr.com
SUMMARY:Skagit Valley and Whidbey Island Clinic
DESCRIPTION:
URL:https://4dpnr.com/event/skagit-valley-and-whidbey-island-clinic-41/
LOCATION:Virtual Zoom Meeting (link in GrabIron)
CATEGORIES:Clinic
ORGANIZER;CN="Rich Blake":MAILTO:svw_organizer@4dpnr.com
END:VEVENT
BEGIN:VEVENT
DTSTART;TZID=America/Los_Angeles:20230302T190000
DTEND;TZID=America/Los_Angeles:20230302T203000
DTSTAMP:20260424T055755
CREATED:20221208T023928Z
LAST-MODIFIED:20221208T023928Z
UID:21527-1677783600-1677789000@4dpnr.com
SUMMARY:Seattle North End Clinic on Zoom
DESCRIPTION:
URL:https://4dpnr.com/event/seattle-north-end-clinic-on-zoom-8/
LOCATION:Virtual Zoom Meeting (link in GrabIron)
CATEGORIES:Clinic
ORGANIZER;CN="Lisa Murray":MAILTO:mattinata@outlook.com
END:VEVENT
BEGIN:VEVENT
DTSTART;TZID=America/Los_Angeles:20230220T190000
DTEND;TZID=America/Los_Angeles:20230220T210000
DTSTAMP:20260424T055755
CREATED:20221211T024144Z
LAST-MODIFIED:20221211T024324Z
UID:21551-1676919600-1676926800@4dpnr.com
SUMMARY:Mount Vernon Clinic
DESCRIPTION:
URL:https://4dpnr.com/event/mount-vernon-clinic-32/
LOCATION:Mount Vernon Senior Center\, 1401 Cleveland Ave\, Mt Vernon\, WA\, 98273\, United States
CATEGORIES:Clinic
ORGANIZER;CN="Al Carter":MAILTO:tabooma@msn.com
END:VEVENT
BEGIN:VEVENT
DTSTART;TZID=America/Los_Angeles:20230217T190000
DTEND;TZID=America/Los_Angeles:20230217T203000
DTSTAMP:20260424T055755
CREATED:20221211T024526Z
LAST-MODIFIED:20221211T024526Z
UID:21553-1676660400-1676665800@4dpnr.com
SUMMARY:Olympia Clinic
DESCRIPTION:
URL:https://4dpnr.com/event/olympia-clinic-33/
LOCATION:Panorama City Seattle Room\, 1751 Circle Ln SE\, Lacey\, WA\, 98503\, United States
CATEGORIES:Clinic
ORGANIZER;CN="Gregory Wright":MAILTO:gregorywright2002@yahoo.com
END:VEVENT
BEGIN:VEVENT
DTSTART;TZID=America/Los_Angeles:20230216T190000
DTEND;TZID=America/Los_Angeles:20230216T213000
DTSTAMP:20260424T055755
CREATED:20221211T024940Z
LAST-MODIFIED:20221211T024940Z
UID:21559-1676574000-1676583000@4dpnr.com
SUMMARY:Eastside Virtual Clinic
DESCRIPTION:
URL:https://4dpnr.com/event/eastside-virtual-clinic-15/
LOCATION:Virtual Zoom Meeting (link in GrabIron)
CATEGORIES:Clinic
ORGANIZER;CN="Russ Segner":MAILTO:russseg@gmail.com
END:VEVENT
BEGIN:VEVENT
DTSTART;TZID=America/Los_Angeles:20230209T190000
DTEND;TZID=America/Los_Angeles:20230209T210000
DTSTAMP:20260424T055755
CREATED:20221211T012653Z
LAST-MODIFIED:20221211T012653Z
UID:21543-1675969200-1675976400@4dpnr.com
SUMMARY:Tacoma Clinic
DESCRIPTION:
URL:https://4dpnr.com/event/tacoma-clinic-61/
LOCATION:Virtual Zoom Meeting (link in GrabIron)
CATEGORIES:Clinic
ORGANIZER;CN="Kevin Klettke":MAILTO:wnrr@comcast.net
END:VEVENT
BEGIN:VEVENT
DTSTART;TZID=America/Los_Angeles:20230209T180000
DTEND;TZID=America/Los_Angeles:20230209T200000
DTSTAMP:20260424T055755
CREATED:20221211T012521Z
LAST-MODIFIED:20221211T012521Z
UID:21539-1675965600-1675972800@4dpnr.com
SUMMARY:Westside Clinic
DESCRIPTION:
URL:https://4dpnr.com/event/westside-clinic-63/
LOCATION:United Way Volunteer Center\, 645 4th St\, Bremerton\, WA\, 98337\, United States
CATEGORIES:Clinic
ORGANIZER;CN="Bill Hupe":MAILTO:whopay@tscnet.com
END:VEVENT
BEGIN:VEVENT
DTSTART;TZID=America/Los_Angeles:20230208T190000
DTEND;TZID=America/Los_Angeles:20230208T210000
DTSTAMP:20260424T055755
CREATED:20221211T012304Z
LAST-MODIFIED:20221211T012304Z
UID:21535-1675882800-1675890000@4dpnr.com
SUMMARY:Skagit Valley and Whidbey Island Clinic
DESCRIPTION:
URL:https://4dpnr.com/event/skagit-valley-and-whidbey-island-clinic-40/
LOCATION:Virtual Zoom Meeting (link in GrabIron)
CATEGORIES:Clinic
ORGANIZER;CN="Rich Blake":MAILTO:svw_organizer@4dpnr.com
END:VEVENT
BEGIN:VEVENT
DTSTART;TZID=America/Los_Angeles:20230202T190000
DTEND;TZID=America/Los_Angeles:20230202T203000
DTSTAMP:20260424T055755
CREATED:20221208T023848Z
LAST-MODIFIED:20221208T023944Z
UID:21525-1675364400-1675369800@4dpnr.com
SUMMARY:Seattle North End Clinic on Zoom
DESCRIPTION:
URL:https://4dpnr.com/event/seattle-north-end-clinic-on-zoom-7/
LOCATION:Virtual Zoom Meeting (link in GrabIron)
CATEGORIES:Clinic
ORGANIZER;CN="Lisa Murray":MAILTO:mattinata@outlook.com
END:VEVENT
BEGIN:VEVENT
DTSTART;TZID=America/Los_Angeles:20230120T190000
DTEND;TZID=America/Los_Angeles:20230120T203000
DTSTAMP:20260424T055755
CREATED:20221105T232924Z
LAST-MODIFIED:20221105T232924Z
UID:21470-1674241200-1674246600@4dpnr.com
SUMMARY:Olympia Clinic
DESCRIPTION:
URL:https://4dpnr.com/event/olympia-clinic-32/
LOCATION:Panorama City Seattle Room\, 1751 Circle Ln SE\, Lacey\, WA\, 98503\, United States
CATEGORIES:Clinic
ORGANIZER;CN="Gregory Wright":MAILTO:gregorywright2002@yahoo.com
END:VEVENT
BEGIN:VEVENT
DTSTART;TZID=America/Los_Angeles:20230119T190000
DTEND;TZID=America/Los_Angeles:20230119T213000
DTSTAMP:20260424T055755
CREATED:20221105T233118Z
LAST-MODIFIED:20221105T233118Z
UID:21474-1674154800-1674163800@4dpnr.com
SUMMARY:Eastside Virtual Clinic
DESCRIPTION:
URL:https://4dpnr.com/event/eastside-virtual-clinic-14/
LOCATION:Virtual Zoom Meeting (link in GrabIron)
CATEGORIES:Clinic
ORGANIZER;CN="Russ Segner":MAILTO:russseg@gmail.com
END:VEVENT
BEGIN:VEVENT
DTSTART;TZID=America/Los_Angeles:20230116T190000
DTEND;TZID=America/Los_Angeles:20230116T210000
DTSTAMP:20260424T055755
CREATED:20221105T232748Z
LAST-MODIFIED:20221211T024305Z
UID:21466-1673895600-1673902800@4dpnr.com
SUMMARY:Mount Vernon Clinic
DESCRIPTION:
URL:https://4dpnr.com/event/mount-vernon-clinic-31/
LOCATION:Mount Vernon Senior Center\, 1401 Cleveland Ave\, Mt Vernon\, WA\, 98273\, United States
CATEGORIES:Clinic
ORGANIZER;CN="Al Carter":MAILTO:tabooma@msn.com
END:VEVENT
BEGIN:VEVENT
DTSTART;TZID=America/Los_Angeles:20230112T190000
DTEND;TZID=America/Los_Angeles:20230112T210000
DTSTAMP:20260424T055755
CREATED:20221105T232413Z
LAST-MODIFIED:20221105T232413Z
UID:21462-1673550000-1673557200@4dpnr.com
SUMMARY:Tacoma Clinic
DESCRIPTION:
URL:https://4dpnr.com/event/tacoma-clinic-60/
LOCATION:Virtual Zoom Meeting (link in GrabIron)
CATEGORIES:Clinic
ORGANIZER;CN="Kevin Klettke":MAILTO:wnrr@comcast.net
END:VEVENT
BEGIN:VEVENT
DTSTART;TZID=America/Los_Angeles:20230112T180000
DTEND;TZID=America/Los_Angeles:20230112T200000
DTSTAMP:20260424T055755
CREATED:20221105T232257Z
LAST-MODIFIED:20221105T232257Z
UID:21458-1673546400-1673553600@4dpnr.com
SUMMARY:Westside Clinic
DESCRIPTION:
URL:https://4dpnr.com/event/westside-clinic-62/
LOCATION:United Way Volunteer Center\, 645 4th St\, Bremerton\, WA\, 98337\, United States
CATEGORIES:Clinic
ORGANIZER;CN="Bill Hupe":MAILTO:whopay@tscnet.com
END:VEVENT
BEGIN:VEVENT
DTSTART;TZID=America/Los_Angeles:20230111T190000
DTEND;TZID=America/Los_Angeles:20230111T210000
DTSTAMP:20260424T055755
CREATED:20221105T232113Z
LAST-MODIFIED:20221105T232113Z
UID:21454-1673463600-1673470800@4dpnr.com
SUMMARY:Skagit Valley and Whidbey Island Clinic
DESCRIPTION:
URL:https://4dpnr.com/event/skagit-valley-and-whidbey-island-clinic-39/
LOCATION:Virtual Zoom Meeting (link in GrabIron)
CATEGORIES:Clinic
ORGANIZER;CN="Rich Blake":MAILTO:svw_organizer@4dpnr.com
END:VEVENT
BEGIN:VEVENT
DTSTART;TZID=America/Los_Angeles:20230105T190000
DTEND;TZID=America/Los_Angeles:20230105T203000
DTSTAMP:20260424T055755
CREATED:20221105T232006Z
LAST-MODIFIED:20221208T024249Z
UID:21450-1672945200-1672950600@4dpnr.com
SUMMARY:Seattle North End Clinic on Zoom
DESCRIPTION:
URL:https://4dpnr.com/event/seattle-north-end-clinic-on-zoom-6/
LOCATION:Virtual Zoom Meeting (link in GrabIron)
CATEGORIES:Clinic
ORGANIZER;CN="Lisa Murray":MAILTO:mattinata@outlook.com
END:VEVENT
BEGIN:VEVENT
DTSTART;TZID=America/Los_Angeles:20221222T190000
DTEND;TZID=America/Los_Angeles:20221222T213000
DTSTAMP:20260424T055755
CREATED:20221105T233058Z
LAST-MODIFIED:20221216T045244Z
UID:21472-1671735600-1671744600@4dpnr.com
SUMMARY:Eastside Virtual Clinic
DESCRIPTION:Show and Tell:  Four volunteers will be sharing what they have on their workbench:   \nMax Maginness\, MMR is working on a section of trackwork that is a double track crossover lead into Jim Sabol’s O scale passenger station. It involves circuitry that automatically aligns the turnouts for any one of six platform tracks. \nAlex Brikoff is working on a large HO structure\, the Walthers Prairie C0-Op grain silo. \nGreg Amer is working on an O scale brass EMD GP 15 kit \nLee Marsh is building a very interesting flat car load in HO.
URL:https://4dpnr.com/event/eastside-virtual-clinic-13/
LOCATION:Virtual Zoom Meeting (link in GrabIron)
CATEGORIES:Clinic
ORGANIZER;CN="Russ Segner":MAILTO:russseg@gmail.com
END:VEVENT
BEGIN:VEVENT
DTSTART;TZID=America/Los_Angeles:20221219T190000
DTEND;TZID=America/Los_Angeles:20221219T210000
DTSTAMP:20260424T055755
CREATED:20221105T232659Z
LAST-MODIFIED:20221105T232659Z
UID:21464-1671476400-1671483600@4dpnr.com
SUMMARY:Mount Vernon Clinic
DESCRIPTION:
URL:https://4dpnr.com/event/mount-vernon-clinic-30/
LOCATION:Mount Vernon Senior Center\, 1401 Cleveland Ave\, Mt Vernon\, WA\, 98273\, United States
CATEGORIES:Clinic
ORGANIZER;CN="Al Carter":MAILTO:tabooma@msn.com
END:VEVENT
BEGIN:VEVENT
DTSTART;TZID=America/Los_Angeles:20221214T190000
DTEND;TZID=America/Los_Angeles:20221214T210000
DTSTAMP:20260424T055755
CREATED:20221105T232031Z
LAST-MODIFIED:20221105T232149Z
UID:21452-1671044400-1671051600@4dpnr.com
SUMMARY:Skagit Valley and Whidbey Island Clinic
DESCRIPTION:
URL:https://4dpnr.com/event/skagit-valley-and-whidbey-island-clinic-38/
LOCATION:Virtual Zoom Meeting (link in GrabIron)
CATEGORIES:Clinic
ORGANIZER;CN="Rich Blake":MAILTO:svw_organizer@4dpnr.com
END:VEVENT
BEGIN:VEVENT
DTSTART;TZID=America/Los_Angeles:20221209T190000
DTEND;TZID=America/Los_Angeles:20221209T203000
DTSTAMP:20260424T055755
CREATED:20221105T232909Z
LAST-MODIFIED:20221208T024837Z
UID:21468-1670612400-1670617800@4dpnr.com
SUMMARY:Olympia Clinic
DESCRIPTION:Scott Buckley will present pictures from a trip to The Great Western Steam Up. \nView the largest reunion of existing Virginia & Truckee locomotives assembled in over 75 years\, including the famous Reno\, No. 11.
URL:https://4dpnr.com/event/olympia-clinic-31/
LOCATION:Panorama City Seattle Room\, 1751 Circle Ln SE\, Lacey\, WA\, 98503\, United States
CATEGORIES:Clinic
ORGANIZER;CN="Gregory Wright":MAILTO:gregorywright2002@yahoo.com
END:VEVENT
BEGIN:VEVENT
DTSTART;TZID=America/Los_Angeles:20221208T190000
DTEND;TZID=America/Los_Angeles:20221208T210000
DTSTAMP:20260424T055755
CREATED:20221105T232345Z
LAST-MODIFIED:20221105T232345Z
UID:21460-1670526000-1670533200@4dpnr.com
SUMMARY:Tacoma Clinic
DESCRIPTION:
URL:https://4dpnr.com/event/tacoma-clinic-59/
LOCATION:Virtual Zoom Meeting (link in GrabIron)
CATEGORIES:Clinic
ORGANIZER;CN="Kevin Klettke":MAILTO:wnrr@comcast.net
END:VEVENT
BEGIN:VEVENT
DTSTART;TZID=America/Los_Angeles:20221208T180000
DTEND;TZID=America/Los_Angeles:20221208T200000
DTSTAMP:20260424T055755
CREATED:20221105T232237Z
LAST-MODIFIED:20221208T024556Z
UID:21456-1670522400-1670529600@4dpnr.com
SUMMARY:Westside Clinic
DESCRIPTION:Fellowship and Dirty Santa.
URL:https://4dpnr.com/event/westside-clinic-61/
LOCATION:United Way Volunteer Center\, 645 4th St\, Bremerton\, WA\, 98337\, United States
CATEGORIES:Clinic
ORGANIZER;CN="Bill Hupe":MAILTO:whopay@tscnet.com
END:VEVENT
END:VCALENDAR