BEGIN:VCALENDAR
VERSION:2.0
PRODID:-//Welcome to the 4th Division - ECPv6.15.20//NONSGML v1.0//EN
CALSCALE:GREGORIAN
METHOD:PUBLISH
X-ORIGINAL-URL:https://4dpnr.com
X-WR-CALDESC:Events for Welcome to the 4th Division
REFRESH-INTERVAL;VALUE=DURATION:PT1H
X-Robots-Tag:noindex
X-PUBLISHED-TTL:PT1H
BEGIN:VTIMEZONE
TZID:America/Los_Angeles
BEGIN:DAYLIGHT
TZOFFSETFROM:-0800
TZOFFSETTO:-0700
TZNAME:PDT
DTSTART:20220313T100000
END:DAYLIGHT
BEGIN:STANDARD
TZOFFSETFROM:-0700
TZOFFSETTO:-0800
TZNAME:PST
DTSTART:20221106T090000
END:STANDARD
BEGIN:DAYLIGHT
TZOFFSETFROM:-0800
TZOFFSETTO:-0700
TZNAME:PDT
DTSTART:20230312T100000
END:DAYLIGHT
BEGIN:STANDARD
TZOFFSETFROM:-0700
TZOFFSETTO:-0800
TZNAME:PST
DTSTART:20231105T090000
END:STANDARD
BEGIN:DAYLIGHT
TZOFFSETFROM:-0800
TZOFFSETTO:-0700
TZNAME:PDT
DTSTART:20240310T100000
END:DAYLIGHT
BEGIN:STANDARD
TZOFFSETFROM:-0700
TZOFFSETTO:-0800
TZNAME:PST
DTSTART:20241103T090000
END:STANDARD
BEGIN:DAYLIGHT
TZOFFSETFROM:-0800
TZOFFSETTO:-0700
TZNAME:PDT
DTSTART:20250309T100000
END:DAYLIGHT
BEGIN:STANDARD
TZOFFSETFROM:-0700
TZOFFSETTO:-0800
TZNAME:PST
DTSTART:20251102T090000
END:STANDARD
END:VTIMEZONE
BEGIN:VEVENT
DTSTART;TZID=America/Los_Angeles:20240208T190000
DTEND;TZID=America/Los_Angeles:20240208T210000
DTSTAMP:20260423T232749
CREATED:20231104T234159Z
LAST-MODIFIED:20231104T234159Z
UID:22127-1707418800-1707426000@4dpnr.com
SUMMARY:Tacoma Clinic
DESCRIPTION:
URL:https://4dpnr.com/event/tacoma-clinic-69/
LOCATION:Virtual Zoom Meeting (link in GrabIron)
CATEGORIES:Clinic
ORGANIZER;CN="Kevin Klettke":MAILTO:wnrr@comcast.net
END:VEVENT
BEGIN:VEVENT
DTSTART;TZID=America/Los_Angeles:20240118T190000
DTEND;TZID=America/Los_Angeles:20240118T213000
DTSTAMP:20260423T232749
CREATED:20231104T234632Z
LAST-MODIFIED:20240115T204832Z
UID:22137-1705604400-1705613400@4dpnr.com
SUMMARY:Eastside Virtual Clinic
DESCRIPTION:Let’s start the new year with a look at how to create realistic scenes on our layouts.  We will use several examples from Dale Kreutzer’s fully scenicked layout in Port Orchard. Dale has taken photos at locations in Colorado he is modelling and created large backdrops\, some over 20 feet in length.  He has carefully blended the foreground materials with the backdrops in a manner that completely hides the transition from the horizontal to the vertical.
URL:https://4dpnr.com/event/eastside-virtual-clinic-24/
LOCATION:Virtual Zoom Meeting (link in GrabIron)
CATEGORIES:Clinic
ORGANIZER;CN="Russ Segner":MAILTO:russseg@gmail.com
END:VEVENT
BEGIN:VEVENT
DTSTART;TZID=America/Los_Angeles:20240115T190000
DTEND;TZID=America/Los_Angeles:20240115T210000
DTSTAMP:20260423T232749
CREATED:20231104T234519Z
LAST-MODIFIED:20240114T004031Z
UID:22133-1705345200-1705352400@4dpnr.com
SUMMARY:Mount Vernon Clinic - CANCELLED
DESCRIPTION:
URL:https://4dpnr.com/event/mount-vernon-clinic-40/
LOCATION:Mount Vernon Senior Center\, 1401 Cleveland Ave\, Mt Vernon\, WA\, 98273\, United States
CATEGORIES:Clinic
ORGANIZER;CN="Al Carter":MAILTO:tabooma@msn.com
END:VEVENT
BEGIN:VEVENT
DTSTART;TZID=America/Los_Angeles:20240112T190000
DTEND;TZID=America/Los_Angeles:20240112T203000
DTSTAMP:20260423T232749
CREATED:20231104T234334Z
LAST-MODIFIED:20240113T195246Z
UID:22129-1705086000-1705091400@4dpnr.com
SUMMARY:Olympia Clinic
DESCRIPTION:
URL:https://4dpnr.com/event/olympia-clinic-41/
LOCATION:Panorama City Seattle Room\, 1751 Circle Ln SE\, Lacey\, WA\, 98503\, United States
CATEGORIES:Clinic
ORGANIZER;CN="Gregory Wright":MAILTO:gregorywright2002@yahoo.com
END:VEVENT
BEGIN:VEVENT
DTSTART;TZID=America/Los_Angeles:20240111T190000
DTEND;TZID=America/Los_Angeles:20240111T210000
DTSTAMP:20260423T232749
CREATED:20231104T234123Z
LAST-MODIFIED:20231104T234123Z
UID:22125-1704999600-1705006800@4dpnr.com
SUMMARY:Tacoma Clinic
DESCRIPTION:
URL:https://4dpnr.com/event/tacoma-clinic-68/
LOCATION:Virtual Zoom Meeting (link in GrabIron)
CATEGORIES:Clinic
ORGANIZER;CN="Kevin Klettke":MAILTO:wnrr@comcast.net
END:VEVENT
BEGIN:VEVENT
DTSTART;TZID=America/Los_Angeles:20240110T190000
DTEND;TZID=America/Los_Angeles:20240110T210000
DTSTAMP:20260423T232749
CREATED:20231104T233954Z
LAST-MODIFIED:20231104T233954Z
UID:22121-1704913200-1704920400@4dpnr.com
SUMMARY:Skagit Valley and Whidbey Island Clinic
DESCRIPTION:
URL:https://4dpnr.com/event/skagit-valley-and-whidbey-island-clinic-46/
LOCATION:Oak Harbor Senior Center\, 51 SE Jerome St\, Oak Harbor\, WA\, 98277\, United States
CATEGORIES:Clinic
ORGANIZER;CN="Rich Blake":MAILTO:svw_organizer@4dpnr.com
END:VEVENT
BEGIN:VEVENT
DTSTART;TZID=America/Los_Angeles:20240108T173000
DTEND;TZID=America/Los_Angeles:20240108T193000
DTSTAMP:20260423T232749
CREATED:20231104T233831Z
LAST-MODIFIED:20231210T034818Z
UID:22117-1704735000-1704742200@4dpnr.com
SUMMARY:Westside Clinic
DESCRIPTION:
URL:https://4dpnr.com/event/westside-clinic-70/
LOCATION:Kitsap Mall\, 10315 Silverdale Way NW\, Silverdale\, WA\, 98383\, United States
CATEGORIES:Clinic
ORGANIZER;CN="Bill Hupe":MAILTO:whopay@tscnet.com
END:VEVENT
BEGIN:VEVENT
DTSTART;TZID=America/Los_Angeles:20231221T190000
DTEND;TZID=America/Los_Angeles:20231221T213000
DTSTAMP:20260423T232749
CREATED:20230923T205020Z
LAST-MODIFIED:20230923T205020Z
UID:22068-1703185200-1703194200@4dpnr.com
SUMMARY:Eastside Virtual Clinic
DESCRIPTION:
URL:https://4dpnr.com/event/eastside-virtual-clinic-23/
LOCATION:Virtual Zoom Meeting (link in GrabIron)
CATEGORIES:Clinic
ORGANIZER;CN="Russ Segner":MAILTO:russseg@gmail.com
END:VEVENT
BEGIN:VEVENT
DTSTART;TZID=America/Los_Angeles:20231218T190000
DTEND;TZID=America/Los_Angeles:20231218T210000
DTSTAMP:20260423T232749
CREATED:20230923T204102Z
LAST-MODIFIED:20230923T204102Z
UID:22056-1702926000-1702933200@4dpnr.com
SUMMARY:Mount Vernon Clinic
DESCRIPTION:
URL:https://4dpnr.com/event/mount-vernon-clinic-39/
LOCATION:Mount Vernon Senior Center\, 1401 Cleveland Ave\, Mt Vernon\, WA\, 98273\, United States
CATEGORIES:Clinic
ORGANIZER;CN="Al Carter":MAILTO:tabooma@msn.com
END:VEVENT
BEGIN:VEVENT
DTSTART;TZID=America/Los_Angeles:20231215T190000
DTEND;TZID=America/Los_Angeles:20231215T203000
DTSTAMP:20260423T232749
CREATED:20230923T204805Z
LAST-MODIFIED:20230923T204805Z
UID:22062-1702666800-1702672200@4dpnr.com
SUMMARY:Olympia Clinic
DESCRIPTION:
URL:https://4dpnr.com/event/olympia-clinic-40/
LOCATION:Panorama City Seattle Room\, 1751 Circle Ln SE\, Lacey\, WA\, 98503\, United States
CATEGORIES:Clinic
ORGANIZER;CN="Gregory Wright":MAILTO:gregorywright2002@yahoo.com
END:VEVENT
BEGIN:VEVENT
DTSTART;TZID=America/Los_Angeles:20231214T190000
DTEND;TZID=America/Los_Angeles:20231214T210000
DTSTAMP:20260423T232749
CREATED:20230923T203915Z
LAST-MODIFIED:20231210T053720Z
UID:22054-1702580400-1702587600@4dpnr.com
SUMMARY:Tacoma Clinic
DESCRIPTION:In-person & online hybrid meeting.   “An Introduction into 3D Printing” presented by George Bono.\n9402 47th St  W\, University Place\, WA
URL:https://4dpnr.com/event/tacoma-clinic-67/
LOCATION:Beckonridge Community Center\, 9402 47th St W\, University Place\, WA\, 98467\, United States
CATEGORIES:Clinic
ORGANIZER;CN="Kevin Klettke":MAILTO:wnrr@comcast.net
END:VEVENT
BEGIN:VEVENT
DTSTART;TZID=America/Los_Angeles:20231213T190000
DTEND;TZID=America/Los_Angeles:20231213T210000
DTSTAMP:20260423T232749
CREATED:20230923T201033Z
LAST-MODIFIED:20230923T201033Z
UID:22040-1702494000-1702501200@4dpnr.com
SUMMARY:Skagit Valley and Whidbey Island Clinic
DESCRIPTION:
URL:https://4dpnr.com/event/skagit-valley-and-whidbey-island-clinic-45/
LOCATION:Oak Harbor Senior Center\, 51 SE Jerome St\, Oak Harbor\, WA\, 98277\, United States
CATEGORIES:Clinic
ORGANIZER;CN="Rich Blake":MAILTO:svw_organizer@4dpnr.com
END:VEVENT
BEGIN:VEVENT
DTSTART;TZID=America/Los_Angeles:20231211T173000
DTEND;TZID=America/Los_Angeles:20231211T193000
DTSTAMP:20260423T232749
CREATED:20230923T203514Z
LAST-MODIFIED:20231210T055745Z
UID:22048-1702315800-1702323000@4dpnr.com
SUMMARY:Westside Clinic - Cancelled
DESCRIPTION:No clinic is scheduled for December.
URL:https://4dpnr.com/event/westside-clinic-69/
LOCATION:Kitsap Mall\, 10315 Silverdale Way NW\, Silverdale\, WA\, 98383\, United States
CATEGORIES:Clinic
ORGANIZER;CN="Bill Hupe":MAILTO:whopay@tscnet.com
END:VEVENT
BEGIN:VEVENT
DTSTART;TZID=America/Los_Angeles:20231120T190000
DTEND;TZID=America/Los_Angeles:20231120T210000
DTSTAMP:20260423T232749
CREATED:20230820T163440Z
LAST-MODIFIED:20230916T145405Z
UID:21961-1700506800-1700514000@4dpnr.com
SUMMARY:Mount Vernon Clinic
DESCRIPTION:Cliff Aaker clinic on “Decalling”
URL:https://4dpnr.com/event/mount-vernon-clinic-38/
LOCATION:Mount Vernon Senior Center\, 1401 Cleveland Ave\, Mt Vernon\, WA\, 98273\, United States
CATEGORIES:Clinic
ORGANIZER;CN="Al Carter":MAILTO:tabooma@msn.com
END:VEVENT
BEGIN:VEVENT
DTSTART;TZID=America/Los_Angeles:20231117T190000
DTEND;TZID=America/Los_Angeles:20231117T203000
DTSTAMP:20260423T232749
CREATED:20230923T204749Z
LAST-MODIFIED:20230923T204749Z
UID:22060-1700247600-1700253000@4dpnr.com
SUMMARY:Olympia Clinic
DESCRIPTION:
URL:https://4dpnr.com/event/olympia-clinic-39/
LOCATION:Panorama City Seattle Room\, 1751 Circle Ln SE\, Lacey\, WA\, 98503\, United States
CATEGORIES:Clinic
ORGANIZER;CN="Gregory Wright":MAILTO:gregorywright2002@yahoo.com
END:VEVENT
BEGIN:VEVENT
DTSTART;TZID=America/Los_Angeles:20231116T190000
DTEND;TZID=America/Los_Angeles:20231116T213000
DTSTAMP:20260423T232749
CREATED:20230923T204953Z
LAST-MODIFIED:20230923T204953Z
UID:22066-1700161200-1700170200@4dpnr.com
SUMMARY:Eastside Virtual Clinic
DESCRIPTION:
URL:https://4dpnr.com/event/eastside-virtual-clinic-22/
LOCATION:Virtual Zoom Meeting (link in GrabIron)
CATEGORIES:Clinic
ORGANIZER;CN="Russ Segner":MAILTO:russseg@gmail.com
END:VEVENT
BEGIN:VEVENT
DTSTART;TZID=America/Los_Angeles:20231114T173000
DTEND;TZID=America/Los_Angeles:20231114T193000
DTSTAMP:20260423T232749
CREATED:20230923T203452Z
LAST-MODIFIED:20230923T203452Z
UID:22046-1699983000-1699990200@4dpnr.com
SUMMARY:Westside Clinic
DESCRIPTION:
URL:https://4dpnr.com/event/westside-clinic-68/
LOCATION:Kitsap Mall\, 10315 Silverdale Way NW\, Silverdale\, WA\, 98383\, United States
CATEGORIES:Clinic
ORGANIZER;CN="Bill Hupe":MAILTO:whopay@tscnet.com
END:VEVENT
BEGIN:VEVENT
DTSTART;TZID=America/Los_Angeles:20231109T190000
DTEND;TZID=America/Los_Angeles:20231109T210000
DTSTAMP:20260423T232749
CREATED:20230923T203815Z
LAST-MODIFIED:20230923T203815Z
UID:22052-1699556400-1699563600@4dpnr.com
SUMMARY:Tacoma Clinic
DESCRIPTION:
URL:https://4dpnr.com/event/tacoma-clinic-66/
LOCATION:Virtual Zoom Meeting (link in GrabIron)
CATEGORIES:Clinic
ORGANIZER;CN="Kevin Klettke":MAILTO:wnrr@comcast.net
END:VEVENT
BEGIN:VEVENT
DTSTART;TZID=America/Los_Angeles:20231108T190000
DTEND;TZID=America/Los_Angeles:20231108T210000
DTSTAMP:20260423T232749
CREATED:20230923T200927Z
LAST-MODIFIED:20230923T200927Z
UID:22038-1699470000-1699477200@4dpnr.com
SUMMARY:Skagit Valley and Whidbey Island Clinic
DESCRIPTION:
URL:https://4dpnr.com/event/skagit-valley-and-whidbey-island-clinic-44/
LOCATION:Oak Harbor Senior Center\, 51 SE Jerome St\, Oak Harbor\, WA\, 98277\, United States
CATEGORIES:Clinic
ORGANIZER;CN="Rich Blake":MAILTO:svw_organizer@4dpnr.com
END:VEVENT
BEGIN:VEVENT
DTSTART;TZID=America/Los_Angeles:20231020T190000
DTEND;TZID=America/Los_Angeles:20231020T203000
DTSTAMP:20260423T232749
CREATED:20230923T204737Z
LAST-MODIFIED:20230923T204737Z
UID:22058-1697828400-1697833800@4dpnr.com
SUMMARY:Olympia Clinic
DESCRIPTION:
URL:https://4dpnr.com/event/olympia-clinic-38/
LOCATION:Panorama City Seattle Room\, 1751 Circle Ln SE\, Lacey\, WA\, 98503\, United States
CATEGORIES:Clinic
ORGANIZER;CN="Gregory Wright":MAILTO:gregorywright2002@yahoo.com
END:VEVENT
BEGIN:VEVENT
DTSTART;TZID=America/Los_Angeles:20231019T190000
DTEND;TZID=America/Los_Angeles:20231019T213000
DTSTAMP:20260423T232749
CREATED:20230923T204934Z
LAST-MODIFIED:20230923T204934Z
UID:22064-1697742000-1697751000@4dpnr.com
SUMMARY:Eastside Virtual Clinic
DESCRIPTION:
URL:https://4dpnr.com/event/eastside-virtual-clinic-21/
LOCATION:Virtual Zoom Meeting (link in GrabIron)
CATEGORIES:Clinic
ORGANIZER;CN="Russ Segner":MAILTO:russseg@gmail.com
END:VEVENT
BEGIN:VEVENT
DTSTART;TZID=America/Los_Angeles:20231016T190000
DTEND;TZID=America/Los_Angeles:20231016T210000
DTSTAMP:20260423T232749
CREATED:20230820T163347Z
LAST-MODIFIED:20230820T163347Z
UID:21959-1697482800-1697490000@4dpnr.com
SUMMARY:Mount Vernon Clinic
DESCRIPTION:Robert Stafford is on the agenda to talk about a new\, different tree making process – using “rabbit bush” armatures which he obtains from eastern Washington.
URL:https://4dpnr.com/event/mount-vernon-clinic-37/
LOCATION:Mount Vernon Senior Center\, 1401 Cleveland Ave\, Mt Vernon\, WA\, 98273\, United States
CATEGORIES:Clinic
ORGANIZER;CN="Al Carter":MAILTO:tabooma@msn.com
END:VEVENT
BEGIN:VEVENT
DTSTART;TZID=America/Los_Angeles:20231012T190000
DTEND;TZID=America/Los_Angeles:20231012T210000
DTSTAMP:20260423T232749
CREATED:20230923T203740Z
LAST-MODIFIED:20230923T203740Z
UID:22050-1697137200-1697144400@4dpnr.com
SUMMARY:Tacoma Clinic
DESCRIPTION:
URL:https://4dpnr.com/event/tacoma-clinic-65/
LOCATION:Virtual Zoom Meeting (link in GrabIron)
CATEGORIES:Clinic
ORGANIZER;CN="Kevin Klettke":MAILTO:wnrr@comcast.net
END:VEVENT
BEGIN:VEVENT
DTSTART;TZID=America/Los_Angeles:20231011T190000
DTEND;TZID=America/Los_Angeles:20231011T210000
DTSTAMP:20260423T232749
CREATED:20230905T140858Z
LAST-MODIFIED:20230923T181749Z
UID:21989-1697050800-1697058000@4dpnr.com
SUMMARY:Skagit Valley and Whidbey Island Clinic
DESCRIPTION:Decal Madness:  Cliff Aaker models primarily in On30 and nearly always freelanced roads. This means most rolling stock has to be lettered using either rub-on or waterslide decals. He has learned much along the way and will be sharing what he has picked up. If you have experience using decals you are welcome to contribute.
URL:https://4dpnr.com/event/skagit-valley-and-whidbey-island-clinic-43/
LOCATION:Oak Harbor Senior Center\, 51 SE Jerome St\, Oak Harbor\, WA\, 98277\, United States
CATEGORIES:Clinic
ORGANIZER;CN="Rich Blake":MAILTO:svw_organizer@4dpnr.com
END:VEVENT
BEGIN:VEVENT
DTSTART;TZID=America/Los_Angeles:20231010T173000
DTEND;TZID=America/Los_Angeles:20231010T193000
DTSTAMP:20260423T232749
CREATED:20230923T203412Z
LAST-MODIFIED:20230923T203412Z
UID:22044-1696959000-1696966200@4dpnr.com
SUMMARY:Westside Clinic
DESCRIPTION:
URL:https://4dpnr.com/event/westside-clinic-67/
LOCATION:Kitsap Mall\, 10315 Silverdale Way NW\, Silverdale\, WA\, 98383\, United States
CATEGORIES:Clinic
ORGANIZER;CN="Bill Hupe":MAILTO:whopay@tscnet.com
END:VEVENT
BEGIN:VEVENT
DTSTART;TZID=America/Los_Angeles:20230922T190000
DTEND;TZID=America/Los_Angeles:20230922T203000
DTSTAMP:20260423T232749
CREATED:20230905T002355Z
LAST-MODIFIED:20230905T002451Z
UID:21986-1695409200-1695414600@4dpnr.com
SUMMARY:Olympia Clinic
DESCRIPTION:We will be doing a remembrance slide show of the work of Chuck Ricketts\, long time Olympia model railroader who passed away in August.
URL:https://4dpnr.com/event/olympia-clinic-37/
LOCATION:Panorama City Seattle Room\, 1751 Circle Ln SE\, Lacey\, WA\, 98503\, United States
CATEGORIES:Clinic
ORGANIZER;CN="Gregory Wright":MAILTO:gregorywright2002@yahoo.com
END:VEVENT
BEGIN:VEVENT
DTSTART;TZID=America/Los_Angeles:20230921T190000
DTEND;TZID=America/Los_Angeles:20230921T213000
DTSTAMP:20260423T232749
CREATED:20230916T144236Z
LAST-MODIFIED:20230916T144236Z
UID:22030-1695322800-1695331800@4dpnr.com
SUMMARY:Eastside Virtual Clinic
DESCRIPTION:Panel discussion with Burr Stewart\, Dave Woodrell and Dale Kreutzer on: “Why set up an operating system and what it means for layout operators and for visitors who come to operate”
URL:https://4dpnr.com/event/eastside-virtual-clinic-20/
LOCATION:Virtual Zoom Meeting (link in GrabIron)
CATEGORIES:Clinic
ORGANIZER;CN="Russ Segner":MAILTO:russseg@gmail.com
END:VEVENT
BEGIN:VEVENT
DTSTART;TZID=America/Los_Angeles:20230918T190000
DTEND;TZID=America/Los_Angeles:20230918T210000
DTSTAMP:20260423T232749
CREATED:20230820T163256Z
LAST-MODIFIED:20230820T163256Z
UID:21957-1695063600-1695070800@4dpnr.com
SUMMARY:Mount Vernon Clinic
DESCRIPTION:Dr. Nick Muff\, MMR\, will be presenting “Details Make The Difference”.  If you have seen Nick’s layout\, either in person or via the web or printed magazine\, you’ll know that Nick’s fondness for super detailing scenes and structures is legendary.  Nick often (usually?) makes his own details with one of his two 3D printers\, and/or his laser cutter.
URL:https://4dpnr.com/event/mount-vernon-clinic-36/
LOCATION:Mount Vernon Senior Center\, 1401 Cleveland Ave\, Mt Vernon\, WA\, 98273\, United States
CATEGORIES:Clinic
ORGANIZER;CN="Al Carter":MAILTO:tabooma@msn.com
END:VEVENT
BEGIN:VEVENT
DTSTART;TZID=America/Los_Angeles:20230914T190000
DTEND;TZID=America/Los_Angeles:20230914T210000
DTSTAMP:20260423T232749
CREATED:20230905T142948Z
LAST-MODIFIED:20230923T203656Z
UID:21993-1694718000-1694725200@4dpnr.com
SUMMARY:Tacoma Clinic
DESCRIPTION:Kevin Klettke –  A review of a helix I purchased online. We will briefly review several helix construction methods\, before I do a complete review of my purchase including setup and performance.
URL:https://4dpnr.com/event/tacoma-clinic-64/
LOCATION:Virtual Zoom Meeting (link in GrabIron)
CATEGORIES:Clinic
ORGANIZER;CN="Kevin Klettke":MAILTO:wnrr@comcast.net
END:VEVENT
BEGIN:VEVENT
DTSTART;TZID=America/Los_Angeles:20230912T173000
DTEND;TZID=America/Los_Angeles:20230912T193000
DTSTAMP:20260423T232749
CREATED:20230905T001530Z
LAST-MODIFIED:20230923T202406Z
UID:21984-1694539800-1694547000@4dpnr.com
SUMMARY:Westside Clinic
DESCRIPTION:The Anatomy of a Static Grass Applicator\, presented by Jack Hamilton
URL:https://4dpnr.com/event/westside-clinic-66/
LOCATION:Kitsap Mall\, 10315 Silverdale Way NW\, Silverdale\, WA\, 98383\, United States
CATEGORIES:Clinic
ORGANIZER;CN="Bill Hupe":MAILTO:whopay@tscnet.com
END:VEVENT
END:VCALENDAR