BEGIN:VCALENDAR
VERSION:2.0
PRODID:-//Welcome to the 4th Division - ECPv6.15.20//NONSGML v1.0//EN
CALSCALE:GREGORIAN
METHOD:PUBLISH
X-WR-CALNAME:Welcome to the 4th Division
X-ORIGINAL-URL:https://4dpnr.com
X-WR-CALDESC:Events for Welcome to the 4th Division
REFRESH-INTERVAL;VALUE=DURATION:PT1H
X-Robots-Tag:noindex
X-PUBLISHED-TTL:PT1H
BEGIN:VTIMEZONE
TZID:America/Los_Angeles
BEGIN:DAYLIGHT
TZOFFSETFROM:-0800
TZOFFSETTO:-0700
TZNAME:PDT
DTSTART:20190310T100000
END:DAYLIGHT
BEGIN:STANDARD
TZOFFSETFROM:-0700
TZOFFSETTO:-0800
TZNAME:PST
DTSTART:20191103T090000
END:STANDARD
BEGIN:DAYLIGHT
TZOFFSETFROM:-0800
TZOFFSETTO:-0700
TZNAME:PDT
DTSTART:20200308T100000
END:DAYLIGHT
BEGIN:STANDARD
TZOFFSETFROM:-0700
TZOFFSETTO:-0800
TZNAME:PST
DTSTART:20201101T090000
END:STANDARD
BEGIN:DAYLIGHT
TZOFFSETFROM:-0800
TZOFFSETTO:-0700
TZNAME:PDT
DTSTART:20210314T100000
END:DAYLIGHT
BEGIN:STANDARD
TZOFFSETFROM:-0700
TZOFFSETTO:-0800
TZNAME:PST
DTSTART:20211107T090000
END:STANDARD
END:VTIMEZONE
BEGIN:VEVENT
DTSTART;TZID=America/Los_Angeles:20200618T190000
DTEND;TZID=America/Los_Angeles:20200618T210000
DTSTAMP:20260425T114022
CREATED:20190916T002933Z
LAST-MODIFIED:20200607T175714Z
UID:17842-1592506800-1592514000@4dpnr.com
SUMMARY:Eastside Get Together Clinic - ONLINE
DESCRIPTION:Come enjoy a virtual tour of Lee Marsh’s Great Northern Cascade Division layout.
URL:https://4dpnr.com/event/eastside-get-together-clinic-18/
LOCATION:Lake Washington Institute of Technology\, 6505 176th Ave NE\, Redmond\, WA\, United States
CATEGORIES:Clinic
END:VEVENT
BEGIN:VEVENT
DTSTART;TZID=America/Los_Angeles:20200611T190000
DTEND;TZID=America/Los_Angeles:20200611T210000
DTSTAMP:20260425T114022
CREATED:20190916T002509Z
LAST-MODIFIED:20190916T002509Z
UID:17818-1591902000-1591909200@4dpnr.com
SUMMARY:Tacoma Clinic
DESCRIPTION:
URL:https://4dpnr.com/event/tacoma-clinic-45/
LOCATION:Paradise Lanes Entertainment Center\, 12505 Pacific Ave S\, Tacoma\, WA\, 98444\, United States
CATEGORIES:Clinic
ORGANIZER;CN="Kevin Klettke":MAILTO:wnrr@comcast.net
END:VEVENT
BEGIN:VEVENT
DTSTART;TZID=America/Los_Angeles:20200604T190000
DTEND;TZID=America/Los_Angeles:20200604T210000
DTSTAMP:20260425T114022
CREATED:20190916T001612Z
LAST-MODIFIED:20200604T190925Z
UID:17782-1591297200-1591304400@4dpnr.com
SUMMARY:Seattle North Clinic - ONLINE!
DESCRIPTION:Lee Marsh will be presenting a clinic on weathering and will also be providing a preview of his Model Railroader featured layout\, which will included in an upcoming virtual layout tour.
URL:https://4dpnr.com/event/seattle-north-clinic-35/
LOCATION:United Evangelical Free Church\, 1420 NW 80th Street\, Seattle\, WA\, 98117\, United States
CATEGORIES:Clinic
ORGANIZER;CN="Lisa Murray":MAILTO:mattinata@outlook.com
END:VEVENT
BEGIN:VEVENT
DTSTART;TZID=America/Los_Angeles:20200520T190000
DTEND;TZID=America/Los_Angeles:20200520T210000
DTSTAMP:20260425T114022
CREATED:20190916T002920Z
LAST-MODIFIED:20200507T031206Z
UID:17840-1590001200-1590008400@4dpnr.com
SUMMARY:POSTPONED - Eastside Get Together Clinic
DESCRIPTION:
URL:https://4dpnr.com/event/eastside-get-together-clinic-17/
LOCATION:Lake Washington Institute of Technology\, 6505 176th Ave NE\, Redmond\, WA\, United States
CATEGORIES:Clinic
END:VEVENT
BEGIN:VEVENT
DTSTART;TZID=America/Los_Angeles:20200518T190000
DTEND;TZID=America/Los_Angeles:20200518T210000
DTSTAMP:20260425T114022
CREATED:20190916T002721Z
LAST-MODIFIED:20200507T031120Z
UID:17828-1589828400-1589835600@4dpnr.com
SUMMARY:POSTPONED - Mount Vernon Clinic
DESCRIPTION:
URL:https://4dpnr.com/event/mount-vernon-clinic-17/
LOCATION:Mount Vernon Senior Center\, 1401 Cleveland Ave\, Mt Vernon\, WA\, 98273\, United States
CATEGORIES:Clinic
ORGANIZER;CN="Ted Becker":MAILTO:rail.bird@att.net
END:VEVENT
BEGIN:VEVENT
DTSTART;TZID=America/Los_Angeles:20200514T190000
DTEND;TZID=America/Los_Angeles:20200514T210000
DTSTAMP:20260425T114022
CREATED:20190916T002444Z
LAST-MODIFIED:20200507T030942Z
UID:17816-1589482800-1589490000@4dpnr.com
SUMMARY:POSTPONED - Tacoma Clinic
DESCRIPTION:
URL:https://4dpnr.com/event/tacoma-clinic-44/
LOCATION:Paradise Lanes Entertainment Center\, 12505 Pacific Ave S\, Tacoma\, WA\, 98444\, United States
CATEGORIES:Clinic
ORGANIZER;CN="Kevin Klettke":MAILTO:wnrr@comcast.net
END:VEVENT
BEGIN:VEVENT
DTSTART;TZID=America/Los_Angeles:20200513T190000
DTEND;TZID=America/Los_Angeles:20200513T210000
DTSTAMP:20260425T114022
CREATED:20190916T002210Z
LAST-MODIFIED:20200507T030711Z
UID:17804-1589396400-1589403600@4dpnr.com
SUMMARY:POSTPONED - Skagit Valley and Whidbey Island Clinic
DESCRIPTION:
URL:https://4dpnr.com/event/skagit-valley-and-whidbey-island-clinic-26/
LOCATION:Summer Hill Retirement & Assisted Living Facility\, 165 SW 6th Ave\, Oak Harbor\, WA\, 98277\, United States
CATEGORIES:Clinic
ORGANIZER;CN="Rich Blake":MAILTO:svw_organizer@4dpnr.com
END:VEVENT
BEGIN:VEVENT
DTSTART;TZID=America/Los_Angeles:20200512T190000
DTEND;TZID=America/Los_Angeles:20200512T210000
DTSTAMP:20260425T114022
CREATED:20190916T001919Z
LAST-MODIFIED:20200507T023142Z
UID:17792-1589310000-1589317200@4dpnr.com
SUMMARY:POSTPONED - Westside Clinic
DESCRIPTION:
URL:https://4dpnr.com/event/westside-clinic-47/
LOCATION:United Way Volunteer Center\, 645 4th St\, Bremerton\, WA\, 98337\, United States
CATEGORIES:Clinic
ORGANIZER;CN="Bill Hupe":MAILTO:whopay@tscnet.com
END:VEVENT
BEGIN:VEVENT
DTSTART;TZID=America/Los_Angeles:20200507T190000
DTEND;TZID=America/Los_Angeles:20200507T210000
DTSTAMP:20260425T114022
CREATED:20190916T001541Z
LAST-MODIFIED:20200506T024547Z
UID:17780-1588878000-1588885200@4dpnr.com
SUMMARY:Seattle North Clinic - ONLINE!
DESCRIPTION:Burr Stewart will present on How to Set Up Locomotive Braking using DCC on engines with different types of decoders.
URL:https://4dpnr.com/event/seattle-north-clinic-34/
LOCATION:United Evangelical Free Church\, 1420 NW 80th Street\, Seattle\, WA\, 98117\, United States
CATEGORIES:Clinic
ORGANIZER;CN="Lisa Murray":MAILTO:mattinata@outlook.com
END:VEVENT
BEGIN:VEVENT
DTSTART;TZID=America/Los_Angeles:20200420T190000
DTEND;TZID=America/Los_Angeles:20200420T210000
DTSTAMP:20260425T114022
CREATED:20190916T002706Z
LAST-MODIFIED:20200328T220016Z
UID:17826-1587409200-1587416400@4dpnr.com
SUMMARY:POSTPONED - Mount Vernon Clinic
DESCRIPTION:
URL:https://4dpnr.com/event/mount-vernon-clinic-16/
LOCATION:Mount Vernon Senior Center\, 1401 Cleveland Ave\, Mt Vernon\, WA\, 98273\, United States
CATEGORIES:Clinic
ORGANIZER;CN="Ted Becker":MAILTO:rail.bird@att.net
END:VEVENT
BEGIN:VEVENT
DTSTART;TZID=America/Los_Angeles:20200415T190000
DTEND;TZID=America/Los_Angeles:20200415T210000
DTSTAMP:20260425T114022
CREATED:20190916T002906Z
LAST-MODIFIED:20200328T215931Z
UID:17838-1586977200-1586984400@4dpnr.com
SUMMARY:POSTPONED - Eastside Get Together Clinic
DESCRIPTION:
URL:https://4dpnr.com/event/eastside-get-together-clinic-16/
LOCATION:Lake Washington Institute of Technology\, 6505 176th Ave NE\, Redmond\, WA\, United States
CATEGORIES:Clinic
END:VEVENT
BEGIN:VEVENT
DTSTART;TZID=America/Los_Angeles:20200414T190000
DTEND;TZID=America/Los_Angeles:20200414T210000
DTSTAMP:20260425T114022
CREATED:20190916T001858Z
LAST-MODIFIED:20200328T215842Z
UID:17790-1586890800-1586898000@4dpnr.com
SUMMARY:POSTPONED - Westside Clinic
DESCRIPTION:
URL:https://4dpnr.com/event/westside-clinic-46/
LOCATION:United Way Volunteer Center\, 645 4th St\, Bremerton\, WA\, 98337\, United States
CATEGORIES:Clinic
ORGANIZER;CN="Bill Hupe":MAILTO:whopay@tscnet.com
END:VEVENT
BEGIN:VEVENT
DTSTART;TZID=America/Los_Angeles:20200409T190000
DTEND;TZID=America/Los_Angeles:20200409T210000
DTSTAMP:20260425T114022
CREATED:20190916T002426Z
LAST-MODIFIED:20200328T215749Z
UID:17814-1586458800-1586466000@4dpnr.com
SUMMARY:POSTPONED - Tacoma Clinic
DESCRIPTION:“Prototype Slideshow” presented by Steve Carter
URL:https://4dpnr.com/event/tacoma-clinic-43/
LOCATION:Paradise Lanes Entertainment Center\, 12505 Pacific Ave S\, Tacoma\, WA\, 98444\, United States
CATEGORIES:Clinic
ORGANIZER;CN="Kevin Klettke":MAILTO:wnrr@comcast.net
END:VEVENT
BEGIN:VEVENT
DTSTART;TZID=America/Los_Angeles:20200408T190000
DTEND;TZID=America/Los_Angeles:20200408T210000
DTSTAMP:20260425T114022
CREATED:20190916T002147Z
LAST-MODIFIED:20200328T215657Z
UID:17802-1586372400-1586379600@4dpnr.com
SUMMARY:POSTPONED - Skagit Valley and Whidbey Island Clinic
DESCRIPTION:
URL:https://4dpnr.com/event/skagit-valley-and-whidbey-island-clinic-25/
LOCATION:Summer Hill Retirement & Assisted Living Facility\, 165 SW 6th Ave\, Oak Harbor\, WA\, 98277\, United States
CATEGORIES:Clinic
ORGANIZER;CN="Rich Blake":MAILTO:svw_organizer@4dpnr.com
END:VEVENT
BEGIN:VEVENT
DTSTART;TZID=America/Los_Angeles:20200402T190000
DTEND;TZID=America/Los_Angeles:20200402T210000
DTSTAMP:20260425T114022
CREATED:20190916T001516Z
LAST-MODIFIED:20200328T215601Z
UID:17778-1585854000-1585861200@4dpnr.com
SUMMARY:POSTPONED - Seattle North Clinic
DESCRIPTION:
URL:https://4dpnr.com/event/seattle-north-clinic-33/
LOCATION:United Evangelical Free Church\, 1420 NW 80th Street\, Seattle\, WA\, 98117\, United States
CATEGORIES:Clinic
ORGANIZER;CN="Lisa Murray":MAILTO:mattinata@outlook.com
END:VEVENT
BEGIN:VEVENT
DTSTART;TZID=America/Los_Angeles:20200320T190000
DTEND;TZID=America/Los_Angeles:20200320T210000
DTSTAMP:20260425T114022
CREATED:20200310T024742Z
LAST-MODIFIED:20200310T024742Z
UID:18444-1584730800-1584738000@4dpnr.com
SUMMARY:CANCELLED - Olympia Clinic
DESCRIPTION:Cancelled due to the COVID-19 health issue
URL:https://4dpnr.com/event/cancelled-olympia-clinic/
LOCATION:Thurston County Courthouse\, 2000 Lakeridge Drive\, Olympia\, WA\, 98052\, United States
CATEGORIES:Clinic
ORGANIZER;CN="Scott Buckley":MAILTO:sbuckley54@comcast.net
END:VEVENT
BEGIN:VEVENT
DTSTART;TZID=America/Los_Angeles:20200318T190000
DTEND;TZID=America/Los_Angeles:20200318T210000
DTSTAMP:20260425T114022
CREATED:20190916T002844Z
LAST-MODIFIED:20200308T012622Z
UID:17836-1584558000-1584565200@4dpnr.com
SUMMARY:CANCELLED - Eastside Get Together Clinic
DESCRIPTION:Redmond has closed the Marymoor Center until at least the end of March\, so this month’s clinic is cancelled.
URL:https://4dpnr.com/event/eastside-get-together-clinic-15/
LOCATION:Lake Washington Institute of Technology\, 6505 176th Ave NE\, Redmond\, WA\, United States
CATEGORIES:Clinic
END:VEVENT
BEGIN:VEVENT
DTSTART;TZID=America/Los_Angeles:20200316T190000
DTEND;TZID=America/Los_Angeles:20200316T210000
DTSTAMP:20260425T114022
CREATED:20190916T002652Z
LAST-MODIFIED:20200309T014659Z
UID:17824-1584385200-1584392400@4dpnr.com
SUMMARY:CANCELLED - Mount Vernon Clinic
DESCRIPTION:Cancelled due to the COVID-19 health issue
URL:https://4dpnr.com/event/mount-vernon-clinic-15/
LOCATION:Mount Vernon Senior Center\, 1401 Cleveland Ave\, Mt Vernon\, WA\, 98273\, United States
CATEGORIES:Clinic
ORGANIZER;CN="Ted Becker":MAILTO:rail.bird@att.net
END:VEVENT
BEGIN:VEVENT
DTSTART;TZID=America/Los_Angeles:20200312T190000
DTEND;TZID=America/Los_Angeles:20200312T210000
DTSTAMP:20260425T114022
CREATED:20190916T002409Z
LAST-MODIFIED:20200310T000718Z
UID:17812-1584039600-1584046800@4dpnr.com
SUMMARY:CANCELLED - Tacoma Clinic
DESCRIPTION:Cancelled due to the COVID-19 health issue
URL:https://4dpnr.com/event/tacoma-clinic-42/
LOCATION:Paradise Lanes Entertainment Center\, 12505 Pacific Ave S\, Tacoma\, WA\, 98444\, United States
CATEGORIES:Clinic
ORGANIZER;CN="Kevin Klettke":MAILTO:wnrr@comcast.net
END:VEVENT
BEGIN:VEVENT
DTSTART;TZID=America/Los_Angeles:20200311T190000
DTEND;TZID=America/Los_Angeles:20200311T210000
DTSTAMP:20260425T114022
CREATED:20190916T002127Z
LAST-MODIFIED:20200310T000922Z
UID:17800-1583953200-1583960400@4dpnr.com
SUMMARY:CANCELLED - Skagit Valley and Whidbey Island Clinic
DESCRIPTION:Cancelled due to the COVID-19 health issue
URL:https://4dpnr.com/event/skagit-valley-and-whidbey-island-clinic-24/
LOCATION:Summer Hill Retirement & Assisted Living Facility\, 165 SW 6th Ave\, Oak Harbor\, WA\, 98277\, United States
CATEGORIES:Clinic
ORGANIZER;CN="Rich Blake":MAILTO:svw_organizer@4dpnr.com
END:VEVENT
BEGIN:VEVENT
DTSTART;TZID=America/Los_Angeles:20200310T190000
DTEND;TZID=America/Los_Angeles:20200310T210000
DTSTAMP:20260425T114022
CREATED:20190916T001824Z
LAST-MODIFIED:20200310T024226Z
UID:17788-1583866800-1583874000@4dpnr.com
SUMMARY:CANCELLED - Westside Clinic
DESCRIPTION:Cancelled due to the COVID-19 health issue
URL:https://4dpnr.com/event/westside-clinic-45/
LOCATION:United Way Volunteer Center\, 645 4th St\, Bremerton\, WA\, 98337\, United States
CATEGORIES:Clinic
ORGANIZER;CN="Bill Hupe":MAILTO:whopay@tscnet.com
END:VEVENT
BEGIN:VEVENT
DTSTART;TZID=America/Los_Angeles:20200305T190000
DTEND;TZID=America/Los_Angeles:20200305T210000
DTSTAMP:20260425T114022
CREATED:20190916T001455Z
LAST-MODIFIED:20190916T001455Z
UID:17776-1583434800-1583442000@4dpnr.com
SUMMARY:Seattle North Clinic
DESCRIPTION:
URL:https://4dpnr.com/event/seattle-north-clinic-32/
LOCATION:United Evangelical Free Church\, 1420 NW 80th Street\, Seattle\, WA\, 98117\, United States
CATEGORIES:Clinic
ORGANIZER;CN="Lisa Murray":MAILTO:mattinata@outlook.com
END:VEVENT
BEGIN:VEVENT
DTSTART;TZID=America/Los_Angeles:20200219T190000
DTEND;TZID=America/Los_Angeles:20200219T210000
DTSTAMP:20260425T114022
CREATED:20190916T002831Z
LAST-MODIFIED:20191217T022253Z
UID:17834-1582138800-1582146000@4dpnr.com
SUMMARY:Eastside Get Together Clinic
DESCRIPTION:
URL:https://4dpnr.com/event/eastside-get-together-clinic-14/
LOCATION:Lake Washington Institute of Technology\, 6505 176th Ave NE\, Redmond\, WA\, United States
CATEGORIES:Clinic
END:VEVENT
BEGIN:VEVENT
DTSTART;TZID=America/Los_Angeles:20200217T190000
DTEND;TZID=America/Los_Angeles:20200217T210000
DTSTAMP:20260425T114022
CREATED:20190916T002632Z
LAST-MODIFIED:20190916T002632Z
UID:17822-1581966000-1581973200@4dpnr.com
SUMMARY:Mount Vernon Clinic
DESCRIPTION:
URL:https://4dpnr.com/event/mount-vernon-clinic-14/
LOCATION:Mount Vernon Senior Center\, 1401 Cleveland Ave\, Mt Vernon\, WA\, 98273\, United States
CATEGORIES:Clinic
ORGANIZER;CN="Ted Becker":MAILTO:rail.bird@att.net
END:VEVENT
BEGIN:VEVENT
DTSTART;TZID=America/Los_Angeles:20200213T190000
DTEND;TZID=America/Los_Angeles:20200213T210000
DTSTAMP:20260425T114022
CREATED:20190916T002334Z
LAST-MODIFIED:20191005T184000Z
UID:17810-1581620400-1581627600@4dpnr.com
SUMMARY:Tacoma Clinic
DESCRIPTION:“Modeling Roads & Highways with Foam” presented by Greg Price
URL:https://4dpnr.com/event/tacoma-clinic-41/
LOCATION:Paradise Lanes Entertainment Center\, 12505 Pacific Ave S\, Tacoma\, WA\, 98444\, United States
CATEGORIES:Clinic
ORGANIZER;CN="Kevin Klettke":MAILTO:wnrr@comcast.net
END:VEVENT
BEGIN:VEVENT
DTSTART;TZID=America/Los_Angeles:20200212T190000
DTEND;TZID=America/Los_Angeles:20200212T210000
DTSTAMP:20260425T114022
CREATED:20190916T002107Z
LAST-MODIFIED:20190916T002107Z
UID:17798-1581534000-1581541200@4dpnr.com
SUMMARY:Skagit Valley and Whidbey Island Clinic
DESCRIPTION:
URL:https://4dpnr.com/event/skagit-valley-and-whidbey-island-clinic-23/
LOCATION:Summer Hill Retirement & Assisted Living Facility\, 165 SW 6th Ave\, Oak Harbor\, WA\, 98277\, United States
CATEGORIES:Clinic
ORGANIZER;CN="Rich Blake":MAILTO:svw_organizer@4dpnr.com
END:VEVENT
BEGIN:VEVENT
DTSTART;TZID=America/Los_Angeles:20200211T190000
DTEND;TZID=America/Los_Angeles:20200211T210000
DTSTAMP:20260425T114022
CREATED:20190916T001755Z
LAST-MODIFIED:20190916T001755Z
UID:17786-1581447600-1581454800@4dpnr.com
SUMMARY:Westside Clinic
DESCRIPTION:
URL:https://4dpnr.com/event/westside-clinic-44/
LOCATION:United Way Volunteer Center\, 645 4th St\, Bremerton\, WA\, 98337\, United States
CATEGORIES:Clinic
ORGANIZER;CN="Bill Hupe":MAILTO:whopay@tscnet.com
END:VEVENT
BEGIN:VEVENT
DTSTART;TZID=America/Los_Angeles:20200206T190000
DTEND;TZID=America/Los_Angeles:20200206T210000
DTSTAMP:20260425T114023
CREATED:20190916T001439Z
LAST-MODIFIED:20200206T035746Z
UID:17774-1581015600-1581022800@4dpnr.com
SUMMARY:Seattle North Clinic
DESCRIPTION:Eldon Jacobson is presenting his trip to Switzerland.
URL:https://4dpnr.com/event/seattle-north-clinic-31/
LOCATION:United Evangelical Free Church\, 1420 NW 80th Street\, Seattle\, WA\, 98117\, United States
CATEGORIES:Clinic
ORGANIZER;CN="Lisa Murray":MAILTO:mattinata@outlook.com
END:VEVENT
BEGIN:VEVENT
DTSTART;TZID=America/Los_Angeles:20200120T190000
DTEND;TZID=America/Los_Angeles:20200120T210000
DTSTAMP:20260425T114023
CREATED:20190916T002611Z
LAST-MODIFIED:20190916T002611Z
UID:17820-1579546800-1579554000@4dpnr.com
SUMMARY:Mount Vernon Clinic
DESCRIPTION:
URL:https://4dpnr.com/event/mount-vernon-clinic-13/
LOCATION:Mount Vernon Senior Center\, 1401 Cleveland Ave\, Mt Vernon\, WA\, 98273\, United States
CATEGORIES:Clinic
ORGANIZER;CN="Ted Becker":MAILTO:rail.bird@att.net
END:VEVENT
BEGIN:VEVENT
DTSTART;TZID=America/Los_Angeles:20200115T190000
DTEND;TZID=America/Los_Angeles:20200115T210000
DTSTAMP:20260425T114023
CREATED:20190916T002817Z
LAST-MODIFIED:20200114T220207Z
UID:17832-1579114800-1579122000@4dpnr.com
SUMMARY:CANCELLED - Eastside Get Together Clinic
DESCRIPTION:** Cancelled due to weather conditions **\nRack railways in Switzerland\, presented by John Morrison
URL:https://4dpnr.com/event/eastside-get-together-clinic-13/
LOCATION:Lake Washington Institute of Technology\, 6505 176th Ave NE\, Redmond\, WA\, United States
CATEGORIES:Clinic
END:VEVENT
END:VCALENDAR