BEGIN:VCALENDAR
VERSION:2.0
PRODID:-//Welcome to the 4th Division - ECPv6.15.20//NONSGML v1.0//EN
CALSCALE:GREGORIAN
METHOD:PUBLISH
X-ORIGINAL-URL:https://4dpnr.com
X-WR-CALDESC:Events for Welcome to the 4th Division
REFRESH-INTERVAL;VALUE=DURATION:PT1H
X-Robots-Tag:noindex
X-PUBLISHED-TTL:PT1H
BEGIN:VTIMEZONE
TZID:America/Los_Angeles
BEGIN:DAYLIGHT
TZOFFSETFROM:-0800
TZOFFSETTO:-0700
TZNAME:PDT
DTSTART:20190310T100000
END:DAYLIGHT
BEGIN:STANDARD
TZOFFSETFROM:-0700
TZOFFSETTO:-0800
TZNAME:PST
DTSTART:20191103T090000
END:STANDARD
BEGIN:DAYLIGHT
TZOFFSETFROM:-0800
TZOFFSETTO:-0700
TZNAME:PDT
DTSTART:20200308T100000
END:DAYLIGHT
BEGIN:STANDARD
TZOFFSETFROM:-0700
TZOFFSETTO:-0800
TZNAME:PST
DTSTART:20201101T090000
END:STANDARD
BEGIN:DAYLIGHT
TZOFFSETFROM:-0800
TZOFFSETTO:-0700
TZNAME:PDT
DTSTART:20210314T100000
END:DAYLIGHT
BEGIN:STANDARD
TZOFFSETFROM:-0700
TZOFFSETTO:-0800
TZNAME:PST
DTSTART:20211107T090000
END:STANDARD
BEGIN:DAYLIGHT
TZOFFSETFROM:-0800
TZOFFSETTO:-0700
TZNAME:PDT
DTSTART:20220313T100000
END:DAYLIGHT
BEGIN:STANDARD
TZOFFSETFROM:-0700
TZOFFSETTO:-0800
TZNAME:PST
DTSTART:20221106T090000
END:STANDARD
END:VTIMEZONE
BEGIN:VEVENT
DTSTART;TZID=America/Los_Angeles:20210107T190000
DTEND;TZID=America/Los_Angeles:20210107T210000
DTSTAMP:20260425T082245
CREATED:20201219T225955Z
LAST-MODIFIED:20210107T051219Z
UID:19474-1610046000-1610053200@4dpnr.com
SUMMARY:North End Clinic - Cancelled
DESCRIPTION:Cancelled
URL:https://4dpnr.com/event/north-end-clinic-virtual-3/
LOCATION:Virtual Zoom Meeting (link in GrabIron)
CATEGORIES:Clinic
ORGANIZER;CN="Lisa Murray":MAILTO:mattinata@outlook.com
END:VEVENT
BEGIN:VEVENT
DTSTART;TZID=America/Los_Angeles:20201221T190000
DTEND;TZID=America/Los_Angeles:20201221T210000
DTSTAMP:20260425T082245
CREATED:20201217T043126Z
LAST-MODIFIED:20201217T043126Z
UID:19272-1608577200-1608584400@4dpnr.com
SUMMARY:Mount Vernon Clinic -- Virtual
DESCRIPTION:“Skagit Valley Lines – Layout Tour/Progress Report” presented by Jim Betz.
URL:https://4dpnr.com/event/mount-vernon-clinic-virtual-2/
CATEGORIES:Clinic
ORGANIZER;CN="Ted Becker":MAILTO:rail.bird@att.net
END:VEVENT
BEGIN:VEVENT
DTSTART;TZID=America/Los_Angeles:20201218T190000
DTEND;TZID=America/Los_Angeles:20201218T200000
DTSTAMP:20260425T082245
CREATED:20201216T155005Z
LAST-MODIFIED:20201216T155005Z
UID:19440-1608318000-1608321600@4dpnr.com
SUMMARY:Olympia Clinic -- Virtual
DESCRIPTION:The modelling work of Clint Brown \nhttps://zoom.us/j/96629177665?pwd=SUpYU2l4NzF0YlpTbUZIS3BOOWpOQT09\nMeeting ID: 966 2917 7665\nPasscode: 254053
URL:https://4dpnr.com/event/olympia-clinic-virtual-2/
CATEGORIES:Clinic
ORGANIZER;CN="Gregory Wright":MAILTO:gregorywright2002@yahoo.com
END:VEVENT
BEGIN:VEVENT
DTSTART;TZID=America/Los_Angeles:20201217T190000
DTEND;TZID=America/Los_Angeles:20201217T210000
DTSTAMP:20260425T082245
CREATED:20201213T210727Z
LAST-MODIFIED:20201213T210727Z
UID:19434-1608231600-1608238800@4dpnr.com
SUMMARY:Eastside Get Together -- Virtual
DESCRIPTION:“Unit Grain Trains\, Burlington Northern Railroad\, 1980 – 1990 Era” presented by Bob Stafford. \nLobby opens at 6:45
URL:https://4dpnr.com/event/eastside-get-together-virtual-3/
CATEGORIES:Clinic
END:VEVENT
BEGIN:VEVENT
DTSTART;TZID=America/Los_Angeles:20201209T190000
DTEND;TZID=America/Los_Angeles:20201209T210000
DTSTAMP:20260425T082245
CREATED:20201029T023632Z
LAST-MODIFIED:20201029T023632Z
UID:19273-1607540400-1607547600@4dpnr.com
SUMMARY:Whidbey Island Clinic -- Virtual
DESCRIPTION:Topic TBD
URL:https://4dpnr.com/event/whidbey-island-clinic-virtual-3/
CATEGORIES:Clinic
ORGANIZER;CN="Rich Blake":MAILTO:svw_organizer@4dpnr.com
END:VEVENT
BEGIN:VEVENT
DTSTART;TZID=America/Los_Angeles:20201120T190000
DTEND;TZID=America/Los_Angeles:20201120T200000
DTSTAMP:20260425T082245
CREATED:20201029T020359Z
LAST-MODIFIED:20201103T021856Z
UID:19264-1605898800-1605902400@4dpnr.com
SUMMARY:Olympia Clinic -- Virtual
DESCRIPTION:“Staying on Track! – Staying Safe!” presented by John Wilcox\nOur November Clinic will feature the modelling work (layout and diorams) of John Wilcox! \nhttps://zoom.us/j/99915426061?pwd=MXlIaUF1ZlNMM0xGVTAwVmREWGxuUT09\nMeeting ID: 999 1542 6061\nPasscode: 810529
URL:https://4dpnr.com/event/olympia-clinic-virtual/
CATEGORIES:Clinic
ORGANIZER;CN="Gregory Wright":MAILTO:gregorywright2002@yahoo.com
END:VEVENT
BEGIN:VEVENT
DTSTART;TZID=America/Los_Angeles:20201119T190000
DTEND;TZID=America/Los_Angeles:20201119T210000
DTSTAMP:20260425T082245
CREATED:20201029T021001Z
LAST-MODIFIED:20201029T025234Z
UID:19266-1605812400-1605819600@4dpnr.com
SUMMARY:Eastside Get Together -- Virtual
DESCRIPTION:“Steam Locomotive Appliances” presented by Ted Becker.  The tagline is: “What is all that stuff and all those pipes on a steam locomotive?” \nLobby opens at 6:45
URL:https://4dpnr.com/event/eastside-get-together-virtual-2/
CATEGORIES:Clinic
END:VEVENT
BEGIN:VEVENT
DTSTART;TZID=America/Los_Angeles:20201116T190000
DTEND;TZID=America/Los_Angeles:20201116T210000
DTSTAMP:20260425T082245
CREATED:20201029T015907Z
LAST-MODIFIED:20201029T015907Z
UID:19262-1605553200-1605560400@4dpnr.com
SUMMARY:Mount Vernon Clinic -- Virtual
DESCRIPTION:Ted Becker’s “Ted’s Tub of Tools\, Tips & Tricks” with several changes from previous versions of clinic
URL:https://4dpnr.com/event/mount-vernon-clinic-virtual/
CATEGORIES:Clinic
ORGANIZER;CN="Ted Becker":MAILTO:rail.bird@att.net
END:VEVENT
BEGIN:VEVENT
DTSTART;TZID=America/Los_Angeles:20201111T190000
DTEND;TZID=America/Los_Angeles:20201111T210000
DTSTAMP:20260425T082245
CREATED:20201029T021511Z
LAST-MODIFIED:20201029T023945Z
UID:19269-1605121200-1605128400@4dpnr.com
SUMMARY:Whidbey Island Clinic -- Virtual
DESCRIPTION:Topic TBD \nJoin Link: https://zoom.us/j/98344008662?pwd=VmFnUEZwUnVmNjlyNEIxeUFmT3Q5dz09\nMeeting ID: 983 4400 8662\nPasscode: 738084
URL:https://4dpnr.com/event/whidbey-island-clinic-virtual-2/
CATEGORIES:Clinic
ORGANIZER;CN="Rich Blake":MAILTO:svw_organizer@4dpnr.com
END:VEVENT
BEGIN:VEVENT
DTSTART;TZID=America/Los_Angeles:20201105T190000
DTEND;TZID=America/Los_Angeles:20201105T210000
DTSTAMP:20260425T082245
CREATED:20201105T011604Z
LAST-MODIFIED:20201105T011604Z
UID:19300-1604602800-1604610000@4dpnr.com
SUMMARY:North End Clinic -- Virtual
DESCRIPTION:3D Printing presented by George Hinchliffe. See Grab Iron article for more detail: \nhttp://4dpnr.com/north-end-virtual-clinic-thursday-nov-5-2020/
URL:https://4dpnr.com/event/north-end-clinic-virtual/
CATEGORIES:Clinic
ORGANIZER;CN="Lisa Murray":MAILTO:mattinata@outlook.com
END:VEVENT
BEGIN:VEVENT
DTSTART;TZID=America/Los_Angeles:20201016T190000
DTEND;TZID=America/Los_Angeles:20201016T200000
DTSTAMP:20260425T082245
CREATED:20201003T153358Z
LAST-MODIFIED:20201013T150813Z
UID:19164-1602874800-1602878400@4dpnr.com
SUMMARY:Olympia Clinic - Virtual
DESCRIPTION:Scott Buckley will be giving a tour of his railroad.  Scott Groff has pictures to share for our “Shoot and Share” section.
URL:https://4dpnr.com/event/olympia-clinic-27/
CATEGORIES:Clinic
END:VEVENT
BEGIN:VEVENT
DTSTART;TZID=America/Los_Angeles:20201015T190000
DTEND;TZID=America/Los_Angeles:20201015T210000
DTSTAMP:20260425T082245
CREATED:20201010T031051Z
LAST-MODIFIED:20201010T031051Z
UID:19184-1602788400-1602795600@4dpnr.com
SUMMARY:Eastside Get Together -- Virtual
DESCRIPTION:See Grab Iron post below for more details: \nOctober 2020 Eastside Virtual Get Together Clinic
URL:https://4dpnr.com/event/eastside-get-together-virtual/
CATEGORIES:Clinic
END:VEVENT
BEGIN:VEVENT
DTSTART;TZID=America/Los_Angeles:20201014T190000
DTEND;TZID=America/Los_Angeles:20201014T210000
DTSTAMP:20260425T082245
CREATED:20201013T150551Z
LAST-MODIFIED:20201013T150551Z
UID:19218-1602702000-1602709200@4dpnr.com
SUMMARY:Whidbey Island Clinic -- Virtual
DESCRIPTION:See Grab Iron post below for more details: \nOctober 14th Whidbey Island Virtual Clinic – Locomotive Kitbashing for Realism and Operations
URL:https://4dpnr.com/event/whidbey-island-clinic-virtual/
CATEGORIES:Clinic
END:VEVENT
BEGIN:VEVENT
DTSTART;TZID=America/Los_Angeles:20201013T190000
DTEND;TZID=America/Los_Angeles:20201013T190000
DTSTAMP:20260425T082245
CREATED:20201003T153025Z
LAST-MODIFIED:20201013T150726Z
UID:19161-1602615600-1602615600@4dpnr.com
SUMMARY:Westside Clinic - Virtual
DESCRIPTION:Online clinic by Jack Hamilton & Bill Hupe
URL:https://4dpnr.com/event/westside-clinic-48/
CATEGORIES:Clinic
END:VEVENT
BEGIN:VEVENT
DTSTART;TZID=America/Los_Angeles:20201001T193000
DTEND;TZID=America/Los_Angeles:20201001T210000
DTSTAMP:20260425T082245
CREATED:20201001T032248Z
LAST-MODIFIED:20201001T032248Z
UID:19154-1601580600-1601586000@4dpnr.com
SUMMARY:NorthEnd Clinic -- Virtual
DESCRIPTION:Virtual monthly meeting (Zoom) of the North End Clinic\nSee GrabIron Newsletter post for details\nhttp://4dpnr.com/remote-operating-session-at-the-north-clinic-thursday-night-october-1/ \nMeeting starts at 7:30pm — lobby opens at 7:15pm
URL:https://4dpnr.com/event/northend-clinic-virtual-3/
CATEGORIES:Clinic
END:VEVENT
BEGIN:VEVENT
DTSTART;TZID=America/Los_Angeles:20200917T190000
DTEND;TZID=America/Los_Angeles:20200917T203000
DTSTAMP:20260425T082245
CREATED:20200903T034729Z
LAST-MODIFIED:20200907T195237Z
UID:19063-1600369200-1600374600@4dpnr.com
SUMMARY:Eastside Clinic - Online
DESCRIPTION:Di Voss will present his clinic on creating a virtual railroad using Train Z software.
URL:https://4dpnr.com/event/eastside-clinic-online-2/
CATEGORIES:Clinic
END:VEVENT
BEGIN:VEVENT
DTSTART;TZID=America/Los_Angeles:20200903T190000
DTEND;TZID=America/Los_Angeles:20200903T190000
DTSTAMP:20260425T082245
CREATED:20200901T020146Z
LAST-MODIFIED:20200901T020146Z
UID:19057-1599159600-1599159600@4dpnr.com
SUMMARY:NorthEnd Clinic -- Virtual
DESCRIPTION:Virtual monthly meeting (Zoom) of the North End Clinic\nSee GrabIron Newsletter post for details\nhttp://4dpnr.com/learn-about-lcc-at-the-north-seattle-virtual-clinic-this-coming-thursday-september-3rd/ \nMeeting starts at 7:00pm — lobby opens at 6:45pm \nMeeting ID: 960 5677 4153\nPasscode: 621667
URL:https://4dpnr.com/event/northend-clinic-virtual-2/
CATEGORIES:Clinic
END:VEVENT
BEGIN:VEVENT
DTSTART;TZID=America/Los_Angeles:20200806T193000
DTEND;TZID=America/Los_Angeles:20200806T210000
DTSTAMP:20260425T082245
CREATED:20200804T023920Z
LAST-MODIFIED:20200804T023920Z
UID:18971-1596742200-1596747600@4dpnr.com
SUMMARY:NorthEnd Clinic -- Virtual
DESCRIPTION:Virtual monthly meeting (Zoom) of the North End Clinic\nSee GrabIron Newsletter post for details\nhttp://4dpnr.com/north-end-clinic-virtual-meeting-this-thursday-8-6/ \nMeeting starts at 7:30pm — lobby opens at 7:15pm \nMeeting ID: 960 5677 4153\nPasscode: 621667
URL:https://4dpnr.com/event/northend-clinic-virtual/
CATEGORIES:Clinic
END:VEVENT
BEGIN:VEVENT
DTSTART;TZID=America/Los_Angeles:20200716T190000
DTEND;TZID=America/Los_Angeles:20200716T203000
DTSTAMP:20260425T082245
CREATED:20200712T174135Z
LAST-MODIFIED:20200712T174229Z
UID:18901-1594926000-1594931400@4dpnr.com
SUMMARY:Eastside Clinic - Online
DESCRIPTION:“Modeling Lighting on a Modern Era Layout” presented by Larry Sloan.\nZoom link will be live by 6:30.
URL:https://4dpnr.com/event/eastside-clinic-online/
CATEGORIES:Clinic
END:VEVENT
BEGIN:VEVENT
DTSTART;TZID=America/Los_Angeles:20200702T190000
DTEND;TZID=America/Los_Angeles:20200702T210000
DTSTAMP:20260425T082245
CREATED:20200629T144405Z
LAST-MODIFIED:20200629T144405Z
UID:18856-1593716400-1593723600@4dpnr.com
SUMMARY:Seattle North Clinic - ONLINE!
DESCRIPTION:Russ Segner will be presenting a clinic on Running a Logging Operation
URL:https://4dpnr.com/event/seattle-north-clinic-online/
CATEGORIES:Clinic
ORGANIZER;CN="Lisa Murray":MAILTO:mattinata@outlook.com
END:VEVENT
BEGIN:VEVENT
DTSTART;TZID=America/Los_Angeles:20200618T190000
DTEND;TZID=America/Los_Angeles:20200618T210000
DTSTAMP:20260425T082245
CREATED:20190916T002933Z
LAST-MODIFIED:20200607T175714Z
UID:17842-1592506800-1592514000@4dpnr.com
SUMMARY:Eastside Get Together Clinic - ONLINE
DESCRIPTION:Come enjoy a virtual tour of Lee Marsh’s Great Northern Cascade Division layout.
URL:https://4dpnr.com/event/eastside-get-together-clinic-18/
LOCATION:Lake Washington Institute of Technology\, 6505 176th Ave NE\, Redmond\, WA\, United States
CATEGORIES:Clinic
END:VEVENT
BEGIN:VEVENT
DTSTART;TZID=America/Los_Angeles:20200611T190000
DTEND;TZID=America/Los_Angeles:20200611T210000
DTSTAMP:20260425T082245
CREATED:20190916T002509Z
LAST-MODIFIED:20190916T002509Z
UID:17818-1591902000-1591909200@4dpnr.com
SUMMARY:Tacoma Clinic
DESCRIPTION:
URL:https://4dpnr.com/event/tacoma-clinic-45/
LOCATION:Paradise Lanes Entertainment Center\, 12505 Pacific Ave S\, Tacoma\, WA\, 98444\, United States
CATEGORIES:Clinic
ORGANIZER;CN="Kevin Klettke":MAILTO:wnrr@comcast.net
END:VEVENT
BEGIN:VEVENT
DTSTART;TZID=America/Los_Angeles:20200604T190000
DTEND;TZID=America/Los_Angeles:20200604T210000
DTSTAMP:20260425T082245
CREATED:20190916T001612Z
LAST-MODIFIED:20200604T190925Z
UID:17782-1591297200-1591304400@4dpnr.com
SUMMARY:Seattle North Clinic - ONLINE!
DESCRIPTION:Lee Marsh will be presenting a clinic on weathering and will also be providing a preview of his Model Railroader featured layout\, which will included in an upcoming virtual layout tour.
URL:https://4dpnr.com/event/seattle-north-clinic-35/
LOCATION:United Evangelical Free Church\, 1420 NW 80th Street\, Seattle\, WA\, 98117\, United States
CATEGORIES:Clinic
ORGANIZER;CN="Lisa Murray":MAILTO:mattinata@outlook.com
END:VEVENT
BEGIN:VEVENT
DTSTART;TZID=America/Los_Angeles:20200520T190000
DTEND;TZID=America/Los_Angeles:20200520T210000
DTSTAMP:20260425T082245
CREATED:20190916T002920Z
LAST-MODIFIED:20200507T031206Z
UID:17840-1590001200-1590008400@4dpnr.com
SUMMARY:POSTPONED - Eastside Get Together Clinic
DESCRIPTION:
URL:https://4dpnr.com/event/eastside-get-together-clinic-17/
LOCATION:Lake Washington Institute of Technology\, 6505 176th Ave NE\, Redmond\, WA\, United States
CATEGORIES:Clinic
END:VEVENT
BEGIN:VEVENT
DTSTART;TZID=America/Los_Angeles:20200518T190000
DTEND;TZID=America/Los_Angeles:20200518T210000
DTSTAMP:20260425T082245
CREATED:20190916T002721Z
LAST-MODIFIED:20200507T031120Z
UID:17828-1589828400-1589835600@4dpnr.com
SUMMARY:POSTPONED - Mount Vernon Clinic
DESCRIPTION:
URL:https://4dpnr.com/event/mount-vernon-clinic-17/
LOCATION:Mount Vernon Senior Center\, 1401 Cleveland Ave\, Mt Vernon\, WA\, 98273\, United States
CATEGORIES:Clinic
ORGANIZER;CN="Ted Becker":MAILTO:rail.bird@att.net
END:VEVENT
BEGIN:VEVENT
DTSTART;TZID=America/Los_Angeles:20200514T190000
DTEND;TZID=America/Los_Angeles:20200514T210000
DTSTAMP:20260425T082245
CREATED:20190916T002444Z
LAST-MODIFIED:20200507T030942Z
UID:17816-1589482800-1589490000@4dpnr.com
SUMMARY:POSTPONED - Tacoma Clinic
DESCRIPTION:
URL:https://4dpnr.com/event/tacoma-clinic-44/
LOCATION:Paradise Lanes Entertainment Center\, 12505 Pacific Ave S\, Tacoma\, WA\, 98444\, United States
CATEGORIES:Clinic
ORGANIZER;CN="Kevin Klettke":MAILTO:wnrr@comcast.net
END:VEVENT
BEGIN:VEVENT
DTSTART;TZID=America/Los_Angeles:20200513T190000
DTEND;TZID=America/Los_Angeles:20200513T210000
DTSTAMP:20260425T082245
CREATED:20190916T002210Z
LAST-MODIFIED:20200507T030711Z
UID:17804-1589396400-1589403600@4dpnr.com
SUMMARY:POSTPONED - Skagit Valley and Whidbey Island Clinic
DESCRIPTION:
URL:https://4dpnr.com/event/skagit-valley-and-whidbey-island-clinic-26/
LOCATION:Summer Hill Retirement & Assisted Living Facility\, 165 SW 6th Ave\, Oak Harbor\, WA\, 98277\, United States
CATEGORIES:Clinic
ORGANIZER;CN="Rich Blake":MAILTO:svw_organizer@4dpnr.com
END:VEVENT
BEGIN:VEVENT
DTSTART;TZID=America/Los_Angeles:20200512T190000
DTEND;TZID=America/Los_Angeles:20200512T210000
DTSTAMP:20260425T082245
CREATED:20190916T001919Z
LAST-MODIFIED:20200507T023142Z
UID:17792-1589310000-1589317200@4dpnr.com
SUMMARY:POSTPONED - Westside Clinic
DESCRIPTION:
URL:https://4dpnr.com/event/westside-clinic-47/
LOCATION:United Way Volunteer Center\, 645 4th St\, Bremerton\, WA\, 98337\, United States
CATEGORIES:Clinic
ORGANIZER;CN="Bill Hupe":MAILTO:whopay@tscnet.com
END:VEVENT
BEGIN:VEVENT
DTSTART;TZID=America/Los_Angeles:20200507T190000
DTEND;TZID=America/Los_Angeles:20200507T210000
DTSTAMP:20260425T082245
CREATED:20190916T001541Z
LAST-MODIFIED:20200506T024547Z
UID:17780-1588878000-1588885200@4dpnr.com
SUMMARY:Seattle North Clinic - ONLINE!
DESCRIPTION:Burr Stewart will present on How to Set Up Locomotive Braking using DCC on engines with different types of decoders.
URL:https://4dpnr.com/event/seattle-north-clinic-34/
LOCATION:United Evangelical Free Church\, 1420 NW 80th Street\, Seattle\, WA\, 98117\, United States
CATEGORIES:Clinic
ORGANIZER;CN="Lisa Murray":MAILTO:mattinata@outlook.com
END:VEVENT
BEGIN:VEVENT
DTSTART;TZID=America/Los_Angeles:20200420T190000
DTEND;TZID=America/Los_Angeles:20200420T210000
DTSTAMP:20260425T082245
CREATED:20190916T002706Z
LAST-MODIFIED:20200328T220016Z
UID:17826-1587409200-1587416400@4dpnr.com
SUMMARY:POSTPONED - Mount Vernon Clinic
DESCRIPTION:
URL:https://4dpnr.com/event/mount-vernon-clinic-16/
LOCATION:Mount Vernon Senior Center\, 1401 Cleveland Ave\, Mt Vernon\, WA\, 98273\, United States
CATEGORIES:Clinic
ORGANIZER;CN="Ted Becker":MAILTO:rail.bird@att.net
END:VEVENT
END:VCALENDAR