BEGIN:VCALENDAR
VERSION:2.0
PRODID:-//Welcome to the 4th Division - ECPv6.15.20//NONSGML v1.0//EN
CALSCALE:GREGORIAN
METHOD:PUBLISH
X-ORIGINAL-URL:https://4dpnr.com
X-WR-CALDESC:Events for Welcome to the 4th Division
REFRESH-INTERVAL;VALUE=DURATION:PT1H
X-Robots-Tag:noindex
X-PUBLISHED-TTL:PT1H
BEGIN:VTIMEZONE
TZID:America/Los_Angeles
BEGIN:DAYLIGHT
TZOFFSETFROM:-0800
TZOFFSETTO:-0700
TZNAME:PDT
DTSTART:20210314T100000
END:DAYLIGHT
BEGIN:STANDARD
TZOFFSETFROM:-0700
TZOFFSETTO:-0800
TZNAME:PST
DTSTART:20211107T090000
END:STANDARD
BEGIN:DAYLIGHT
TZOFFSETFROM:-0800
TZOFFSETTO:-0700
TZNAME:PDT
DTSTART:20220313T100000
END:DAYLIGHT
BEGIN:STANDARD
TZOFFSETFROM:-0700
TZOFFSETTO:-0800
TZNAME:PST
DTSTART:20221106T090000
END:STANDARD
BEGIN:DAYLIGHT
TZOFFSETFROM:-0800
TZOFFSETTO:-0700
TZNAME:PDT
DTSTART:20230312T100000
END:DAYLIGHT
BEGIN:STANDARD
TZOFFSETFROM:-0700
TZOFFSETTO:-0800
TZNAME:PST
DTSTART:20231105T090000
END:STANDARD
END:VTIMEZONE
BEGIN:VEVENT
DTSTART;TZID=America/Los_Angeles:20221017T190000
DTEND;TZID=America/Los_Angeles:20221017T210000
DTSTAMP:20260424T124643
CREATED:20221001T205835Z
LAST-MODIFIED:20221001T205835Z
UID:21378-1666033200-1666040400@4dpnr.com
SUMMARY:Mount Vernon Clinic
DESCRIPTION:
URL:https://4dpnr.com/event/mount-vernon-clinic-28/
LOCATION:Mount Vernon Senior Center\, 1401 Cleveland Ave\, Mt Vernon\, WA\, 98273\, United States
CATEGORIES:Clinic
ORGANIZER;CN="Al Carter":MAILTO:tabooma@msn.com
END:VEVENT
BEGIN:VEVENT
DTSTART;TZID=America/Los_Angeles:20221017T190000
DTEND;TZID=America/Los_Angeles:20221017T210000
DTSTAMP:20260424T124643
CREATED:20220828T022702Z
LAST-MODIFIED:20221008T165041Z
UID:21271-1666033200-1666040400@4dpnr.com
SUMMARY:Skagit Valley and Whidbey Island Clinic
DESCRIPTION:
URL:https://4dpnr.com/event/skagit-valley-and-whidbey-island-clinic-36/
LOCATION:Virtual Zoom Meeting (link in GrabIron)
CATEGORIES:Clinic
ORGANIZER;CN="Rich Blake":MAILTO:svw_organizer@4dpnr.com
END:VEVENT
BEGIN:VEVENT
DTSTART;TZID=America/Los_Angeles:20221013T190000
DTEND;TZID=America/Los_Angeles:20221013T210000
DTSTAMP:20260424T124643
CREATED:20221001T205713Z
LAST-MODIFIED:20221001T205713Z
UID:21374-1665687600-1665694800@4dpnr.com
SUMMARY:Tacoma Clinic
DESCRIPTION:
URL:https://4dpnr.com/event/tacoma-clinic-57/
LOCATION:Virtual Zoom Meeting (link in GrabIron)
CATEGORIES:Clinic
ORGANIZER;CN="Kevin Klettke":MAILTO:wnrr@comcast.net
END:VEVENT
BEGIN:VEVENT
DTSTART;TZID=America/Los_Angeles:20221013T180000
DTEND;TZID=America/Los_Angeles:20221013T200000
DTSTAMP:20260424T124643
CREATED:20221001T205511Z
LAST-MODIFIED:20221001T205559Z
UID:21369-1665684000-1665691200@4dpnr.com
SUMMARY:Westside Clinic
DESCRIPTION:
URL:https://4dpnr.com/event/westside-clinic-59/
LOCATION:United Way Volunteer Center\, 645 4th St\, Bremerton\, WA\, 98337\, United States
CATEGORIES:Clinic
ORGANIZER;CN="Bill Hupe":MAILTO:whopay@tscnet.com
END:VEVENT
BEGIN:VEVENT
DTSTART;TZID=America/Los_Angeles:20221006T190000
DTEND;TZID=America/Los_Angeles:20221006T203000
DTSTAMP:20260424T124643
CREATED:20221001T205101Z
LAST-MODIFIED:20221001T205101Z
UID:21363-1665082800-1665088200@4dpnr.com
SUMMARY:Seattle North End Clinic on Zoom
DESCRIPTION:
URL:https://4dpnr.com/event/seattle-north-end-clinic-on-zoom-3/
LOCATION:Virtual Zoom Meeting (link in GrabIron)
CATEGORIES:Clinic
ORGANIZER;CN="Lisa Murray":MAILTO:mattinata@outlook.com
END:VEVENT
BEGIN:VEVENT
DTSTART;TZID=America/Los_Angeles:20220922T190000
DTEND;TZID=America/Los_Angeles:20220922T213000
DTSTAMP:20260424T124643
CREATED:20220918T013716Z
LAST-MODIFIED:20220918T013716Z
UID:21351-1663873200-1663882200@4dpnr.com
SUMMARY:Eastside Virtual Clinic
DESCRIPTION:“1906 DuPont flat car restoration” presented by Russ Segner
URL:https://4dpnr.com/event/eastside-virtual-clinic-10/
LOCATION:Virtual Zoom Meeting (link in GrabIron)
CATEGORIES:Clinic
ORGANIZER;CN="Russ Segner":MAILTO:russseg@gmail.com
END:VEVENT
BEGIN:VEVENT
DTSTART;TZID=America/Los_Angeles:20220921T180000
DTEND;TZID=America/Los_Angeles:20220921T200000
DTSTAMP:20260424T124643
CREATED:20220911T212041Z
LAST-MODIFIED:20220911T212041Z
UID:21331-1663783200-1663790400@4dpnr.com
SUMMARY:Westside Clinic
DESCRIPTION:“Building cars to meet NMRA recommended standards.” presented by John Forsythe
URL:https://4dpnr.com/event/westside-clinic-58/
LOCATION:United Way Volunteer Center\, 645 4th St\, Bremerton\, WA\, 98337\, United States
CATEGORIES:Clinic
ORGANIZER;CN="Bill Hupe":MAILTO:whopay@tscnet.com
END:VEVENT
BEGIN:VEVENT
DTSTART;TZID=America/Los_Angeles:20220919T190000
DTEND;TZID=America/Los_Angeles:20220919T210000
DTSTAMP:20260424T124643
CREATED:20220827T232242Z
LAST-MODIFIED:20220827T232242Z
UID:21255-1663614000-1663621200@4dpnr.com
SUMMARY:Mount Vernon Clinic
DESCRIPTION:First in-person clinic in two years.  Rather than having a featured clinician that evening\, the plan is for you all to take part – we want to know what you have been up to since we last met a couple of years ago.  Sort of a “what I did last summer” theme.  Anything railroad related is OK – model or prototype.
URL:https://4dpnr.com/event/mount-vernon-clinic-27/
LOCATION:Mount Vernon Senior Center\, 1401 Cleveland Ave\, Mt Vernon\, WA\, 98273\, United States
CATEGORIES:Clinic
ORGANIZER;CN="Al Carter":MAILTO:tabooma@msn.com
END:VEVENT
BEGIN:VEVENT
DTSTART;TZID=America/Los_Angeles:20220916T190000
DTEND;TZID=America/Los_Angeles:20220916T203000
DTSTAMP:20260424T124643
CREATED:20220905T172558Z
LAST-MODIFIED:20220905T173149Z
UID:21299-1663354800-1663360200@4dpnr.com
SUMMARY:Olympia Clinic
DESCRIPTION:In person meeting and also available on Zoom.  Ron Hopkins will be showing his On30 railroad\, “On30 shortline in a bedroom sized space”.
URL:https://4dpnr.com/event/olympia-clinic-28/
LOCATION:Panorama City Seattle Room\, 1751 Circle Ln SE\, Lacey\, WA\, 98503\, United States
CATEGORIES:Clinic
ORGANIZER;CN="Gregory Wright":MAILTO:gregorywright2002@yahoo.com
END:VEVENT
BEGIN:VEVENT
DTSTART;TZID=America/Los_Angeles:20220908T190000
DTEND;TZID=America/Los_Angeles:20220908T210000
DTSTAMP:20260424T124643
CREATED:20220905T180452Z
LAST-MODIFIED:20220905T180452Z
UID:21312-1662663600-1662670800@4dpnr.com
SUMMARY:Tacoma Clinic
DESCRIPTION:
URL:https://4dpnr.com/event/tacoma-clinic-56/
LOCATION:Virtual Zoom Meeting (link in GrabIron)
CATEGORIES:Clinic
ORGANIZER;CN="Kevin Klettke":MAILTO:wnrr@comcast.net
END:VEVENT
BEGIN:VEVENT
DTSTART;TZID=America/Los_Angeles:20220901T190000
DTEND;TZID=America/Los_Angeles:20220901T203000
DTSTAMP:20260424T124643
CREATED:20220828T012549Z
LAST-MODIFIED:20220828T021841Z
UID:21263-1662058800-1662064200@4dpnr.com
SUMMARY:Seattle North End Clinic on Zoom
DESCRIPTION:Cab Chatter\nTopic: “What I Did This Summer: Model Railroading and Rail-fanning Fun”
URL:https://4dpnr.com/event/seattle-north-end-clinic-on-zoom-2/
LOCATION:Virtual Zoom Meeting (link in GrabIron)
CATEGORIES:Clinic
ORGANIZER;CN="Lisa Murray":MAILTO:mattinata@outlook.com
END:VEVENT
BEGIN:VEVENT
DTSTART;VALUE=DATE:20220901
DTEND;VALUE=DATE:20220905
DTSTAMP:20260424T124643
CREATED:20220530T160118Z
LAST-MODIFIED:20220530T160314Z
UID:21121-1661990400-1662335999@4dpnr.com
SUMMARY:2022 National Narrow Gauge Convention
DESCRIPTION:
URL:https://4dpnr.com/event/2022-national-narrow-gauge-convention/
LOCATION:Hotel Murano\, 1320 Broadway\, Tacoma\, WA\, 98402\, United States
CATEGORIES:Clinic,Convention or Meet
END:VEVENT
BEGIN:VEVENT
DTSTART;TZID=America/Los_Angeles:20220604T090000
DTEND;TZID=America/Los_Angeles:20220604T160000
DTSTAMP:20260424T124643
CREATED:20220530T154800Z
LAST-MODIFIED:20220530T155116Z
UID:21114-1654333200-1654358400@4dpnr.com
SUMMARY:Spring Meet 2022
DESCRIPTION:
URL:https://4dpnr.com/event/spring-meet-2022/
LOCATION:Everett Community College\, 2000 Tower Street\, Everett\, WA\, 98201\, United States
CATEGORIES:Clinic,Convention or Meet
END:VEVENT
BEGIN:VEVENT
DTSTART;TZID=America/Los_Angeles:20220520T190000
DTEND;TZID=America/Los_Angeles:20220520T203000
DTSTAMP:20260424T124643
CREATED:20210927T024611Z
LAST-MODIFIED:20210927T024611Z
UID:20439-1653073200-1653078600@4dpnr.com
SUMMARY:Olympia Clinic -- Virtual
DESCRIPTION:
URL:https://4dpnr.com/event/olympia-clinic-virtual-17/
LOCATION:Virtual Zoom Meeting (link in GrabIron)
CATEGORIES:Clinic
ORGANIZER;CN="Gregory Wright":MAILTO:gregorywright2002@yahoo.com
END:VEVENT
BEGIN:VEVENT
DTSTART;TZID=America/Los_Angeles:20220519T184500
DTEND;TZID=America/Los_Angeles:20220519T213000
DTSTAMP:20260424T124643
CREATED:20210927T025115Z
LAST-MODIFIED:20210927T025115Z
UID:20453-1652985900-1652995800@4dpnr.com
SUMMARY:Eastside Virtual Clinic
DESCRIPTION:
URL:https://4dpnr.com/event/eastside-virtual-clinic-9/
LOCATION:Virtual Zoom Meeting (link in GrabIron)
CATEGORIES:Clinic
END:VEVENT
BEGIN:VEVENT
DTSTART;TZID=America/Los_Angeles:20220516T190000
DTEND;TZID=America/Los_Angeles:20220516T210000
DTSTAMP:20260424T124643
CREATED:20210927T024057Z
LAST-MODIFIED:20210927T024057Z
UID:20425-1652727600-1652734800@4dpnr.com
SUMMARY:Mount Vernon Clinic
DESCRIPTION:
URL:https://4dpnr.com/event/mount-vernon-clinic-26/
LOCATION:Virtual Zoom Meeting (link in GrabIron)
CATEGORIES:Clinic
ORGANIZER;CN="Ted Becker":MAILTO:rail.bird@att.net
END:VEVENT
BEGIN:VEVENT
DTSTART;TZID=America/Los_Angeles:20220512T190000
DTEND;TZID=America/Los_Angeles:20220512T210000
DTSTAMP:20260424T124643
CREATED:20210927T023513Z
LAST-MODIFIED:20210927T023513Z
UID:20411-1652382000-1652389200@4dpnr.com
SUMMARY:Tacoma Clinic
DESCRIPTION:
URL:https://4dpnr.com/event/tacoma-clinic-55/
LOCATION:WA
CATEGORIES:Clinic
ORGANIZER;CN="Kevin Klettke":MAILTO:wnrr@comcast.net
END:VEVENT
BEGIN:VEVENT
DTSTART;TZID=America/Los_Angeles:20220511T190000
DTEND;TZID=America/Los_Angeles:20220511T210000
DTSTAMP:20260424T124643
CREATED:20210927T022608Z
LAST-MODIFIED:20210927T022608Z
UID:20397-1652295600-1652302800@4dpnr.com
SUMMARY:Skagit Valley and Whidbey Island Clinic
DESCRIPTION:
URL:https://4dpnr.com/event/skagit-valley-and-whidbey-island-clinic-35/
LOCATION:WA
CATEGORIES:Clinic
ORGANIZER;CN="Rich Blake":MAILTO:svw_organizer@4dpnr.com
END:VEVENT
BEGIN:VEVENT
DTSTART;TZID=America/Los_Angeles:20220510T190000
DTEND;TZID=America/Los_Angeles:20220510T210000
DTSTAMP:20260424T124643
CREATED:20210927T021921Z
LAST-MODIFIED:20210927T021921Z
UID:20383-1652209200-1652216400@4dpnr.com
SUMMARY:Westside Clinic
DESCRIPTION:
URL:https://4dpnr.com/event/westside-clinic-57/
LOCATION:WA
CATEGORIES:Clinic
ORGANIZER;CN="Bill Hupe":MAILTO:whopay@tscnet.com
END:VEVENT
BEGIN:VEVENT
DTSTART;TZID=America/Los_Angeles:20220505T190000
DTEND;TZID=America/Los_Angeles:20220505T210000
DTSTAMP:20260424T124643
CREATED:20210927T021013Z
LAST-MODIFIED:20210927T021013Z
UID:20368-1651777200-1651784400@4dpnr.com
SUMMARY:North End Clinic - Virtual
DESCRIPTION:
URL:https://4dpnr.com/event/north-end-clinic-virtual-17/
LOCATION:Virtual Zoom Meeting (link in GrabIron)
CATEGORIES:Clinic
ORGANIZER;CN="Lisa Murray":MAILTO:mattinata@outlook.com
END:VEVENT
BEGIN:VEVENT
DTSTART;TZID=America/Los_Angeles:20220430T100000
DTEND;TZID=America/Los_Angeles:20220430T150000
DTSTAMP:20260424T124643
CREATED:20220306T011621Z
LAST-MODIFIED:20220306T011621Z
UID:20911-1651312800-1651330800@4dpnr.com
SUMMARY:Mount Vernon Gabfest and Swapmeet
DESCRIPTION:
URL:https://4dpnr.com/event/mount-vernon-gabfest-and-swapmeet/
LOCATION:Mount Vernon Senior Center\, 1401 Cleveland Ave\, Mt Vernon\, WA\, 98273\, United States
CATEGORIES:Clinic,Train Sales
ORGANIZER;CN="Ted Becker":MAILTO:rail.bird@att.net
END:VEVENT
BEGIN:VEVENT
DTSTART;TZID=America/Los_Angeles:20220421T184500
DTEND;TZID=America/Los_Angeles:20220421T213000
DTSTAMP:20260424T124643
CREATED:20210927T025051Z
LAST-MODIFIED:20210927T025051Z
UID:20451-1650566700-1650576600@4dpnr.com
SUMMARY:Eastside Virtual Clinic
DESCRIPTION:
URL:https://4dpnr.com/event/eastside-virtual-clinic-8/
LOCATION:Virtual Zoom Meeting (link in GrabIron)
CATEGORIES:Clinic
END:VEVENT
BEGIN:VEVENT
DTSTART;TZID=America/Los_Angeles:20220418T190000
DTEND;TZID=America/Los_Angeles:20220418T210000
DTSTAMP:20260424T124643
CREATED:20210927T024019Z
LAST-MODIFIED:20210927T024019Z
UID:20423-1650308400-1650315600@4dpnr.com
SUMMARY:Mount Vernon Clinic
DESCRIPTION:
URL:https://4dpnr.com/event/mount-vernon-clinic-25/
LOCATION:Virtual Zoom Meeting (link in GrabIron)
CATEGORIES:Clinic
ORGANIZER;CN="Ted Becker":MAILTO:rail.bird@att.net
END:VEVENT
BEGIN:VEVENT
DTSTART;TZID=America/Los_Angeles:20220415T190000
DTEND;TZID=America/Los_Angeles:20220415T203000
DTSTAMP:20260424T124643
CREATED:20210927T024512Z
LAST-MODIFIED:20210927T024512Z
UID:20437-1650049200-1650054600@4dpnr.com
SUMMARY:Olympia Clinic -- Virtual
DESCRIPTION:
URL:https://4dpnr.com/event/olympia-clinic-virtual-16/
LOCATION:Virtual Zoom Meeting (link in GrabIron)
CATEGORIES:Clinic
ORGANIZER;CN="Gregory Wright":MAILTO:gregorywright2002@yahoo.com
END:VEVENT
BEGIN:VEVENT
DTSTART;TZID=America/Los_Angeles:20220414T190000
DTEND;TZID=America/Los_Angeles:20220414T210000
DTSTAMP:20260424T124643
CREATED:20210927T023412Z
LAST-MODIFIED:20210927T023412Z
UID:20409-1649962800-1649970000@4dpnr.com
SUMMARY:Tacoma Clinic
DESCRIPTION:
URL:https://4dpnr.com/event/tacoma-clinic-54/
LOCATION:WA
CATEGORIES:Clinic
ORGANIZER;CN="Kevin Klettke":MAILTO:wnrr@comcast.net
END:VEVENT
BEGIN:VEVENT
DTSTART;TZID=America/Los_Angeles:20220413T190000
DTEND;TZID=America/Los_Angeles:20220413T210000
DTSTAMP:20260424T124643
CREATED:20210927T022540Z
LAST-MODIFIED:20210927T022540Z
UID:20395-1649876400-1649883600@4dpnr.com
SUMMARY:Skagit Valley and Whidbey Island Clinic
DESCRIPTION:
URL:https://4dpnr.com/event/skagit-valley-and-whidbey-island-clinic-34/
LOCATION:WA
CATEGORIES:Clinic
ORGANIZER;CN="Rich Blake":MAILTO:svw_organizer@4dpnr.com
END:VEVENT
BEGIN:VEVENT
DTSTART;TZID=America/Los_Angeles:20220412T190000
DTEND;TZID=America/Los_Angeles:20220412T210000
DTSTAMP:20260424T124643
CREATED:20210927T021832Z
LAST-MODIFIED:20210927T021832Z
UID:20381-1649790000-1649797200@4dpnr.com
SUMMARY:Westside Clinic
DESCRIPTION:
URL:https://4dpnr.com/event/westside-clinic-56/
LOCATION:WA
CATEGORIES:Clinic
ORGANIZER;CN="Bill Hupe":MAILTO:whopay@tscnet.com
END:VEVENT
BEGIN:VEVENT
DTSTART;TZID=America/Los_Angeles:20220407T190000
DTEND;TZID=America/Los_Angeles:20220407T210000
DTSTAMP:20260424T124643
CREATED:20210927T020934Z
LAST-MODIFIED:20210927T020934Z
UID:20366-1649358000-1649365200@4dpnr.com
SUMMARY:North End Clinic - Virtual
DESCRIPTION:
URL:https://4dpnr.com/event/north-end-clinic-virtual-16/
LOCATION:Virtual Zoom Meeting (link in GrabIron)
CATEGORIES:Clinic
ORGANIZER;CN="Lisa Murray":MAILTO:mattinata@outlook.com
END:VEVENT
BEGIN:VEVENT
DTSTART;TZID=America/Los_Angeles:20220321T190000
DTEND;TZID=America/Los_Angeles:20220321T210000
DTSTAMP:20260424T124643
CREATED:20210927T023944Z
LAST-MODIFIED:20210927T023944Z
UID:20421-1647889200-1647896400@4dpnr.com
SUMMARY:Mount Vernon Clinic
DESCRIPTION:
URL:https://4dpnr.com/event/mount-vernon-clinic-24/
LOCATION:Virtual Zoom Meeting (link in GrabIron)
CATEGORIES:Clinic
ORGANIZER;CN="Ted Becker":MAILTO:rail.bird@att.net
END:VEVENT
BEGIN:VEVENT
DTSTART;TZID=America/Los_Angeles:20220318T190000
DTEND;TZID=America/Los_Angeles:20220318T203000
DTSTAMP:20260424T124643
CREATED:20210927T024432Z
LAST-MODIFIED:20210927T024432Z
UID:20435-1647630000-1647635400@4dpnr.com
SUMMARY:Olympia Clinic -- Virtual
DESCRIPTION:
URL:https://4dpnr.com/event/olympia-clinic-virtual-15/
LOCATION:Virtual Zoom Meeting (link in GrabIron)
CATEGORIES:Clinic
ORGANIZER;CN="Gregory Wright":MAILTO:gregorywright2002@yahoo.com
END:VEVENT
END:VCALENDAR