BEGIN:VCALENDAR
VERSION:2.0
PRODID:-//Welcome to the 4th Division - ECPv6.15.20//NONSGML v1.0//EN
CALSCALE:GREGORIAN
METHOD:PUBLISH
X-WR-CALNAME:Welcome to the 4th Division
X-ORIGINAL-URL:https://4dpnr.com
X-WR-CALDESC:Events for Welcome to the 4th Division
REFRESH-INTERVAL;VALUE=DURATION:PT1H
X-Robots-Tag:noindex
X-PUBLISHED-TTL:PT1H
BEGIN:VTIMEZONE
TZID:America/Los_Angeles
BEGIN:DAYLIGHT
TZOFFSETFROM:-0800
TZOFFSETTO:-0700
TZNAME:PDT
DTSTART:20210314T100000
END:DAYLIGHT
BEGIN:STANDARD
TZOFFSETFROM:-0700
TZOFFSETTO:-0800
TZNAME:PST
DTSTART:20211107T090000
END:STANDARD
BEGIN:DAYLIGHT
TZOFFSETFROM:-0800
TZOFFSETTO:-0700
TZNAME:PDT
DTSTART:20220313T100000
END:DAYLIGHT
BEGIN:STANDARD
TZOFFSETFROM:-0700
TZOFFSETTO:-0800
TZNAME:PST
DTSTART:20221106T090000
END:STANDARD
BEGIN:DAYLIGHT
TZOFFSETFROM:-0800
TZOFFSETTO:-0700
TZNAME:PDT
DTSTART:20230312T100000
END:DAYLIGHT
BEGIN:STANDARD
TZOFFSETFROM:-0700
TZOFFSETTO:-0800
TZNAME:PST
DTSTART:20231105T090000
END:STANDARD
BEGIN:DAYLIGHT
TZOFFSETFROM:-0800
TZOFFSETTO:-0700
TZNAME:PDT
DTSTART:20240310T100000
END:DAYLIGHT
BEGIN:STANDARD
TZOFFSETFROM:-0700
TZOFFSETTO:-0800
TZNAME:PST
DTSTART:20241103T090000
END:STANDARD
END:VTIMEZONE
BEGIN:VEVENT
DTSTART;TZID=America/Los_Angeles:20230112T190000
DTEND;TZID=America/Los_Angeles:20230112T210000
DTSTAMP:20260424T091600
CREATED:20221105T232413Z
LAST-MODIFIED:20221105T232413Z
UID:21462-1673550000-1673557200@4dpnr.com
SUMMARY:Tacoma Clinic
DESCRIPTION:
URL:https://4dpnr.com/event/tacoma-clinic-60/
LOCATION:Virtual Zoom Meeting (link in GrabIron)
CATEGORIES:Clinic
ORGANIZER;CN="Kevin Klettke":MAILTO:wnrr@comcast.net
END:VEVENT
BEGIN:VEVENT
DTSTART;TZID=America/Los_Angeles:20230112T180000
DTEND;TZID=America/Los_Angeles:20230112T200000
DTSTAMP:20260424T091600
CREATED:20221105T232257Z
LAST-MODIFIED:20221105T232257Z
UID:21458-1673546400-1673553600@4dpnr.com
SUMMARY:Westside Clinic
DESCRIPTION:
URL:https://4dpnr.com/event/westside-clinic-62/
LOCATION:United Way Volunteer Center\, 645 4th St\, Bremerton\, WA\, 98337\, United States
CATEGORIES:Clinic
ORGANIZER;CN="Bill Hupe":MAILTO:whopay@tscnet.com
END:VEVENT
BEGIN:VEVENT
DTSTART;TZID=America/Los_Angeles:20230111T190000
DTEND;TZID=America/Los_Angeles:20230111T210000
DTSTAMP:20260424T091600
CREATED:20221105T232113Z
LAST-MODIFIED:20221105T232113Z
UID:21454-1673463600-1673470800@4dpnr.com
SUMMARY:Skagit Valley and Whidbey Island Clinic
DESCRIPTION:
URL:https://4dpnr.com/event/skagit-valley-and-whidbey-island-clinic-39/
LOCATION:Virtual Zoom Meeting (link in GrabIron)
CATEGORIES:Clinic
ORGANIZER;CN="Rich Blake":MAILTO:svw_organizer@4dpnr.com
END:VEVENT
BEGIN:VEVENT
DTSTART;TZID=America/Los_Angeles:20230105T190000
DTEND;TZID=America/Los_Angeles:20230105T203000
DTSTAMP:20260424T091600
CREATED:20221105T232006Z
LAST-MODIFIED:20221208T024249Z
UID:21450-1672945200-1672950600@4dpnr.com
SUMMARY:Seattle North End Clinic on Zoom
DESCRIPTION:
URL:https://4dpnr.com/event/seattle-north-end-clinic-on-zoom-6/
LOCATION:Virtual Zoom Meeting (link in GrabIron)
CATEGORIES:Clinic
ORGANIZER;CN="Lisa Murray":MAILTO:mattinata@outlook.com
END:VEVENT
BEGIN:VEVENT
DTSTART;TZID=America/Los_Angeles:20221222T190000
DTEND;TZID=America/Los_Angeles:20221222T213000
DTSTAMP:20260424T091600
CREATED:20221105T233058Z
LAST-MODIFIED:20221216T045244Z
UID:21472-1671735600-1671744600@4dpnr.com
SUMMARY:Eastside Virtual Clinic
DESCRIPTION:Show and Tell:  Four volunteers will be sharing what they have on their workbench:   \nMax Maginness\, MMR is working on a section of trackwork that is a double track crossover lead into Jim Sabol’s O scale passenger station. It involves circuitry that automatically aligns the turnouts for any one of six platform tracks. \nAlex Brikoff is working on a large HO structure\, the Walthers Prairie C0-Op grain silo. \nGreg Amer is working on an O scale brass EMD GP 15 kit \nLee Marsh is building a very interesting flat car load in HO.
URL:https://4dpnr.com/event/eastside-virtual-clinic-13/
LOCATION:Virtual Zoom Meeting (link in GrabIron)
CATEGORIES:Clinic
ORGANIZER;CN="Russ Segner":MAILTO:russseg@gmail.com
END:VEVENT
BEGIN:VEVENT
DTSTART;TZID=America/Los_Angeles:20221219T190000
DTEND;TZID=America/Los_Angeles:20221219T210000
DTSTAMP:20260424T091600
CREATED:20221105T232659Z
LAST-MODIFIED:20221105T232659Z
UID:21464-1671476400-1671483600@4dpnr.com
SUMMARY:Mount Vernon Clinic
DESCRIPTION:
URL:https://4dpnr.com/event/mount-vernon-clinic-30/
LOCATION:Mount Vernon Senior Center\, 1401 Cleveland Ave\, Mt Vernon\, WA\, 98273\, United States
CATEGORIES:Clinic
ORGANIZER;CN="Al Carter":MAILTO:tabooma@msn.com
END:VEVENT
BEGIN:VEVENT
DTSTART;TZID=America/Los_Angeles:20221214T190000
DTEND;TZID=America/Los_Angeles:20221214T210000
DTSTAMP:20260424T091600
CREATED:20221105T232031Z
LAST-MODIFIED:20221105T232149Z
UID:21452-1671044400-1671051600@4dpnr.com
SUMMARY:Skagit Valley and Whidbey Island Clinic
DESCRIPTION:
URL:https://4dpnr.com/event/skagit-valley-and-whidbey-island-clinic-38/
LOCATION:Virtual Zoom Meeting (link in GrabIron)
CATEGORIES:Clinic
ORGANIZER;CN="Rich Blake":MAILTO:svw_organizer@4dpnr.com
END:VEVENT
BEGIN:VEVENT
DTSTART;TZID=America/Los_Angeles:20221209T190000
DTEND;TZID=America/Los_Angeles:20221209T203000
DTSTAMP:20260424T091600
CREATED:20221105T232909Z
LAST-MODIFIED:20221208T024837Z
UID:21468-1670612400-1670617800@4dpnr.com
SUMMARY:Olympia Clinic
DESCRIPTION:Scott Buckley will present pictures from a trip to The Great Western Steam Up. \nView the largest reunion of existing Virginia & Truckee locomotives assembled in over 75 years\, including the famous Reno\, No. 11.
URL:https://4dpnr.com/event/olympia-clinic-31/
LOCATION:Panorama City Seattle Room\, 1751 Circle Ln SE\, Lacey\, WA\, 98503\, United States
CATEGORIES:Clinic
ORGANIZER;CN="Gregory Wright":MAILTO:gregorywright2002@yahoo.com
END:VEVENT
BEGIN:VEVENT
DTSTART;TZID=America/Los_Angeles:20221208T190000
DTEND;TZID=America/Los_Angeles:20221208T210000
DTSTAMP:20260424T091600
CREATED:20221105T232345Z
LAST-MODIFIED:20221105T232345Z
UID:21460-1670526000-1670533200@4dpnr.com
SUMMARY:Tacoma Clinic
DESCRIPTION:
URL:https://4dpnr.com/event/tacoma-clinic-59/
LOCATION:Virtual Zoom Meeting (link in GrabIron)
CATEGORIES:Clinic
ORGANIZER;CN="Kevin Klettke":MAILTO:wnrr@comcast.net
END:VEVENT
BEGIN:VEVENT
DTSTART;TZID=America/Los_Angeles:20221208T180000
DTEND;TZID=America/Los_Angeles:20221208T200000
DTSTAMP:20260424T091600
CREATED:20221105T232237Z
LAST-MODIFIED:20221208T024556Z
UID:21456-1670522400-1670529600@4dpnr.com
SUMMARY:Westside Clinic
DESCRIPTION:Fellowship and Dirty Santa.
URL:https://4dpnr.com/event/westside-clinic-61/
LOCATION:United Way Volunteer Center\, 645 4th St\, Bremerton\, WA\, 98337\, United States
CATEGORIES:Clinic
ORGANIZER;CN="Bill Hupe":MAILTO:whopay@tscnet.com
END:VEVENT
BEGIN:VEVENT
DTSTART;TZID=America/Los_Angeles:20221201T190000
DTEND;TZID=America/Los_Angeles:20221201T203000
DTSTAMP:20260424T091600
CREATED:20221105T231839Z
LAST-MODIFIED:20221208T024320Z
UID:21448-1669921200-1669926600@4dpnr.com
SUMMARY:Seattle North End Clinic on Zoom
DESCRIPTION:“Jacob’s Summer Train Adventure” presented by Jacob Wright
URL:https://4dpnr.com/event/seattle-north-end-clinic-on-zoom-5/
LOCATION:Virtual Zoom Meeting (link in GrabIron)
CATEGORIES:Clinic
ORGANIZER;CN="Lisa Murray":MAILTO:mattinata@outlook.com
END:VEVENT
BEGIN:VEVENT
DTSTART;TZID=America/Los_Angeles:20221121T190000
DTEND;TZID=America/Los_Angeles:20221121T210000
DTSTAMP:20260424T091600
CREATED:20221001T205906Z
LAST-MODIFIED:20221001T205906Z
UID:21380-1669057200-1669064400@4dpnr.com
SUMMARY:Mount Vernon Clinic
DESCRIPTION:
URL:https://4dpnr.com/event/mount-vernon-clinic-29/
LOCATION:Mount Vernon Senior Center\, 1401 Cleveland Ave\, Mt Vernon\, WA\, 98273\, United States
CATEGORIES:Clinic
ORGANIZER;CN="Al Carter":MAILTO:tabooma@msn.com
END:VEVENT
BEGIN:VEVENT
DTSTART;TZID=America/Los_Angeles:20221118T190000
DTEND;TZID=America/Los_Angeles:20221118T203000
DTSTAMP:20260424T091600
CREATED:20221001T210107Z
LAST-MODIFIED:20221001T210107Z
UID:21384-1668798000-1668803400@4dpnr.com
SUMMARY:Olympia Clinic
DESCRIPTION:
URL:https://4dpnr.com/event/olympia-clinic-30/
LOCATION:Panorama City Seattle Room\, 1751 Circle Ln SE\, Lacey\, WA\, 98503\, United States
CATEGORIES:Clinic
ORGANIZER;CN="Gregory Wright":MAILTO:gregorywright2002@yahoo.com
END:VEVENT
BEGIN:VEVENT
DTSTART;TZID=America/Los_Angeles:20221117T190000
DTEND;TZID=America/Los_Angeles:20221117T213000
DTSTAMP:20260424T091600
CREATED:20221001T210237Z
LAST-MODIFIED:20221001T210237Z
UID:21388-1668711600-1668720600@4dpnr.com
SUMMARY:Eastside Virtual Clinic
DESCRIPTION:
URL:https://4dpnr.com/event/eastside-virtual-clinic-12/
LOCATION:Virtual Zoom Meeting (link in GrabIron)
CATEGORIES:Clinic
ORGANIZER;CN="Russ Segner":MAILTO:russseg@gmail.com
END:VEVENT
BEGIN:VEVENT
DTSTART;TZID=America/Los_Angeles:20221110T190000
DTEND;TZID=America/Los_Angeles:20221110T210000
DTSTAMP:20260424T091600
CREATED:20221001T205733Z
LAST-MODIFIED:20221001T205733Z
UID:21376-1668106800-1668114000@4dpnr.com
SUMMARY:Tacoma Clinic
DESCRIPTION:
URL:https://4dpnr.com/event/tacoma-clinic-58/
LOCATION:Virtual Zoom Meeting (link in GrabIron)
CATEGORIES:Clinic
ORGANIZER;CN="Kevin Klettke":MAILTO:wnrr@comcast.net
END:VEVENT
BEGIN:VEVENT
DTSTART;TZID=America/Los_Angeles:20221110T180000
DTEND;TZID=America/Los_Angeles:20221110T200000
DTSTAMP:20260424T091600
CREATED:20221001T205540Z
LAST-MODIFIED:20221105T220227Z
UID:21371-1668103200-1668110400@4dpnr.com
SUMMARY:Westside Clinic
DESCRIPTION:“Basic Scenery” presented by Jack Hamilton
URL:https://4dpnr.com/event/westside-clinic-60/
LOCATION:United Way Volunteer Center\, 645 4th St\, Bremerton\, WA\, 98337\, United States
CATEGORIES:Clinic
ORGANIZER;CN="Bill Hupe":MAILTO:whopay@tscnet.com
END:VEVENT
BEGIN:VEVENT
DTSTART;TZID=America/Los_Angeles:20221109T190000
DTEND;TZID=America/Los_Angeles:20221109T210000
DTSTAMP:20260424T091600
CREATED:20221001T205356Z
LAST-MODIFIED:20221001T205356Z
UID:21367-1668020400-1668027600@4dpnr.com
SUMMARY:Skagit Valley and Whidbey Island Clinic
DESCRIPTION:
URL:https://4dpnr.com/event/skagit-valley-and-whidbey-island-clinic-37/
LOCATION:Virtual Zoom Meeting (link in GrabIron)
CATEGORIES:Clinic
ORGANIZER;CN="Rich Blake":MAILTO:svw_organizer@4dpnr.com
END:VEVENT
BEGIN:VEVENT
DTSTART;TZID=America/Los_Angeles:20221103T190000
DTEND;TZID=America/Los_Angeles:20221103T203000
DTSTAMP:20260424T091600
CREATED:20221001T205140Z
LAST-MODIFIED:20221001T205140Z
UID:21365-1667502000-1667507400@4dpnr.com
SUMMARY:Seattle North End Clinic on Zoom
DESCRIPTION:
URL:https://4dpnr.com/event/seattle-north-end-clinic-on-zoom-4/
LOCATION:Virtual Zoom Meeting (link in GrabIron)
CATEGORIES:Clinic
ORGANIZER;CN="Lisa Murray":MAILTO:mattinata@outlook.com
END:VEVENT
BEGIN:VEVENT
DTSTART;TZID=America/Los_Angeles:20221027T190000
DTEND;TZID=America/Los_Angeles:20221027T213000
DTSTAMP:20260424T091600
CREATED:20221001T210217Z
LAST-MODIFIED:20221019T023524Z
UID:21386-1666897200-1666906200@4dpnr.com
SUMMARY:Eastside Virtual Clinic
DESCRIPTION:“Constructing The Coal Creek Lumber Company Mill” presented by Russ Segner
URL:https://4dpnr.com/event/eastside-virtual-clinic-11/
LOCATION:Virtual Zoom Meeting (link in GrabIron)
CATEGORIES:Clinic
ORGANIZER;CN="Russ Segner":MAILTO:russseg@gmail.com
END:VEVENT
BEGIN:VEVENT
DTSTART;TZID=America/Los_Angeles:20221021T190000
DTEND;TZID=America/Los_Angeles:20221021T203000
DTSTAMP:20260424T091600
CREATED:20221001T210050Z
LAST-MODIFIED:20221008T164842Z
UID:21382-1666378800-1666384200@4dpnr.com
SUMMARY:Olympia Clinic
DESCRIPTION:Our presenter will be Jim Younkins describing how he paints his backdrops followed by a demonstration by Jim on how it all goes together. This clinic will be hybrid – meeting in person and available via Zoom.
URL:https://4dpnr.com/event/olympia-clinic-29/
LOCATION:Panorama City Seattle Room\, 1751 Circle Ln SE\, Lacey\, WA\, 98503\, United States
CATEGORIES:Clinic
ORGANIZER;CN="Gregory Wright":MAILTO:gregorywright2002@yahoo.com
END:VEVENT
BEGIN:VEVENT
DTSTART;TZID=America/Los_Angeles:20221017T190000
DTEND;TZID=America/Los_Angeles:20221017T210000
DTSTAMP:20260424T091600
CREATED:20221001T205835Z
LAST-MODIFIED:20221001T205835Z
UID:21378-1666033200-1666040400@4dpnr.com
SUMMARY:Mount Vernon Clinic
DESCRIPTION:
URL:https://4dpnr.com/event/mount-vernon-clinic-28/
LOCATION:Mount Vernon Senior Center\, 1401 Cleveland Ave\, Mt Vernon\, WA\, 98273\, United States
CATEGORIES:Clinic
ORGANIZER;CN="Al Carter":MAILTO:tabooma@msn.com
END:VEVENT
BEGIN:VEVENT
DTSTART;TZID=America/Los_Angeles:20221017T190000
DTEND;TZID=America/Los_Angeles:20221017T210000
DTSTAMP:20260424T091600
CREATED:20220828T022702Z
LAST-MODIFIED:20221008T165041Z
UID:21271-1666033200-1666040400@4dpnr.com
SUMMARY:Skagit Valley and Whidbey Island Clinic
DESCRIPTION:
URL:https://4dpnr.com/event/skagit-valley-and-whidbey-island-clinic-36/
LOCATION:Virtual Zoom Meeting (link in GrabIron)
CATEGORIES:Clinic
ORGANIZER;CN="Rich Blake":MAILTO:svw_organizer@4dpnr.com
END:VEVENT
BEGIN:VEVENT
DTSTART;TZID=America/Los_Angeles:20221013T190000
DTEND;TZID=America/Los_Angeles:20221013T210000
DTSTAMP:20260424T091600
CREATED:20221001T205713Z
LAST-MODIFIED:20221001T205713Z
UID:21374-1665687600-1665694800@4dpnr.com
SUMMARY:Tacoma Clinic
DESCRIPTION:
URL:https://4dpnr.com/event/tacoma-clinic-57/
LOCATION:Virtual Zoom Meeting (link in GrabIron)
CATEGORIES:Clinic
ORGANIZER;CN="Kevin Klettke":MAILTO:wnrr@comcast.net
END:VEVENT
BEGIN:VEVENT
DTSTART;TZID=America/Los_Angeles:20221013T180000
DTEND;TZID=America/Los_Angeles:20221013T200000
DTSTAMP:20260424T091600
CREATED:20221001T205511Z
LAST-MODIFIED:20221001T205559Z
UID:21369-1665684000-1665691200@4dpnr.com
SUMMARY:Westside Clinic
DESCRIPTION:
URL:https://4dpnr.com/event/westside-clinic-59/
LOCATION:United Way Volunteer Center\, 645 4th St\, Bremerton\, WA\, 98337\, United States
CATEGORIES:Clinic
ORGANIZER;CN="Bill Hupe":MAILTO:whopay@tscnet.com
END:VEVENT
BEGIN:VEVENT
DTSTART;TZID=America/Los_Angeles:20221006T190000
DTEND;TZID=America/Los_Angeles:20221006T203000
DTSTAMP:20260424T091600
CREATED:20221001T205101Z
LAST-MODIFIED:20221001T205101Z
UID:21363-1665082800-1665088200@4dpnr.com
SUMMARY:Seattle North End Clinic on Zoom
DESCRIPTION:
URL:https://4dpnr.com/event/seattle-north-end-clinic-on-zoom-3/
LOCATION:Virtual Zoom Meeting (link in GrabIron)
CATEGORIES:Clinic
ORGANIZER;CN="Lisa Murray":MAILTO:mattinata@outlook.com
END:VEVENT
BEGIN:VEVENT
DTSTART;TZID=America/Los_Angeles:20220922T190000
DTEND;TZID=America/Los_Angeles:20220922T213000
DTSTAMP:20260424T091600
CREATED:20220918T013716Z
LAST-MODIFIED:20220918T013716Z
UID:21351-1663873200-1663882200@4dpnr.com
SUMMARY:Eastside Virtual Clinic
DESCRIPTION:“1906 DuPont flat car restoration” presented by Russ Segner
URL:https://4dpnr.com/event/eastside-virtual-clinic-10/
LOCATION:Virtual Zoom Meeting (link in GrabIron)
CATEGORIES:Clinic
ORGANIZER;CN="Russ Segner":MAILTO:russseg@gmail.com
END:VEVENT
BEGIN:VEVENT
DTSTART;TZID=America/Los_Angeles:20220921T180000
DTEND;TZID=America/Los_Angeles:20220921T200000
DTSTAMP:20260424T091600
CREATED:20220911T212041Z
LAST-MODIFIED:20220911T212041Z
UID:21331-1663783200-1663790400@4dpnr.com
SUMMARY:Westside Clinic
DESCRIPTION:“Building cars to meet NMRA recommended standards.” presented by John Forsythe
URL:https://4dpnr.com/event/westside-clinic-58/
LOCATION:United Way Volunteer Center\, 645 4th St\, Bremerton\, WA\, 98337\, United States
CATEGORIES:Clinic
ORGANIZER;CN="Bill Hupe":MAILTO:whopay@tscnet.com
END:VEVENT
BEGIN:VEVENT
DTSTART;TZID=America/Los_Angeles:20220919T190000
DTEND;TZID=America/Los_Angeles:20220919T210000
DTSTAMP:20260424T091600
CREATED:20220827T232242Z
LAST-MODIFIED:20220827T232242Z
UID:21255-1663614000-1663621200@4dpnr.com
SUMMARY:Mount Vernon Clinic
DESCRIPTION:First in-person clinic in two years.  Rather than having a featured clinician that evening\, the plan is for you all to take part – we want to know what you have been up to since we last met a couple of years ago.  Sort of a “what I did last summer” theme.  Anything railroad related is OK – model or prototype.
URL:https://4dpnr.com/event/mount-vernon-clinic-27/
LOCATION:Mount Vernon Senior Center\, 1401 Cleveland Ave\, Mt Vernon\, WA\, 98273\, United States
CATEGORIES:Clinic
ORGANIZER;CN="Al Carter":MAILTO:tabooma@msn.com
END:VEVENT
BEGIN:VEVENT
DTSTART;TZID=America/Los_Angeles:20220916T190000
DTEND;TZID=America/Los_Angeles:20220916T203000
DTSTAMP:20260424T091600
CREATED:20220905T172558Z
LAST-MODIFIED:20220905T173149Z
UID:21299-1663354800-1663360200@4dpnr.com
SUMMARY:Olympia Clinic
DESCRIPTION:In person meeting and also available on Zoom.  Ron Hopkins will be showing his On30 railroad\, “On30 shortline in a bedroom sized space”.
URL:https://4dpnr.com/event/olympia-clinic-28/
LOCATION:Panorama City Seattle Room\, 1751 Circle Ln SE\, Lacey\, WA\, 98503\, United States
CATEGORIES:Clinic
ORGANIZER;CN="Gregory Wright":MAILTO:gregorywright2002@yahoo.com
END:VEVENT
BEGIN:VEVENT
DTSTART;TZID=America/Los_Angeles:20220908T190000
DTEND;TZID=America/Los_Angeles:20220908T210000
DTSTAMP:20260424T091600
CREATED:20220905T180452Z
LAST-MODIFIED:20220905T180452Z
UID:21312-1662663600-1662670800@4dpnr.com
SUMMARY:Tacoma Clinic
DESCRIPTION:
URL:https://4dpnr.com/event/tacoma-clinic-56/
LOCATION:Virtual Zoom Meeting (link in GrabIron)
CATEGORIES:Clinic
ORGANIZER;CN="Kevin Klettke":MAILTO:wnrr@comcast.net
END:VEVENT
END:VCALENDAR