BEGIN:VCALENDAR
VERSION:2.0
PRODID:-//Welcome to the 4th Division - ECPv6.15.20//NONSGML v1.0//EN
CALSCALE:GREGORIAN
METHOD:PUBLISH
X-WR-CALNAME:Welcome to the 4th Division
X-ORIGINAL-URL:https://4dpnr.com
X-WR-CALDESC:Events for Welcome to the 4th Division
REFRESH-INTERVAL;VALUE=DURATION:PT1H
X-Robots-Tag:noindex
X-PUBLISHED-TTL:PT1H
BEGIN:VTIMEZONE
TZID:America/Los_Angeles
BEGIN:DAYLIGHT
TZOFFSETFROM:-0800
TZOFFSETTO:-0700
TZNAME:PDT
DTSTART:20230312T100000
END:DAYLIGHT
BEGIN:STANDARD
TZOFFSETFROM:-0700
TZOFFSETTO:-0800
TZNAME:PST
DTSTART:20231105T090000
END:STANDARD
BEGIN:DAYLIGHT
TZOFFSETFROM:-0800
TZOFFSETTO:-0700
TZNAME:PDT
DTSTART:20240310T100000
END:DAYLIGHT
BEGIN:STANDARD
TZOFFSETFROM:-0700
TZOFFSETTO:-0800
TZNAME:PST
DTSTART:20241103T090000
END:STANDARD
BEGIN:DAYLIGHT
TZOFFSETFROM:-0800
TZOFFSETTO:-0700
TZNAME:PDT
DTSTART:20250309T100000
END:DAYLIGHT
BEGIN:STANDARD
TZOFFSETFROM:-0700
TZOFFSETTO:-0800
TZNAME:PST
DTSTART:20251102T090000
END:STANDARD
BEGIN:DAYLIGHT
TZOFFSETFROM:-0800
TZOFFSETTO:-0700
TZNAME:PDT
DTSTART:20260308T100000
END:DAYLIGHT
BEGIN:STANDARD
TZOFFSETFROM:-0700
TZOFFSETTO:-0800
TZNAME:PST
DTSTART:20261101T090000
END:STANDARD
END:VTIMEZONE
BEGIN:VEVENT
DTSTART;TZID=America/Los_Angeles:20250619T190000
DTEND;TZID=America/Los_Angeles:20250619T203000
DTSTAMP:20260423T183529
CREATED:20250613T003715Z
LAST-MODIFIED:20250613T003715Z
UID:23420-1750359600-1750365000@4dpnr.com
SUMMARY:4D Eastside Get Together clinic
DESCRIPTION:Our program will feature my photos of several fan trips on the Mt. Rainier Scenic Railway.  Included will be several trips to Morton when the entire line was operating over the large trestle that burned recently. Included will be photos of many of the entire engine roster including the Willamette #2 and the three truck Heisler and Climaxes.\n-Russ
URL:https://4dpnr.com/event/4d-eastside-get-together-clinic-2/
CATEGORIES:Clinic
ORGANIZER;CN="4th Div%2C PNR":MAILTO:burr.stewart@gmail.com
END:VEVENT
BEGIN:VEVENT
DTSTART;TZID=America/Los_Angeles:20250531T073000
DTEND;TZID=America/Los_Angeles:20250531T170000
DTSTAMP:20260423T183529
CREATED:20250422T012036Z
LAST-MODIFIED:20250524T213406Z
UID:23289-1748676600-1748710800@4dpnr.com
SUMMARY:4D NMRA Spring Meet and Annual Meeting 2025
DESCRIPTION:Please register by downloading and filling out the form below and send to bkenworthy4@comcast.net.\n\nSpring Meet 2025 Announcement\n\n\n\nTIMETABLE\n\n \n\n7:30 to 8:15 am       Check-in at the Snoqualmie Depot.\n8:30 to 9:00 am       Train ride from Snoqualmie Depot to Northwest Railway Museum (NRM).\n\n \n\n9:10 to 9:55 am       Clinic Session 1\n1A – Shop Tour – Meet at the Yellow Bollards at the Railroad Crossing – Presented by NRM staff and volunteers.\n1B – Clinic in Conference Room in Railway History Center – “Layout Design with CAD:  How?  Why?” – Presented by Robin Peel.\n1C – Clinic in Train Shed Foyer in Train Shed Exhibit Hall – “Building Bench Work with Extruded Aluminum” – Presented by Magnus Christerson.\n\n \n\n10:05 to 10:50 am    Clinic Session 2\n2A – Shop Tour – Meet at the Yellow Bollards at the Railroad Crossing – Presented by NRM staff and volunteers.\n2B – Clinic in Conference Room in Railway History Center – “Operating Sessions for Beginners” – Presented by Bob Stafford.  Attendees are invited to sign up for a First Timers Operating Session at the Boeing Engineers MRC layout on Sat.\, June 14th.\n2C – Clinic in Train Shed Foyer in Train Shed Exhibit Hall – “Using AI in Model Railroading – An Example” – Presented by Kurt Laidlaw.\n2D – Clinic in Trains Shed Exhibit Hall – “O Scale Layout Progress Report” – Presented by NRM staff and volunteers.\n\n \n\n11:00 to 11:45 pm   Clinic Session 3\n3A – Shop Tour – Meet at the Yellow Bollards at the Railroad Crossing – Presented by NRM staff and volunteers.\n3B – Clinic in Conference Room in Railway History Center – “Using JMRI for Operations on an On30 Modular Club Layout” – Presented by Rich Blake.\n3C – Clinic in Train Shed Foyer in Train Shed Exhibit Hall – “I’d Build an Open Pit Mine If I Only Had More Room – a Mirror and Woodland Scenics to the Rescue” – Presented by Greg Wright.\n\n \n\n11:45 to 12:40 pm   Lunch and Annual Meeting.\n12:40 to 1:00 pm     Roundhouse Exhibit Gallery Presentation – NRM staff.\n1:00 to 1:20 pm       2027 NMRA National Convention in Tacoma Presentation.\n1:30 to 2:00 pm       Train ride from NRM to Snoqualmie Depot.\n2:00 to 3:00 pm       Travel Time to Layout Open Houses.\n\n \n\n3:00 to 5:00 pm       Layout Open Houses.\nGreg Amer’s BNSF The Industrial Lead (modern era\, HO)\nRuss Segner’s Coal Creek Lumber Company (1930\, Sn3)\n3:30 to 5:00 pm       Larry Sloan’s South Olympic Branch (1970’s\, HO)
URL:https://4dpnr.com/event/spring-meet-2025/
LOCATION:Northwest Railway Museum\, 38625 SE King Street\, Snoqualmie\, WA\, 98065\, United States
CATEGORIES:Clinic,Convention or Meet,Layout Tour
ORGANIZER;CN="4th Div%2C PNR":MAILTO:burr.stewart@gmail.com
END:VEVENT
BEGIN:VEVENT
DTSTART;VALUE=DATE:20250509
DTEND;VALUE=DATE:20250512
DTSTAMP:20260423T183529
CREATED:20241020T021743Z
LAST-MODIFIED:20241020T023909Z
UID:23050-1746748800-1747007999@4dpnr.com
SUMMARY:Ainsworth Connector\, PNR Convention 2025
DESCRIPTION:This annual Regional Convention will be May 9 – 11\, 2025 in Pasco\, Washington. \nThe Convention will offer self-guided layout tours\, free-mo layouts\, operating sessions\, clinics\, achievement program evaluations\, and more!
URL:https://4dpnr.com/event/ainsworth-connector-pnr-convention-2025/
CATEGORIES:Clinic,Convention or Meet,Layout Tour,Operating Session
END:VEVENT
BEGIN:VEVENT
DTSTART;VALUE=DATE:20250714
DTEND;VALUE=DATE:20250720
DTSTAMP:20260423T183529
CREATED:20241020T022410Z
LAST-MODIFIED:20241020T023624Z
UID:23052-1752451200-1752969599@4dpnr.com
SUMMARY:National Convention 2025 - STATION No. VI
DESCRIPTION:The annual National Model Train Convention is July 14 – 19\, 2025 at the Sheraton Hotel in Novi\, MI.  There will be clinics\, workshops\, operating sessions\, 60 model train layouts to visit\, prototype tours and much more.
URL:https://4dpnr.com/event/national-convention-2025-station-no-vi/
CATEGORIES:Clinic,Convention or Meet,Layout Tour,Operating Session
END:VEVENT
BEGIN:VEVENT
DTSTART;TZID=America/Los_Angeles:20240608T073000
DTEND;TZID=America/Los_Angeles:20240608T170000
DTSTAMP:20260423T183529
CREATED:20240302T175956Z
LAST-MODIFIED:20240302T180226Z
UID:22475-1717831800-1717866000@4dpnr.com
SUMMARY:Spring Meet 2024
DESCRIPTION:The schedule will be:\n7:30 to 8:30 am – Registration at the North Bend Depot\n8:30 to 9:00 am – Train Ride from North Bend to Museum\n9:00 to 9:10 am – Gathering Time\n9:10 to 10:00 am – Clinics 1 and 2\n10:10 to 11:00 am – Clinics 3 and 4\n11:10 to 12:00 noon – Clinics 5 and 6\n12:00 to 1:00 pm – Lunch and Annual Meeting\n1:00 to 1:30 pm – Free Time at the Museum\n1:30 to 2:00 pm – Return Train Ride to North Bend\n2:00 to 3:00 pm – Travel Time\n3:00 to 5:00 pm – Layout Open Houses
URL:https://4dpnr.com/event/spring-meet-2024/
LOCATION:Northwest Railway Museum\, 38625 SE King Street\, Snoqualmie\, WA\, 98065\, United States
CATEGORIES:Clinic,Convention or Meet,Layout Tour
END:VEVENT
BEGIN:VEVENT
DTSTART;TZID=America/Los_Angeles:20240601T103000
DTEND;TZID=America/Los_Angeles:20240601T120000
DTSTAMP:20260423T183529
CREATED:20240518T174433Z
LAST-MODIFIED:20240518T175829Z
UID:22833-1717237800-1717243200@4dpnr.com
SUMMARY:G.O.P.H.E.R.S
DESCRIPTION:GOPHERS is the traditional end of the Olympia clinics season every June.  This year we will be at the Dupont Museum in Dupont\, WA. Space is limited\, RSVP is mandatory.  RSVP to jimsabol@msn.com\nGOPHERS stands for Greater Olympia Prototype History & Engineering Research Society.\n* See the historic narrow gauge cars rescued and restored by 4d members Robert Grove\, Gary Lucas\, Bob Miller\, Roger Nulton\, Mary Sabol\, Jim Sabol\, Russ Segner\, and Fred Foreman project leader.\n* Take a cab photo in the 12 ton three foot gauge Plymouth locomotive.\n* Check out the 22′ box car used to carry explosives to the wharf.\n* Gobble hot dogs and BYO soft drinks.\n* Hike to the wharf
URL:https://4dpnr.com/event/g-o-p-h-e-r-s/
LOCATION:DuPont Historical Museum\, 207 Barksdale Avenue\, DuPont\, WA\, 98327\, United States
CATEGORIES:Clinic,Museum or Historical Archive Event
END:VEVENT
BEGIN:VEVENT
DTSTART;VALUE=DATE:20240522
DTEND;VALUE=DATE:20240527
DTSTAMP:20260423T183529
CREATED:20231217T024114Z
LAST-MODIFIED:20231217T024139Z
UID:22203-1716336000-1716767999@4dpnr.com
SUMMARY:Surrey Excursion\, PNR Convention 2024
DESCRIPTION:
URL:https://4dpnr.com/event/surrey-excursion-pnr-convention-2024/
LOCATION:Sheraton Vancouver Guildford Hotel\, 15269 104th Avenue\, Surrey\, British Columbia\, V3R 1N5\, Canada
CATEGORIES:Clinic,Convention or Meet,Layout Tour,Operating Session
END:VEVENT
BEGIN:VEVENT
DTSTART;TZID=America/Los_Angeles:20240520T190000
DTEND;TZID=America/Los_Angeles:20240520T210000
DTSTAMP:20260423T183529
CREATED:20240323T203828Z
LAST-MODIFIED:20240323T203828Z
UID:22685-1716231600-1716238800@4dpnr.com
SUMMARY:Mount Vernon Clinic
DESCRIPTION:
URL:https://4dpnr.com/event/mount-vernon-clinic-44/
LOCATION:Mount Vernon Senior Center\, 1401 Cleveland Ave\, Mt Vernon\, WA\, 98273\, United States
CATEGORIES:Clinic
ORGANIZER;CN="Al Carter":MAILTO:tabooma@msn.com
END:VEVENT
BEGIN:VEVENT
DTSTART;TZID=America/Los_Angeles:20240517T190000
DTEND;TZID=America/Los_Angeles:20240517T203000
DTSTAMP:20260423T183529
CREATED:20240208T223438Z
LAST-MODIFIED:20240504T172515Z
UID:22432-1715972400-1715977800@4dpnr.com
SUMMARY:Olympia Clinic
DESCRIPTION:4 ½ depots for the Port Townsend Southern \nBrian Ferris will discuss a recent project of renovating depots on his Port Townsend Southern layout. \nThe goal in his project was to create detailed stations of prototypes that existed in the area he models.  Brian will describe the design process as well as outline construction methods he used for each structure. \nBrian’s presentation will inspire modelers to take the next step in building or revising structures on their layouts. \n  \nTopic: Olympia May Clinic \nTime: May 17\, 2024 07:00 PM Pacific Time (US and Canada) \nJoin Zoom Meeting \nhttps://us06web.zoom.us/j/85050094529?pwd=deeCgW3D64zObUwrFCjcoTaYjSuYex.1 \n 
URL:https://4dpnr.com/event/olympia-clinic-45/
LOCATION:Panorama City Seattle Room\, 1751 Circle Ln SE\, Lacey\, WA\, 98503\, United States
CATEGORIES:Clinic
ORGANIZER;CN="Gregory Wright":MAILTO:gregorywright2002@yahoo.com
END:VEVENT
BEGIN:VEVENT
DTSTART;TZID=America/Los_Angeles:20240516T190000
DTEND;TZID=America/Los_Angeles:20240516T213000
DTSTAMP:20260423T183529
CREATED:20240323T203923Z
LAST-MODIFIED:20240323T203923Z
UID:22687-1715886000-1715895000@4dpnr.com
SUMMARY:Eastside Virtual Clinic
DESCRIPTION:
URL:https://4dpnr.com/event/eastside-virtual-clinic-28/
LOCATION:Virtual Zoom Meeting (link in GrabIron)
CATEGORIES:Clinic
ORGANIZER;CN="Russ Segner":MAILTO:russseg@gmail.com
END:VEVENT
BEGIN:VEVENT
DTSTART;TZID=America/Los_Angeles:20240513T173000
DTEND;TZID=America/Los_Angeles:20240513T193000
DTSTAMP:20260423T183529
CREATED:20240304T150628Z
LAST-MODIFIED:20240304T150628Z
UID:22495-1715621400-1715628600@4dpnr.com
SUMMARY:Westside Clinic
DESCRIPTION:Mystery Subject (TBD)\, presented by Steve Hauff\, RR Author and World Traveler
URL:https://4dpnr.com/event/westside-clinic-74/
LOCATION:Kitsap Mall\, 10315 Silverdale Way NW\, Silverdale\, WA\, 98383\, United States
CATEGORIES:Clinic
ORGANIZER;CN="Bill Hupe":MAILTO:whopay@tscnet.com
END:VEVENT
BEGIN:VEVENT
DTSTART;TZID=America/Los_Angeles:20240509T190000
DTEND;TZID=America/Los_Angeles:20240509T210000
DTSTAMP:20260423T183529
CREATED:20240323T202924Z
LAST-MODIFIED:20240323T202924Z
UID:22681-1715281200-1715288400@4dpnr.com
SUMMARY:Tacoma Clinic
DESCRIPTION:
URL:https://4dpnr.com/event/tacoma-clinic-72/
LOCATION:Virtual Zoom Meeting (link in GrabIron)
CATEGORIES:Clinic
ORGANIZER;CN="Kevin Klettke":MAILTO:wnrr@comcast.net
END:VEVENT
BEGIN:VEVENT
DTSTART;TZID=America/Los_Angeles:20240508T190000
DTEND;TZID=America/Los_Angeles:20240508T210000
DTSTAMP:20260423T183529
CREATED:20240323T203031Z
LAST-MODIFIED:20240403T184451Z
UID:22683-1715194800-1715202000@4dpnr.com
SUMMARY:Skagit Valley and Whidbey Island Clinic
DESCRIPTION:Mark Malmkar on Proto-Freelancing.
URL:https://4dpnr.com/event/skagit-valley-and-whidbey-island-clinic-50/
LOCATION:Oak Harbor Senior Center\, 51 SE Jerome St\, Oak Harbor\, WA\, 98277\, United States
CATEGORIES:Clinic
ORGANIZER;CN="Rich Blake":MAILTO:svw_organizer@4dpnr.com
END:VEVENT
BEGIN:VEVENT
DTSTART;TZID=America/Los_Angeles:20240419T190000
DTEND;TZID=America/Los_Angeles:20240419T203000
DTSTAMP:20260423T183529
CREATED:20240127T154936Z
LAST-MODIFIED:20240404T132029Z
UID:22365-1713553200-1713558600@4dpnr.com
SUMMARY:Olympia Clinic
DESCRIPTION:In the final instalment of our operations series Scott Nelson of the OMRS will discuss his switching layout and how he uses JMRI (a computer based operations generator) to operate his railroad operations. \nScott will describe and show his layout and talk about how he envisioned it to operate\, then put that vision into JMRI to create the scenarios. \nThis clinic will give you both practical small railroad ideas and technical computer generated operational ideas.  You won’t want to miss it.
URL:https://4dpnr.com/event/olympia-clinic-44/
LOCATION:Panorama City Seattle Room\, 1751 Circle Ln SE\, Lacey\, WA\, 98503\, United States
CATEGORIES:Clinic
ORGANIZER;CN="Gregory Wright":MAILTO:gregorywright2002@yahoo.com
END:VEVENT
BEGIN:VEVENT
DTSTART;TZID=America/Los_Angeles:20240418T190000
DTEND;TZID=America/Los_Angeles:20240418T213000
DTSTAMP:20260423T183529
CREATED:20240127T154838Z
LAST-MODIFIED:20240127T154838Z
UID:22361-1713466800-1713475800@4dpnr.com
SUMMARY:Eastside Virtual Clinic
DESCRIPTION:
URL:https://4dpnr.com/event/eastside-virtual-clinic-27/
LOCATION:Virtual Zoom Meeting (link in GrabIron)
CATEGORIES:Clinic
ORGANIZER;CN="Russ Segner":MAILTO:russseg@gmail.com
END:VEVENT
BEGIN:VEVENT
DTSTART;TZID=America/Los_Angeles:20240415T190000
DTEND;TZID=America/Los_Angeles:20240415T210000
DTSTAMP:20260423T183529
CREATED:20240127T155024Z
LAST-MODIFIED:20240127T155029Z
UID:22369-1713207600-1713214800@4dpnr.com
SUMMARY:Mount Vernon Clinic
DESCRIPTION:
URL:https://4dpnr.com/event/mount-vernon-clinic-43/
LOCATION:Mount Vernon Senior Center\, 1401 Cleveland Ave\, Mt Vernon\, WA\, 98273\, United States
CATEGORIES:Clinic
ORGANIZER;CN="Al Carter":MAILTO:tabooma@msn.com
END:VEVENT
BEGIN:VEVENT
DTSTART;TZID=America/Los_Angeles:20240411T190000
DTEND;TZID=America/Los_Angeles:20240411T210000
DTSTAMP:20260423T183529
CREATED:20240127T154520Z
LAST-MODIFIED:20240127T154520Z
UID:22353-1712862000-1712869200@4dpnr.com
SUMMARY:Tacoma Clinic
DESCRIPTION:
URL:https://4dpnr.com/event/tacoma-clinic-71/
LOCATION:Virtual Zoom Meeting (link in GrabIron)
CATEGORIES:Clinic
ORGANIZER;CN="Kevin Klettke":MAILTO:wnrr@comcast.net
END:VEVENT
BEGIN:VEVENT
DTSTART;TZID=America/Los_Angeles:20240410T190000
DTEND;TZID=America/Los_Angeles:20240410T210000
DTSTAMP:20260423T183529
CREATED:20240127T154119Z
LAST-MODIFIED:20240403T184344Z
UID:22348-1712775600-1712782800@4dpnr.com
SUMMARY:Skagit Valley and Whidbey Island Clinic
DESCRIPTION:John Bentz photo presentation of prototype railroading in 1970s Cincinnati.
URL:https://4dpnr.com/event/skagit-valley-and-whidbey-island-clinic-49/
LOCATION:Oak Harbor Senior Center\, 51 SE Jerome St\, Oak Harbor\, WA\, 98277\, United States
CATEGORIES:Clinic
ORGANIZER;CN="Rich Blake":MAILTO:svw_organizer@4dpnr.com
END:VEVENT
BEGIN:VEVENT
DTSTART;TZID=America/Los_Angeles:20240408T173000
DTEND;TZID=America/Los_Angeles:20240408T193000
DTSTAMP:20260423T183529
CREATED:20240127T154724Z
LAST-MODIFIED:20240304T150520Z
UID:22357-1712597400-1712604600@4dpnr.com
SUMMARY:Westside Clinic
DESCRIPTION:Using the NMRA Standards Gauge\, presented by Bert Cripe
URL:https://4dpnr.com/event/westside-clinic-73/
LOCATION:Kitsap Mall\, 10315 Silverdale Way NW\, Silverdale\, WA\, 98383\, United States
CATEGORIES:Clinic
ORGANIZER;CN="Bill Hupe":MAILTO:whopay@tscnet.com
END:VEVENT
BEGIN:VEVENT
DTSTART;TZID=America/Los_Angeles:20240321T190000
DTEND;TZID=America/Los_Angeles:20240321T213000
DTSTAMP:20260423T183529
CREATED:20240127T154817Z
LAST-MODIFIED:20240127T154817Z
UID:22359-1711047600-1711056600@4dpnr.com
SUMMARY:Eastside Virtual Clinic
DESCRIPTION:
URL:https://4dpnr.com/event/eastside-virtual-clinic-26/
LOCATION:Virtual Zoom Meeting (link in GrabIron)
CATEGORIES:Clinic
ORGANIZER;CN="Russ Segner":MAILTO:russseg@gmail.com
END:VEVENT
BEGIN:VEVENT
DTSTART;TZID=America/Los_Angeles:20240318T190000
DTEND;TZID=America/Los_Angeles:20240318T210000
DTSTAMP:20260423T183529
CREATED:20240127T155011Z
LAST-MODIFIED:20240127T155046Z
UID:22367-1710788400-1710795600@4dpnr.com
SUMMARY:Mount Vernon Clinic
DESCRIPTION:
URL:https://4dpnr.com/event/mount-vernon-clinic-42/
LOCATION:Mount Vernon Senior Center\, 1401 Cleveland Ave\, Mt Vernon\, WA\, 98273\, United States
CATEGORIES:Clinic
ORGANIZER;CN="Al Carter":MAILTO:tabooma@msn.com
END:VEVENT
BEGIN:VEVENT
DTSTART;TZID=America/Los_Angeles:20240315T190000
DTEND;TZID=America/Los_Angeles:20240315T203000
DTSTAMP:20260423T183529
CREATED:20240127T154923Z
LAST-MODIFIED:20240305T154306Z
UID:22363-1710529200-1710534600@4dpnr.com
SUMMARY:Olympia Clinic
DESCRIPTION:Topic will be Large Layout Operations with Jim Younkins and Brian Ferris. This is our third straight clinic on operations.  Join us to learn how to set up and conduct operations on your layout\, no matter what size.  In January we did prototype operation ideas from 3 professional railroad engineers that are also model builders.  In February\, Lee Bishop and Ry Bates presented Small Layout Operations.  In April we will finish up the series with Using JMRI For Operations.  We are compiling some great operations ides and will share an overview at the end of all the presentations. \nThe clinic will be presented in person at Panorama City: \n1751 Circle Ln SE\, Lacey\, WA 98503 \nBasement of the Panorama Quinault building in the Seattle Room and on Zoom at: \nhttps://us06web.zoom.us/j/85050094529?pwd=deeCgW3D64zObUwrFCjcoTaYjSuYex.1 \n 
URL:https://4dpnr.com/event/olympia-clinic-43/
LOCATION:Panorama City Seattle Room\, 1751 Circle Ln SE\, Lacey\, WA\, 98503\, United States
CATEGORIES:Clinic
ORGANIZER;CN="Gregory Wright":MAILTO:gregorywright2002@yahoo.com
END:VEVENT
BEGIN:VEVENT
DTSTART;TZID=America/Los_Angeles:20240314T190000
DTEND;TZID=America/Los_Angeles:20240314T210000
DTSTAMP:20260423T183529
CREATED:20240127T154449Z
LAST-MODIFIED:20240127T154449Z
UID:22351-1710442800-1710450000@4dpnr.com
SUMMARY:Tacoma Clinic
DESCRIPTION:
URL:https://4dpnr.com/event/tacoma-clinic-70/
LOCATION:Virtual Zoom Meeting (link in GrabIron)
CATEGORIES:Clinic
ORGANIZER;CN="Kevin Klettke":MAILTO:wnrr@comcast.net
END:VEVENT
BEGIN:VEVENT
DTSTART;TZID=America/Los_Angeles:20240313T190000
DTEND;TZID=America/Los_Angeles:20240313T210000
DTSTAMP:20260423T183529
CREATED:20240127T154016Z
LAST-MODIFIED:20240127T154016Z
UID:22346-1710356400-1710363600@4dpnr.com
SUMMARY:Skagit Valley and Whidbey Island Clinic
DESCRIPTION:DCC decoder tuning using Decoder Pro with Jim Betz. Bring your locos!
URL:https://4dpnr.com/event/skagit-valley-and-whidbey-island-clinic-48/
LOCATION:Oak Harbor Senior Center\, 51 SE Jerome St\, Oak Harbor\, WA\, 98277\, United States
CATEGORIES:Clinic
ORGANIZER;CN="Rich Blake":MAILTO:svw_organizer@4dpnr.com
END:VEVENT
BEGIN:VEVENT
DTSTART;TZID=America/Los_Angeles:20240311T173000
DTEND;TZID=America/Los_Angeles:20240311T193000
DTSTAMP:20260423T183529
CREATED:20240127T154707Z
LAST-MODIFIED:20240304T150817Z
UID:22355-1710178200-1710185400@4dpnr.com
SUMMARY:Westside Clinic
DESCRIPTION:Basic Soldering presented by Jack Hamilton\, MRR
URL:https://4dpnr.com/event/westside-clinic-72/
LOCATION:Kitsap Mall\, 10315 Silverdale Way NW\, Silverdale\, WA\, 98383\, United States
CATEGORIES:Clinic
ORGANIZER;CN="Bill Hupe":MAILTO:whopay@tscnet.com
END:VEVENT
BEGIN:VEVENT
DTSTART;TZID=America/Los_Angeles:20240223T190000
DTEND;TZID=America/Los_Angeles:20240223T203000
DTSTAMP:20260423T183529
CREATED:20231104T234358Z
LAST-MODIFIED:20240211T232741Z
UID:22131-1708714800-1708720200@4dpnr.com
SUMMARY:Olympia Clinic
DESCRIPTION:“Operations on Small Layouts” presented by Lee Bishop and Ry Bates. \nBoth Lee and Ry have small bedroom or smaller pikes that are fully operational keeping a two person crew entertained for two hours or more.  Come and learn how they do it and how you could do it too! \nThis will be a hybrid\, in person at Panorama City (our regular venue not the restaurant) and Zoom offering.
URL:https://4dpnr.com/event/olympia-clinic-42/
LOCATION:Panorama City Seattle Room\, 1751 Circle Ln SE\, Lacey\, WA\, 98503\, United States
CATEGORIES:Clinic
ORGANIZER;CN="Gregory Wright":MAILTO:gregorywright2002@yahoo.com
END:VEVENT
BEGIN:VEVENT
DTSTART;TZID=America/Los_Angeles:20240219T190000
DTEND;TZID=America/Los_Angeles:20240219T210000
DTSTAMP:20260423T183529
CREATED:20231104T234553Z
LAST-MODIFIED:20240127T154257Z
UID:22135-1708369200-1708376400@4dpnr.com
SUMMARY:Mount Vernon Clinic
DESCRIPTION:Tom Buckingham will present a clinic on Detailing track.
URL:https://4dpnr.com/event/mount-vernon-clinic-41/
LOCATION:Mount Vernon Senior Center\, 1401 Cleveland Ave\, Mt Vernon\, WA\, 98273\, United States
CATEGORIES:Clinic
ORGANIZER;CN="Al Carter":MAILTO:tabooma@msn.com
END:VEVENT
BEGIN:VEVENT
DTSTART;TZID=America/Los_Angeles:20240215T190000
DTEND;TZID=America/Los_Angeles:20240215T213000
DTSTAMP:20260423T183529
CREATED:20231104T234658Z
LAST-MODIFIED:20231104T234658Z
UID:22139-1708023600-1708032600@4dpnr.com
SUMMARY:Eastside Virtual Clinic
DESCRIPTION:
URL:https://4dpnr.com/event/eastside-virtual-clinic-25/
LOCATION:Virtual Zoom Meeting (link in GrabIron)
CATEGORIES:Clinic
ORGANIZER;CN="Russ Segner":MAILTO:russseg@gmail.com
END:VEVENT
BEGIN:VEVENT
DTSTART;TZID=America/Los_Angeles:20240214T190000
DTEND;TZID=America/Los_Angeles:20240214T210000
DTSTAMP:20260423T183529
CREATED:20231104T234020Z
LAST-MODIFIED:20240127T153844Z
UID:22123-1707937200-1707944400@4dpnr.com
SUMMARY:Skagit Valley and Whidbey Island Clinic
DESCRIPTION:“Wind Blown Trees” – Make & take clinic by Susan Gonzales
URL:https://4dpnr.com/event/skagit-valley-and-whidbey-island-clinic-47/
LOCATION:Oak Harbor Senior Center\, 51 SE Jerome St\, Oak Harbor\, WA\, 98277\, United States
CATEGORIES:Clinic
ORGANIZER;CN="Rich Blake":MAILTO:svw_organizer@4dpnr.com
END:VEVENT
BEGIN:VEVENT
DTSTART;TZID=America/Los_Angeles:20240212T173000
DTEND;TZID=America/Los_Angeles:20240212T193000
DTSTAMP:20260423T183529
CREATED:20231104T233857Z
LAST-MODIFIED:20231210T033917Z
UID:22119-1707759000-1707766200@4dpnr.com
SUMMARY:Westside Clinic
DESCRIPTION:
URL:https://4dpnr.com/event/westside-clinic-71/
LOCATION:Kitsap Mall\, 10315 Silverdale Way NW\, Silverdale\, WA\, 98383\, United States
CATEGORIES:Clinic
ORGANIZER;CN="Bill Hupe":MAILTO:whopay@tscnet.com
END:VEVENT
END:VCALENDAR